| Back to Multiple platform build/check report for BioC 3.23: simplified long |
|
This page was generated on 2025-11-17 11:41 -0500 (Mon, 17 Nov 2025).
| Hostname | OS | Arch (*) | R version | Installed pkgs |
|---|---|---|---|---|
| nebbiolo1 | Linux (Ubuntu 24.04.3 LTS) | x86_64 | R Under development (unstable) (2025-10-20 r88955) -- "Unsuffered Consequences" | 4826 |
| lconway | macOS 12.7.6 Monterey | x86_64 | R Under development (unstable) (2025-10-21 r88958) -- "Unsuffered Consequences" | 4491 |
| kjohnson3 | macOS 13.7.7 Ventura | arm64 | R Under development (unstable) (2025-11-04 r88984) -- "Unsuffered Consequences" | 4562 |
| Click on any hostname to see more info about the system (e.g. compilers) (*) as reported by 'uname -p', except on Windows and Mac OS X | ||||
| Package 1719/2325 | Hostname | OS / Arch | INSTALL | BUILD | CHECK | BUILD BIN | ||||||||
| ReactomeGSA 1.25.0 (landing page) Johannes Griss
| nebbiolo1 | Linux (Ubuntu 24.04.3 LTS) / x86_64 | OK | OK | OK | |||||||||
| lconway | macOS 12.7.6 Monterey / x86_64 | OK | OK | OK | OK | |||||||||
| kjohnson3 | macOS 13.7.7 Ventura / arm64 | OK | OK | OK | OK | |||||||||
|
To the developers/maintainers of the ReactomeGSA package: - Allow up to 24 hours (and sometimes 48 hours) for your latest push to git@git.bioconductor.org:packages/ReactomeGSA.git to reflect on this report. See Troubleshooting Build Report for more information. - Use the following Renviron settings to reproduce errors and warnings. - If 'R CMD check' started to fail recently on the Linux builder(s) over a missing dependency, add the missing dependency to 'Suggests:' in your DESCRIPTION file. See Renviron.bioc for more information. |
| Package: ReactomeGSA |
| Version: 1.25.0 |
| Command: /Library/Frameworks/R.framework/Resources/bin/R CMD check --install=check:ReactomeGSA.install-out.txt --library=/Library/Frameworks/R.framework/Resources/library --no-vignettes --timings ReactomeGSA_1.25.0.tar.gz |
| StartedAt: 2025-11-16 21:58:25 -0500 (Sun, 16 Nov 2025) |
| EndedAt: 2025-11-16 22:08:35 -0500 (Sun, 16 Nov 2025) |
| EllapsedTime: 610.2 seconds |
| RetCode: 0 |
| Status: OK |
| CheckDir: ReactomeGSA.Rcheck |
| Warnings: 0 |
##############################################################################
##############################################################################
###
### Running command:
###
### /Library/Frameworks/R.framework/Resources/bin/R CMD check --install=check:ReactomeGSA.install-out.txt --library=/Library/Frameworks/R.framework/Resources/library --no-vignettes --timings ReactomeGSA_1.25.0.tar.gz
###
##############################################################################
##############################################################################
* using log directory ‘/Users/biocbuild/bbs-3.23-bioc/meat/ReactomeGSA.Rcheck’
* using R Under development (unstable) (2025-11-04 r88984)
* using platform: aarch64-apple-darwin20
* R was compiled by
Apple clang version 16.0.0 (clang-1600.0.26.6)
GNU Fortran (GCC) 14.2.0
* running under: macOS Ventura 13.7.8
* using session charset: UTF-8
* using option ‘--no-vignettes’
* checking for file ‘ReactomeGSA/DESCRIPTION’ ... OK
* checking extension type ... Package
* this is package ‘ReactomeGSA’ version ‘1.25.0’
* package encoding: UTF-8
* checking package namespace information ... OK
* checking package dependencies ... OK
* checking if this is a source package ... OK
* checking if there is a namespace ... OK
* checking for hidden files and directories ... OK
* checking for portable file names ... OK
* checking for sufficient/correct file permissions ... OK
* checking whether package ‘ReactomeGSA’ can be installed ... OK
* checking installed package size ... OK
* checking package directory ... OK
* checking ‘build’ directory ... OK
* checking DESCRIPTION meta-information ... OK
* checking top-level files ... OK
* checking for left-over files ... OK
* checking index information ... OK
* checking package subdirectories ... OK
* checking code files for non-ASCII characters ... OK
* checking R files for syntax errors ... OK
* checking whether the package can be loaded ... OK
* checking whether the package can be loaded with stated dependencies ... OK
* checking whether the package can be unloaded cleanly ... OK
* checking whether the namespace can be loaded with stated dependencies ... OK
* checking whether the namespace can be unloaded cleanly ... OK
* checking whether startup messages can be suppressed ... OK
* checking dependencies in R code ... OK
* checking S3 generic/method consistency ... OK
* checking replacement functions ... OK
* checking foreign function calls ... OK
* checking R code for possible problems ... NOTE
plot_correlations,ReactomeAnalysisResult: no visible binding for global
variable ‘combined_sig’
plot_correlations,ReactomeAnalysisResult: no visible binding for global
variable ‘alpha’
plot_gsva_pathway,ReactomeAnalysisResult: no visible binding for global
variable ‘cluster_id’
plot_gsva_pathway,ReactomeAnalysisResult: no visible binding for global
variable ‘expr’
plot_gsva_pca,ReactomeAnalysisResult: no visible binding for global
variable ‘gsva_result’
plot_gsva_pca,ReactomeAnalysisResult: no visible binding for global
variable ‘PC1’
plot_gsva_pca,ReactomeAnalysisResult: no visible binding for global
variable ‘PC2’
plot_heatmap,ReactomeAnalysisResult: no visible global function
definition for ‘desc’
plot_heatmap,ReactomeAnalysisResult: no visible binding for global
variable ‘n_sig’
plot_heatmap,ReactomeAnalysisResult: no visible binding for global
variable ‘dataset’
plot_heatmap,ReactomeAnalysisResult: no visible binding for global
variable ‘Name’
plot_volcano,ReactomeAnalysisResult: no visible binding for global
variable ‘av_foldchange’
plot_volcano,ReactomeAnalysisResult: no visible binding for global
variable ‘FDR’
Undefined global functions or variables:
FDR Name PC1 PC2 alpha av_foldchange cluster_id combined_sig dataset
desc expr gsva_result n_sig
* checking Rd files ... OK
* checking Rd metadata ... OK
* checking Rd cross-references ... OK
* checking for missing documentation entries ... OK
* checking for code/documentation mismatches ... OK
* checking Rd \usage sections ... OK
* checking Rd contents ... OK
* checking for unstated dependencies in examples ... OK
* checking files in ‘vignettes’ ... OK
* checking examples ... OK
Examples with CPU (user + system) or elapsed time > 5s
user system elapsed
analyse_sc_clusters-Seurat-method 11.500 0.932 79.399
plot_gsva_pathway 11.382 1.044 47.784
analyse_sc_clusters-SingleCellExperiment-method 11.156 1.071 89.098
plot_gsva_heatmap 11.104 1.022 48.002
plot_gsva_heatmap-ReactomeAnalysisResult-method 11.024 1.057 46.617
analyse_sc_clusters 10.844 1.154 86.210
plot_gsva_pca 10.909 1.073 42.012
plot_gsva_pathway-ReactomeAnalysisResult-method 10.715 1.073 40.693
plot_gsva_pca-ReactomeAnalysisResult-method 10.681 1.088 47.642
generate_pseudo_bulk_data 6.324 0.502 7.176
perform_reactome_analysis 0.930 0.117 12.513
load_public_dataset 0.574 0.072 16.091
* checking for unstated dependencies in ‘tests’ ... OK
* checking tests ...
Running ‘testthat.R’
OK
* checking for unstated dependencies in vignettes ... OK
* checking package vignettes ... OK
* checking running R code from vignettes ... SKIPPED
* checking re-building of vignette outputs ... SKIPPED
* checking PDF version of manual ... OK
* DONE
Status: 1 NOTE
See
‘/Users/biocbuild/bbs-3.23-bioc/meat/ReactomeGSA.Rcheck/00check.log’
for details.
ReactomeGSA.Rcheck/00install.out
############################################################################## ############################################################################## ### ### Running command: ### ### /Library/Frameworks/R.framework/Resources/bin/R CMD INSTALL ReactomeGSA ### ############################################################################## ############################################################################## * installing to library ‘/Library/Frameworks/R.framework/Versions/4.6-arm64/Resources/library’ * installing *source* package ‘ReactomeGSA’ ... ** this is package ‘ReactomeGSA’ version ‘1.25.0’ ** using staged installation ** R ** inst ** byte-compile and prepare package for lazy loading in method for ‘analyse_sc_clusters’ with signature ‘object="Seurat"’: no definition for class “Seurat” in method for ‘analyse_sc_clusters’ with signature ‘object="SingleCellExperiment"’: no definition for class “SingleCellExperiment” in method for ‘add_dataset’ with signature ‘request="ReactomeAnalysisRequest",expression_values="EList"’: no definition for class “EList” in method for ‘add_dataset’ with signature ‘request="ReactomeAnalysisRequest",expression_values="DGEList"’: no definition for class “DGEList” in method for ‘generate_pseudo_bulk_data’ with signature ‘object="Seurat"’: no definition for class “Seurat” in method for ‘generate_pseudo_bulk_data’ with signature ‘object="SingleCellExperiment"’: no definition for class “SingleCellExperiment” ** help *** installing help indices ** building package indices ** installing vignettes ** testing if installed package can be loaded from temporary location ** testing if installed package can be loaded from final location ** testing if installed package keeps a record of temporary installation path * DONE (ReactomeGSA)
ReactomeGSA.Rcheck/tests/testthat.Rout
R Under development (unstable) (2025-11-04 r88984) -- "Unsuffered Consequences"
Copyright (C) 2025 The R Foundation for Statistical Computing
Platform: aarch64-apple-darwin20
R is free software and comes with ABSOLUTELY NO WARRANTY.
You are welcome to redistribute it under certain conditions.
Type 'license()' or 'licence()' for distribution details.
R is a collaborative project with many contributors.
Type 'contributors()' for more information and
'citation()' on how to cite R or R packages in publications.
Type 'demo()' for some demos, 'help()' for on-line help, or
'help.start()' for an HTML browser interface to help.
Type 'q()' to quit R.
> library(testthat)
> library(ReactomeGSA)
>
> test_check("ReactomeGSA")
[ FAIL 0 | WARN 0 | SKIP 0 | PASS 17 ]
>
> proc.time()
user system elapsed
0.909 0.083 1.016
ReactomeGSA.Rcheck/ReactomeGSA-Ex.timings
| name | user | system | elapsed | |
| ReactomeAnalysisRequest | 2.129 | 0.115 | 2.336 | |
| ReactomeAnalysisResult-class | 0.091 | 0.004 | 0.097 | |
| add_dataset-ReactomeAnalysisRequest-DGEList-method | 0.481 | 0.030 | 0.516 | |
| add_dataset-ReactomeAnalysisRequest-EList-method | 0.276 | 0.031 | 0.316 | |
| add_dataset-ReactomeAnalysisRequest-ExpressionSet-method | 0.269 | 0.028 | 0.309 | |
| add_dataset-ReactomeAnalysisRequest-data.frame-method | 0.270 | 0.034 | 0.315 | |
| add_dataset-ReactomeAnalysisRequest-matrix-method | 0.280 | 0.034 | 0.340 | |
| add_dataset | 0.277 | 0.028 | 0.312 | |
| analyse_sc_clusters-Seurat-method | 11.500 | 0.932 | 79.399 | |
| analyse_sc_clusters-SingleCellExperiment-method | 11.156 | 1.071 | 89.098 | |
| analyse_sc_clusters | 10.844 | 1.154 | 86.210 | |
| find_public_datasets | 0.041 | 0.007 | 3.372 | |
| generate_metadata | 0.001 | 0.000 | 0.001 | |
| generate_pseudo_bulk_data | 6.324 | 0.502 | 7.176 | |
| get_public_species | 0.010 | 0.001 | 0.311 | |
| get_reactome_data_types | 0.022 | 0.005 | 0.638 | |
| get_reactome_methods | 0.039 | 0.007 | 1.084 | |
| get_result-ReactomeAnalysisResult-method | 0.100 | 0.004 | 0.106 | |
| get_result | 0.098 | 0.005 | 0.103 | |
| load_public_dataset | 0.574 | 0.072 | 16.091 | |
| names-ReactomeAnalysisResult-method | 0.097 | 0.004 | 0.107 | |
| open_reactome-ReactomeAnalysisResult-method | 0.093 | 0.004 | 0.098 | |
| open_reactome | 0.104 | 0.005 | 0.115 | |
| pathways-ReactomeAnalysisResult-method | 0.109 | 0.005 | 0.126 | |
| pathways | 0.098 | 0.004 | 0.114 | |
| perform_reactome_analysis | 0.930 | 0.117 | 12.513 | |
| plot_correlations-ReactomeAnalysisResult-method | 0.127 | 0.004 | 0.133 | |
| plot_correlations | 0.113 | 0.004 | 0.121 | |
| plot_gsva_heatmap-ReactomeAnalysisResult-method | 11.024 | 1.057 | 46.617 | |
| plot_gsva_heatmap | 11.104 | 1.022 | 48.002 | |
| plot_gsva_pathway-ReactomeAnalysisResult-method | 10.715 | 1.073 | 40.693 | |
| plot_gsva_pathway | 11.382 | 1.044 | 47.784 | |
| plot_gsva_pca-ReactomeAnalysisResult-method | 10.681 | 1.088 | 47.642 | |
| plot_gsva_pca | 10.909 | 1.073 | 42.012 | |
| plot_heatmap-ReactomeAnalysisResult-method | 0.223 | 0.006 | 0.265 | |
| plot_heatmap | 0.247 | 0.004 | 0.293 | |
| plot_volcano-ReactomeAnalysisResult-method | 0.105 | 0.004 | 0.129 | |
| plot_volcano | 0.107 | 0.004 | 0.136 | |
| print-ReactomeAnalysisRequest-method | 0.000 | 0.000 | 0.001 | |
| print-ReactomeAnalysisResult-method | 0.107 | 0.005 | 0.133 | |
| reactome_links-ReactomeAnalysisResult-method | 0.092 | 0.004 | 0.110 | |
| reactome_links | 0.097 | 0.003 | 0.104 | |
| result_types-ReactomeAnalysisResult-method | 0.100 | 0.003 | 0.123 | |
| result_types | 0.093 | 0.003 | 0.111 | |
| set_method-ReactomeAnalysisRequest-method | 0.000 | 0.001 | 0.002 | |
| set_method | 0.001 | 0.001 | 0.001 | |
| set_parameters-ReactomeAnalysisRequest-method | 0.001 | 0.000 | 0.000 | |
| set_parameters | 0.000 | 0.000 | 0.001 | |
| show-ReactomeAnalysisRequest-method | 0.000 | 0.001 | 0.001 | |
| show-ReactomeAnalysisResult-method | 0.092 | 0.003 | 0.109 | |