Back to Multiple platform build/check report for BioC 3.23:   simplified   long
ABCDEFGHIJKLMNOPQ[R]STUVWXYZ

This page was generated on 2025-11-21 11:40 -0500 (Fri, 21 Nov 2025).

HostnameOSArch (*)R versionInstalled pkgs
nebbiolo1Linux (Ubuntu 24.04.3 LTS)x86_64R Under development (unstable) (2025-10-20 r88955) -- "Unsuffered Consequences" 4829
lconwaymacOS 12.7.6 Montereyx86_64R Under development (unstable) (2025-10-21 r88958) -- "Unsuffered Consequences" 4602
kjohnson3macOS 13.7.7 Venturaarm64R Under development (unstable) (2025-11-04 r88984) -- "Unsuffered Consequences" 4566
Click on any hostname to see more info about the system (e.g. compilers)      (*) as reported by 'uname -p', except on Windows and Mac OS X

Package 1712/2327HostnameOS / ArchINSTALLBUILDCHECKBUILD BIN
Rcpi 1.47.0  (landing page)
Nan Xiao
Snapshot Date: 2025-11-20 13:40 -0500 (Thu, 20 Nov 2025)
git_url: https://git.bioconductor.org/packages/Rcpi
git_branch: devel
git_last_commit: d010cbe
git_last_commit_date: 2025-10-29 10:18:37 -0500 (Wed, 29 Oct 2025)
nebbiolo1Linux (Ubuntu 24.04.3 LTS) / x86_64  OK    OK    OK  UNNEEDED, same version is already published
lconwaymacOS 12.7.6 Monterey / x86_64  OK    OK    OK    OK  UNNEEDED, same version is already published
kjohnson3macOS 13.7.7 Ventura / arm64  OK    OK    OK    OK  UNNEEDED, same version is already published


CHECK results for Rcpi on kjohnson3

To the developers/maintainers of the Rcpi package:
- Allow up to 24 hours (and sometimes 48 hours) for your latest push to git@git.bioconductor.org:packages/Rcpi.git to reflect on this report. See Troubleshooting Build Report for more information.
- Use the following Renviron settings to reproduce errors and warnings.
- If 'R CMD check' started to fail recently on the Linux builder(s) over a missing dependency, add the missing dependency to 'Suggests:' in your DESCRIPTION file. See Renviron.bioc for more information.

raw results


Summary

Package: Rcpi
Version: 1.47.0
Command: /Library/Frameworks/R.framework/Resources/bin/R CMD check --install=check:Rcpi.install-out.txt --library=/Library/Frameworks/R.framework/Resources/library --no-vignettes --timings Rcpi_1.47.0.tar.gz
StartedAt: 2025-11-20 21:56:19 -0500 (Thu, 20 Nov 2025)
EndedAt: 2025-11-20 21:57:16 -0500 (Thu, 20 Nov 2025)
EllapsedTime: 56.9 seconds
RetCode: 0
Status:   OK  
CheckDir: Rcpi.Rcheck
Warnings: 0

Command output

##############################################################################
##############################################################################
###
### Running command:
###
###   /Library/Frameworks/R.framework/Resources/bin/R CMD check --install=check:Rcpi.install-out.txt --library=/Library/Frameworks/R.framework/Resources/library --no-vignettes --timings Rcpi_1.47.0.tar.gz
###
##############################################################################
##############################################################################


* using log directory ‘/Users/biocbuild/bbs-3.23-bioc/meat/Rcpi.Rcheck’
* using R Under development (unstable) (2025-11-04 r88984)
* using platform: aarch64-apple-darwin20
* R was compiled by
    Apple clang version 16.0.0 (clang-1600.0.26.6)
    GNU Fortran (GCC) 14.2.0
* running under: macOS Ventura 13.7.8
* using session charset: UTF-8
* using option ‘--no-vignettes’
* checking for file ‘Rcpi/DESCRIPTION’ ... OK
* checking extension type ... Package
* this is package ‘Rcpi’ version ‘1.47.0’
* package encoding: UTF-8
* checking package namespace information ... OK
* checking package dependencies ... OK
* checking if this is a source package ... OK
* checking if there is a namespace ... OK
* checking for hidden files and directories ... OK
* checking for portable file names ... OK
* checking for sufficient/correct file permissions ... OK
* checking whether package ‘Rcpi’ can be installed ... OK
* checking installed package size ... OK
* checking package directory ... OK
* checking ‘build’ directory ... OK
* checking DESCRIPTION meta-information ... OK
* checking top-level files ... OK
* checking for left-over files ... OK
* checking index information ... OK
* checking package subdirectories ... OK
* checking code files for non-ASCII characters ... OK
* checking R files for syntax errors ... OK
* checking whether the package can be loaded ... OK
* checking whether the package can be loaded with stated dependencies ... OK
* checking whether the package can be unloaded cleanly ... OK
* checking whether the namespace can be loaded with stated dependencies ... OK
* checking whether the namespace can be unloaded cleanly ... OK
* checking dependencies in R code ... OK
* checking S3 generic/method consistency ... OK
* checking replacement functions ... OK
* checking foreign function calls ... OK
* checking R code for possible problems ... OK
* checking Rd files ... OK
* checking Rd metadata ... OK
* checking Rd cross-references ... OK
* checking for missing documentation entries ... OK
* checking for code/documentation mismatches ... OK
* checking Rd \usage sections ... OK
* checking Rd contents ... OK
* checking for unstated dependencies in examples ... OK
* checking contents of ‘data’ directory ... OK
* checking data for non-ASCII characters ... OK
* checking LazyData ... OK
* checking data for ASCII and uncompressed saves ... OK
* checking files in ‘vignettes’ ... OK
* checking examples ... OK
* checking for unstated dependencies in ‘tests’ ... OK
* checking tests ...
  Running ‘testthat.R’
 OK
* checking for unstated dependencies in vignettes ... OK
* checking package vignettes ... OK
* checking running R code from vignettes ... SKIPPED
* checking re-building of vignette outputs ... SKIPPED
* checking PDF version of manual ... OK
* DONE

Status: OK


Installation output

Rcpi.Rcheck/00install.out

##############################################################################
##############################################################################
###
### Running command:
###
###   /Library/Frameworks/R.framework/Resources/bin/R CMD INSTALL Rcpi
###
##############################################################################
##############################################################################


* installing to library ‘/Library/Frameworks/R.framework/Versions/4.6-arm64/Resources/library’
* installing *source* package ‘Rcpi’ ...
** this is package ‘Rcpi’ version ‘1.47.0’
** using staged installation
** R
** data
*** moving datasets to lazyload DB
** inst
** byte-compile and prepare package for lazy loading
** help
*** installing help indices
*** copying figures
** building package indices
** installing vignettes
** testing if installed package can be loaded from temporary location
** testing if installed package can be loaded from final location
** testing if installed package keeps a record of temporary installation path
* DONE (Rcpi)

Tests output

Rcpi.Rcheck/tests/testthat.Rout


R Under development (unstable) (2025-11-04 r88984) -- "Unsuffered Consequences"
Copyright (C) 2025 The R Foundation for Statistical Computing
Platform: aarch64-apple-darwin20

R is free software and comes with ABSOLUTELY NO WARRANTY.
You are welcome to redistribute it under certain conditions.
Type 'license()' or 'licence()' for distribution details.

R is a collaborative project with many contributors.
Type 'contributors()' for more information and
'citation()' on how to cite R or R packages in publications.

Type 'demo()' for some demos, 'help()' for on-line help, or
'help.start()' for an HTML browser interface to help.
Type 'q()' to quit R.

> library(testthat)
> library(Rcpi)

> 
> test_check("Rcpi")
[ FAIL 0 | WARN 0 | SKIP 0 | PASS 22 ]
> 
> proc.time()
   user  system elapsed 
  2.901   0.283   2.581 

Example timings

Rcpi.Rcheck/Rcpi-Ex.timings

nameusersystemelapsed
AA2DACOR0.0010.0010.003
AA3DMoRSE0.0000.0010.000
AAACF0.0000.0000.003
AABLOSUM1000.0010.0010.000
AABLOSUM45000
AABLOSUM500.0000.0010.001
AABLOSUM620.0010.0000.001
AABLOSUM800.0000.0010.001
AABurden000
AACPSA0.0000.0010.000
AAConn0.0010.0000.001
AAConst0.0000.0010.001
AADescAll0.0010.0010.001
AAEdgeAdj0.0000.0010.001
AAEigIdx0.0010.0000.001
AAFGC0.0000.0000.001
AAGETAWAY0.0000.0010.001
AAGeom0.0000.0010.001
AAInfo0.0000.0010.001
AAMOE2D0.0000.0000.001
AAMOE3D0.0000.0010.001
AAMetaInfo0.0000.0010.000
AAMolProp000
AAPAM1200.0000.0010.001
AAPAM2500.0000.0010.001
AAPAM300.0000.0000.001
AAPAM400.0010.0010.001
AAPAM700.0000.0000.001
AARDF0.0000.0010.000
AARandic0.0010.0000.000
AATopo0.0000.0010.001
AATopoChg0.0000.0000.001
AAWHIM0.0000.0010.001
AAWalk0.0000.0000.001
AAindex0.0000.0010.000
OptAA3d000
acc0.0110.0020.013
calcDrugFPSim000
calcDrugMCSSim0.0010.0010.003
calcParProtGOSim0.0000.0000.001
calcParProtSeqSim0.0030.0010.004
calcTwoProtGOSim000
calcTwoProtSeqSim0.0010.0000.001
checkProt0.0000.0010.000
convMolFormat0.0000.0000.001
extractDrugAIO0.0010.0000.000
extractDrugALOGP0.0000.0000.001
extractDrugAminoAcidCount0.0000.0000.001
extractDrugApol0.0010.0000.000
extractDrugAromaticAtomsCount000
extractDrugAromaticBondsCount0.0000.0010.001
extractDrugAtomCount0.0010.0000.000
extractDrugAutocorrelationCharge0.0000.0000.001
extractDrugAutocorrelationMass000
extractDrugAutocorrelationPolarizability0.0000.0010.001
extractDrugBCUT000
extractDrugBPol000
extractDrugBondCount000
extractDrugCPSA0.0000.0010.000
extractDrugCarbonTypes0.0000.0000.001
extractDrugChiChain000
extractDrugChiCluster0.0010.0000.001
extractDrugChiPath000
extractDrugChiPathCluster0.0000.0000.001
extractDrugDescOB0.0020.0010.003
extractDrugECI0.0000.0000.001
extractDrugEstate0.0000.0010.000
extractDrugEstateComplete000
extractDrugExtended0.0000.0000.001
extractDrugExtendedComplete0.0010.0000.000
extractDrugFMF0.0000.0000.001
extractDrugFragmentComplexity000
extractDrugGraph0.0010.0000.000
extractDrugGraphComplete0.0000.0010.000
extractDrugGravitationalIndex000
extractDrugHBondAcceptorCount0.0000.0000.001
extractDrugHBondDonorCount000
extractDrugHybridization0.0000.0010.001
extractDrugHybridizationComplete000
extractDrugHybridizationRatio0.0010.0000.000
extractDrugIPMolecularLearning0.0000.0010.001
extractDrugKR000
extractDrugKRComplete0.0010.0000.000
extractDrugKappaShapeIndices0.0000.0000.001
extractDrugKierHallSmarts000
extractDrugLargestChain000
extractDrugLargestPiSystem0.0000.0000.001
extractDrugLengthOverBreadth0.0010.0010.000
extractDrugLongestAliphaticChain0.0000.0000.001
extractDrugMACCS0.0000.0000.001
extractDrugMACCSComplete0.0010.0000.000
extractDrugMDE0.0000.0000.001
extractDrugMannholdLogP0.0000.0000.001
extractDrugMomentOfInertia0.0010.0010.000
extractDrugOBFP20.0050.0010.008
extractDrugOBFP30.0020.0010.003
extractDrugOBFP40.0440.0020.046
extractDrugOBMACCS0.0020.0010.003
extractDrugPetitjeanNumber0.0000.0010.000
extractDrugPetitjeanShapeIndex0.0010.0000.000
extractDrugPubChem0.0000.0000.001
extractDrugPubChemComplete000
extractDrugRotatableBondsCount0.0000.0000.001
extractDrugRuleOfFive0.0000.0000.001
extractDrugShortestPath0.0000.0010.000
extractDrugShortestPathComplete000
extractDrugStandard000
extractDrugStandardComplete0.0010.0000.000
extractDrugTPSA0.0000.0000.001
extractDrugVABC000
extractDrugVAdjMa0.0010.0000.001
extractDrugWHIM0.0000.0010.000
extractDrugWeight000
extractDrugWeightedPath000
extractDrugWienerNumbers0.0010.0000.000
extractDrugXLogP0.0000.0010.001
extractDrugZagrebIndex000
extractPCMBLOSUM0.0040.0010.004
extractPCMDescScales0.0040.0000.010
extractPCMFAScales0.0090.0010.011
extractPCMMDSScales0.0030.0010.005
extractPCMPropScales0.0030.0000.005
extractPCMScales0.0040.0010.006
extractProtAAC0.0000.0010.001
extractProtAPAAC0.2660.0080.294
extractProtCTDC0.0010.0010.001
extractProtCTDD0.0010.0000.002
extractProtCTDT0.0020.0000.002
extractProtCTriad0.0290.0050.035
extractProtDC0.0010.0010.003
extractProtGeary0.0420.0040.046
extractProtMoran0.0480.0050.054
extractProtMoreauBroto0.0390.0040.044
extractProtPAAC0.1400.0040.147
extractProtPSSM000
extractProtPSSMAcc0.0000.0010.001
extractProtPSSMFeature0.0000.0000.001
extractProtQSO0.2610.0050.269
extractProtSOCN0.2200.0050.242
extractProtTC0.0100.0320.049
getCPI0.0010.0010.001
getDrug000
getFASTAFromKEGG000
getFASTAFromUniProt000
getMolFromCAS000
getMolFromChEMBL0.0010.0000.000
getMolFromDrugBank000
getMolFromKEGG000
getMolFromPubChem000
getPDBFromRCSBPDB000
getPPI0.0010.0010.001
getProt0.0000.0000.001
getSeqFromKEGG000
getSeqFromRCSBPDB000
getSeqFromUniProt000
getSmiFromChEMBL000
getSmiFromDrugBank000
getSmiFromKEGG000
getSmiFromPubChem000
readFASTA000
readMolFromSDF0.0010.0000.001
readMolFromSmi000
readPDB0.2800.0030.288
searchDrug0.0010.0000.001
segProt0.0010.0010.001