Back to Multiple platform build/check report for BioC 3.23:   simplified   long
ABCDEFGHIJKLMNOPQ[R]STUVWXYZ

This page was generated on 2025-11-21 11:40 -0500 (Fri, 21 Nov 2025).

HostnameOSArch (*)R versionInstalled pkgs
nebbiolo1Linux (Ubuntu 24.04.3 LTS)x86_64R Under development (unstable) (2025-10-20 r88955) -- "Unsuffered Consequences" 4829
lconwaymacOS 12.7.6 Montereyx86_64R Under development (unstable) (2025-10-21 r88958) -- "Unsuffered Consequences" 4602
kjohnson3macOS 13.7.7 Venturaarm64R Under development (unstable) (2025-11-04 r88984) -- "Unsuffered Consequences" 4566
Click on any hostname to see more info about the system (e.g. compilers)      (*) as reported by 'uname -p', except on Windows and Mac OS X

Package 1716/2327HostnameOS / ArchINSTALLBUILDCHECKBUILD BIN
RCX 1.15.0  (landing page)
Florian Auer
Snapshot Date: 2025-11-20 13:40 -0500 (Thu, 20 Nov 2025)
git_url: https://git.bioconductor.org/packages/RCX
git_branch: devel
git_last_commit: ae7e0e2
git_last_commit_date: 2025-10-29 11:14:31 -0500 (Wed, 29 Oct 2025)
nebbiolo1Linux (Ubuntu 24.04.3 LTS) / x86_64  OK    OK    OK  UNNEEDED, same version is already published
lconwaymacOS 12.7.6 Monterey / x86_64  OK    OK    OK    OK  UNNEEDED, same version is already published
kjohnson3macOS 13.7.7 Ventura / arm64  OK    OK    OK    OK  UNNEEDED, same version is already published


CHECK results for RCX on kjohnson3

To the developers/maintainers of the RCX package:
- Allow up to 24 hours (and sometimes 48 hours) for your latest push to git@git.bioconductor.org:packages/RCX.git to reflect on this report. See Troubleshooting Build Report for more information.
- Use the following Renviron settings to reproduce errors and warnings.
- If 'R CMD check' started to fail recently on the Linux builder(s) over a missing dependency, add the missing dependency to 'Suggests:' in your DESCRIPTION file. See Renviron.bioc for more information.

raw results


Summary

Package: RCX
Version: 1.15.0
Command: /Library/Frameworks/R.framework/Resources/bin/R CMD check --install=check:RCX.install-out.txt --library=/Library/Frameworks/R.framework/Resources/library --no-vignettes --timings RCX_1.15.0.tar.gz
StartedAt: 2025-11-20 21:56:25 -0500 (Thu, 20 Nov 2025)
EndedAt: 2025-11-20 21:56:52 -0500 (Thu, 20 Nov 2025)
EllapsedTime: 26.3 seconds
RetCode: 0
Status:   OK  
CheckDir: RCX.Rcheck
Warnings: 0

Command output

##############################################################################
##############################################################################
###
### Running command:
###
###   /Library/Frameworks/R.framework/Resources/bin/R CMD check --install=check:RCX.install-out.txt --library=/Library/Frameworks/R.framework/Resources/library --no-vignettes --timings RCX_1.15.0.tar.gz
###
##############################################################################
##############################################################################


* using log directory ‘/Users/biocbuild/bbs-3.23-bioc/meat/RCX.Rcheck’
* using R Under development (unstable) (2025-11-04 r88984)
* using platform: aarch64-apple-darwin20
* R was compiled by
    Apple clang version 16.0.0 (clang-1600.0.26.6)
    GNU Fortran (GCC) 14.2.0
* running under: macOS Ventura 13.7.8
* using session charset: UTF-8
* using option ‘--no-vignettes’
* checking for file ‘RCX/DESCRIPTION’ ... OK
* checking extension type ... Package
* this is package ‘RCX’ version ‘1.15.0’
* package encoding: UTF-8
* checking package namespace information ... OK
* checking package dependencies ... OK
* checking if this is a source package ... OK
* checking if there is a namespace ... OK
* checking for hidden files and directories ... OK
* checking for portable file names ... OK
* checking for sufficient/correct file permissions ... OK
* checking whether package ‘RCX’ can be installed ... OK
* checking installed package size ... OK
* checking package directory ... OK
* checking ‘build’ directory ... OK
* checking DESCRIPTION meta-information ... NOTE
License stub is invalid DCF.
* checking top-level files ... OK
* checking for left-over files ... OK
* checking index information ... OK
* checking package subdirectories ... NOTE
Problems with news in ‘NEWS.md’:
No news entries found.
* checking code files for non-ASCII characters ... OK
* checking R files for syntax errors ... OK
* checking whether the package can be loaded ... OK
* checking whether the package can be loaded with stated dependencies ... OK
* checking whether the package can be unloaded cleanly ... OK
* checking whether the namespace can be loaded with stated dependencies ... OK
* checking whether the namespace can be unloaded cleanly ... OK
* checking whether startup messages can be suppressed ... OK
* checking dependencies in R code ... OK
* checking S3 generic/method consistency ... OK
* checking replacement functions ... OK
* checking foreign function calls ... OK
* checking R code for possible problems ... OK
* checking Rd files ... OK
* checking Rd metadata ... OK
* checking Rd cross-references ... NOTE
Non-topic package-anchored link(s) in Rd file 'Igraph.Rd':
  ‘[igraph:aaa-igraph-package]{igraph}’

See section 'Cross-references' in the 'Writing R Extensions' manual.

Found the following Rd file(s) with Rd \link{} targets missing package
anchors:
  jsonToRCX.Rd: jsonlite
  readCX.Rd: jsonlite
Please provide package anchors for all Rd \link{} targets not in the
package itself and the base packages.
* checking for missing documentation entries ... OK
* checking for code/documentation mismatches ... OK
* checking Rd \usage sections ... NOTE
Documented arguments not in \usage in Rd file 'dot-format.Rd':
  ‘.log’

Functions with \usage entries need to have the appropriate \alias
entries, and all their arguments documented.
The \usage entries must correspond to syntactically valid R code.
See chapter ‘Writing R documentation files’ in the ‘Writing R
Extensions’ manual.
* checking Rd contents ... OK
* checking for unstated dependencies in examples ... OK
* checking R/sysdata.rda ... OK
* checking files in ‘vignettes’ ... OK
* checking examples ... OK
* checking for unstated dependencies in ‘tests’ ... OK
* checking tests ...
  Running ‘testthat.R’
 OK
* checking for unstated dependencies in vignettes ... OK
* checking package vignettes ... OK
* checking running R code from vignettes ... SKIPPED
* checking re-building of vignette outputs ... SKIPPED
* checking PDF version of manual ... OK
* DONE

Status: 4 NOTEs
See
  ‘/Users/biocbuild/bbs-3.23-bioc/meat/RCX.Rcheck/00check.log’
for details.


Installation output

RCX.Rcheck/00install.out

##############################################################################
##############################################################################
###
### Running command:
###
###   /Library/Frameworks/R.framework/Resources/bin/R CMD INSTALL RCX
###
##############################################################################
##############################################################################


* installing to library ‘/Library/Frameworks/R.framework/Versions/4.6-arm64/Resources/library’
* installing *source* package ‘RCX’ ...
** this is package ‘RCX’ version ‘1.15.0’
** using staged installation
** R
** inst
** byte-compile and prepare package for lazy loading
** help
*** installing help indices
** building package indices
** installing vignettes
** testing if installed package can be loaded from temporary location
** testing if installed package can be loaded from final location
** testing if installed package keeps a record of temporary installation path
* DONE (RCX)

Tests output

RCX.Rcheck/tests/testthat.Rout


R Under development (unstable) (2025-11-04 r88984) -- "Unsuffered Consequences"
Copyright (C) 2025 The R Foundation for Statistical Computing
Platform: aarch64-apple-darwin20

R is free software and comes with ABSOLUTELY NO WARRANTY.
You are welcome to redistribute it under certain conditions.
Type 'license()' or 'licence()' for distribution details.

R is a collaborative project with many contributors.
Type 'contributors()' for more information and
'citation()' on how to cite R or R packages in publications.

Type 'demo()' for some demos, 'help()' for on-line help, or
'help.start()' for an HTML browser interface to help.
Type 'q()' to quit R.

> library(testthat)
> library(RCX)
> 
> test_check("RCX")
[ FAIL 0 | WARN 0 | SKIP 0 | PASS 60 ]
> 
> proc.time()
   user  system elapsed 
  0.951   0.069   1.092 

Example timings

RCX.Rcheck/RCX-Ex.timings

nameusersystemelapsed
CartesianLayout0.0020.0010.002
Convert-Names-and-Classes000
CyGroups0.0020.0000.002
CyHiddenAttributes0.0440.0020.047
CyNetworkRelations0.0000.0000.001
CySubNetworks0.0020.0000.002
CyTableColumn0.0010.0000.002
CyVisualProperties0.0040.0000.004
CyVisualProperty0.0030.0010.003
CyVisualPropertyDependencies0.0000.0000.001
CyVisualPropertyMappings0.0010.0000.001
CyVisualPropertyProperties0.0010.0000.001
EdgeAttributes0.0050.0000.006
Edges0.0000.0010.000
Igraph0.8780.0150.945
Meta-data0.0070.0010.008
NetworkAttributes0.0030.0000.003
NodeAttributes0.0040.0000.005
Nodes0.0010.0000.001
RCX-object0.0700.0010.078
aspectClasses0.0010.0010.001
checks000
convert-data-types-and-values000
convert2json000
countElements0.0020.0000.003
custom-print0.0020.0000.002
dot-addAspectNameToJson000
dot-addAttributeData0.0000.0010.000
dot-aspectClass000
dot-convertRawList0.0000.0000.001
dot-createAttributeAspect0.0010.0000.000
dot-createCyVpPorD000
dot-filterBy000
dot-format000
dot-infer0.0000.0000.001
dot-json2RDataType000
dot-jsonL000
dot-jsonV000
dot-log000
dot-mergeAttributesAspect0.0000.0000.001
dot-mergeIdAspect000
dot-modClass000
dot-pasteC0.0000.0000.001
dot-renameDF000
dot-stop000
dot-summaryAspect0.0010.0000.000
dot-transformListLength-set0.0010.0000.001
dot-transformVLD0.0010.0000.001
getCyVisualProperty0.0030.0000.003
graphNEL0.9490.0101.016
hasIds000
idProperty0.0010.0000.001
jsonToRCX0.0010.0000.001
markAttributeColumn0.0000.0000.001
markRefColumn0.0030.0000.002
maxId000
rcxToJson0.0010.0000.001
readCX0.2320.0020.249
referredBy0.0030.0000.003
refersTo0.0010.0010.000
setExtension000
summary0.0040.0000.004
toCX0.0030.0000.004
updateCartesianLayout0.0130.0010.015
updateCyGroups0.0070.0010.008
updateCyHiddenAttributes0.0130.0000.013
updateCyNetworkRelations0.0100.0010.011
updateCySubNetworks0.0090.0000.018
updateCyTableColumn0.0160.0010.025
updateCyVisualProperties0.0700.0040.077
updateCyVisualProperty0.0200.0010.022
updateEdgeAttributes0.0140.0010.015
updateEdges0.0060.0000.010
updateMetaDataProperties0.0050.0010.009
updateNetworkAttributes0.0170.0000.017
updateNodeAttributes0.0180.0000.019
updateNodes0.0040.0000.006
validate0.0930.0020.096
visualize0.0020.0000.002
writeCX000
writeHTML0.0210.0110.036