Back to Multiple platform build/check report for BioC 3.22:   simplified   long
ABCDEFGHIJKLMNOPQ[R]STUVWXYZ

This page was generated on 2025-10-10 12:07 -0400 (Fri, 10 Oct 2025).

HostnameOSArch (*)R versionInstalled pkgs
nebbiolo2Linux (Ubuntu 24.04.3 LTS)x86_644.5.1 Patched (2025-08-23 r88802) -- "Great Square Root" 4854
lconwaymacOS 12.7.1 Montereyx86_644.5.1 Patched (2025-09-10 r88807) -- "Great Square Root" 4642
kjohnson3macOS 13.7.7 Venturaarm644.5.1 Patched (2025-09-10 r88807) -- "Great Square Root" 4587
taishanLinux (openEuler 24.03 LTS)aarch644.5.0 (2025-04-11) -- "How About a Twenty-Six" 4586
Click on any hostname to see more info about the system (e.g. compilers)      (*) as reported by 'uname -p', except on Windows and Mac OS X

Package 1686/2341HostnameOS / ArchINSTALLBUILDCHECKBUILD BIN
RAIDS 1.7.3  (landing page)
Pascal Belleau
Snapshot Date: 2025-10-09 13:45 -0400 (Thu, 09 Oct 2025)
git_url: https://git.bioconductor.org/packages/RAIDS
git_branch: devel
git_last_commit: 3a182eb
git_last_commit_date: 2025-10-07 16:32:58 -0400 (Tue, 07 Oct 2025)
nebbiolo2Linux (Ubuntu 24.04.3 LTS) / x86_64  OK    OK    OK  UNNEEDED, same version is already published
lconwaymacOS 12.7.1 Monterey / x86_64  OK    OK    OK    OK  UNNEEDED, same version is already published
kjohnson3macOS 13.7.7 Ventura / arm64  OK    OK    OK    OK  UNNEEDED, same version is already published
taishanLinux (openEuler 24.03 LTS) / aarch64  OK    OK    OK  


CHECK results for RAIDS on taishan

To the developers/maintainers of the RAIDS package:
- Allow up to 24 hours (and sometimes 48 hours) for your latest push to git@git.bioconductor.org:packages/RAIDS.git to reflect on this report. See Troubleshooting Build Report for more information.
- Use the following Renviron settings to reproduce errors and warnings.
- If 'R CMD check' started to fail recently on the Linux builder(s) over a missing dependency, add the missing dependency to 'Suggests:' in your DESCRIPTION file. See Renviron.bioc for more information.
- See Martin Grigorov's blog post for how to debug Linux ARM64 related issues on a x86_64 host.

raw results


Summary

Package: RAIDS
Version: 1.7.3
Command: /home/biocbuild/R/R/bin/R CMD check --install=check:RAIDS.install-out.txt --library=/home/biocbuild/R/R/site-library --no-vignettes --timings RAIDS_1.7.3.tar.gz
StartedAt: 2025-10-10 12:19:17 -0000 (Fri, 10 Oct 2025)
EndedAt: 2025-10-10 12:29:17 -0000 (Fri, 10 Oct 2025)
EllapsedTime: 600.3 seconds
RetCode: 0
Status:   OK  
CheckDir: RAIDS.Rcheck
Warnings: 0

Command output

##############################################################################
##############################################################################
###
### Running command:
###
###   /home/biocbuild/R/R/bin/R CMD check --install=check:RAIDS.install-out.txt --library=/home/biocbuild/R/R/site-library --no-vignettes --timings RAIDS_1.7.3.tar.gz
###
##############################################################################
##############################################################################


* using log directory ‘/home/biocbuild/bbs-3.22-bioc/meat/RAIDS.Rcheck’
* using R version 4.5.0 (2025-04-11)
* using platform: aarch64-unknown-linux-gnu
* R was compiled by
    aarch64-unknown-linux-gnu-gcc (GCC) 14.2.0
    GNU Fortran (GCC) 14.2.0
* running under: openEuler 24.03 (LTS)
* using session charset: UTF-8
* using option ‘--no-vignettes’
* checking for file ‘RAIDS/DESCRIPTION’ ... OK
* checking extension type ... Package
* this is package ‘RAIDS’ version ‘1.7.3’
* package encoding: UTF-8
* checking package namespace information ... OK
* checking package dependencies ... OK
* checking if this is a source package ... OK
* checking if there is a namespace ... OK
* checking for hidden files and directories ... OK
* checking for portable file names ... OK
* checking for sufficient/correct file permissions ... OK
* checking whether package ‘RAIDS’ can be installed ... OK
* checking installed package size ... OK
* checking package directory ... OK
* checking ‘build’ directory ... OK
* checking DESCRIPTION meta-information ... OK
* checking top-level files ... OK
* checking for left-over files ... OK
* checking index information ... OK
* checking package subdirectories ... OK
* checking code files for non-ASCII characters ... OK
* checking R files for syntax errors ... OK
* checking whether the package can be loaded ... OK
* checking whether the package can be loaded with stated dependencies ... OK
* checking whether the package can be unloaded cleanly ... OK
* checking whether the namespace can be loaded with stated dependencies ... OK
* checking whether the namespace can be unloaded cleanly ... OK
* checking loading without being on the library search path ... OK
* checking dependencies in R code ... OK
* checking S3 generic/method consistency ... OK
* checking replacement functions ... OK
* checking foreign function calls ... OK
* checking R code for possible problems ... OK
* checking Rd files ... OK
* checking Rd metadata ... OK
* checking Rd cross-references ... OK
* checking for missing documentation entries ... OK
* checking for code/documentation mismatches ... OK
* checking Rd \usage sections ... NOTE
Documented arguments not in \usage in Rd file 'wrapperAncestry.Rd':
  ‘pathGeno’

Functions with \usage entries need to have the appropriate \alias
entries, and all their arguments documented.
The \usage entries must correspond to syntactically valid R code.
See chapter ‘Writing R documentation files’ in the ‘Writing R
Extensions’ manual.
* checking Rd contents ... OK
* checking for unstated dependencies in examples ... OK
* checking contents of ‘data’ directory ... OK
* checking data for non-ASCII characters ... OK
* checking data for ASCII and uncompressed saves ... OK
* checking files in ‘vignettes’ ... OK
* checking examples ... OK
Examples with CPU (user + system) or elapsed time > 5s
                                  user system elapsed
readSNVVCF                       9.399  0.452  10.569
computeAncestryFromSyntheticFile 8.171  0.213   9.666
selParaPCAUpQuartile             7.357  0.182   8.232
readSNVBAM                       5.192  0.307   5.677
computeKNNRefSynthetic           3.282  0.268   5.063
* checking for unstated dependencies in ‘tests’ ... OK
* checking tests ...
  Running ‘testthat.R’
 OK
* checking for unstated dependencies in vignettes ... OK
* checking package vignettes ... OK
* checking running R code from vignettes ... SKIPPED
* checking re-building of vignette outputs ... SKIPPED
* checking PDF version of manual ... OK
* DONE

Status: 1 NOTE
See
  ‘/home/biocbuild/bbs-3.22-bioc/meat/RAIDS.Rcheck/00check.log’
for details.


Installation output

RAIDS.Rcheck/00install.out

##############################################################################
##############################################################################
###
### Running command:
###
###   /home/biocbuild/R/R/bin/R CMD INSTALL RAIDS
###
##############################################################################
##############################################################################


* installing to library ‘/home/biocbuild/R/R-4.5.0/site-library’
* installing *source* package ‘RAIDS’ ...
** this is package ‘RAIDS’ version ‘1.7.3’
** using staged installation
** R
** data
** inst
** byte-compile and prepare package for lazy loading
** help
*** installing help indices
** building package indices
** installing vignettes
** testing if installed package can be loaded from temporary location
** testing if installed package can be loaded from final location
** testing if installed package keeps a record of temporary installation path
* DONE (RAIDS)

Tests output

RAIDS.Rcheck/tests/testthat.Rout


R version 4.5.0 (2025-04-11) -- "How About a Twenty-Six"
Copyright (C) 2025 The R Foundation for Statistical Computing
Platform: aarch64-unknown-linux-gnu

R is free software and comes with ABSOLUTELY NO WARRANTY.
You are welcome to redistribute it under certain conditions.
Type 'license()' or 'licence()' for distribution details.

R is a collaborative project with many contributors.
Type 'contributors()' for more information and
'citation()' on how to cite R or R packages in publications.

Type 'demo()' for some demos, 'help()' for on-line help, or
'help.start()' for an HTML browser interface to help.
Type 'q()' to quit R.

> library(testthat)
> library(RAIDS)
Loading required package: gdsfmt
Loading required package: SNPRelate
Loading required package: GENESIS
Loading required package: dplyr

Attaching package: 'dplyr'

The following object is masked from 'package:testthat':

    matches

The following objects are masked from 'package:stats':

    filter, lag

The following objects are masked from 'package:base':

    intersect, setdiff, setequal, union

Loading required package: Rsamtools
Loading required package: Seqinfo
Loading required package: BiocGenerics
Loading required package: generics

Attaching package: 'generics'

The following object is masked from 'package:dplyr':

    explain

The following objects are masked from 'package:base':

    as.difftime, as.factor, as.ordered, intersect, is.element, setdiff,
    setequal, union


Attaching package: 'BiocGenerics'

The following object is masked from 'package:dplyr':

    combine

The following objects are masked from 'package:stats':

    IQR, mad, sd, var, xtabs

The following objects are masked from 'package:base':

    Filter, Find, Map, Position, Reduce, anyDuplicated, aperm, append,
    as.data.frame, basename, cbind, colnames, dirname, do.call,
    duplicated, eval, evalq, get, grep, grepl, is.unsorted, lapply,
    mapply, match, mget, order, paste, pmax, pmax.int, pmin, pmin.int,
    rank, rbind, rownames, sapply, saveRDS, table, tapply, unique,
    unsplit, which.max, which.min

Loading required package: GenomicRanges
Loading required package: stats4
Loading required package: S4Vectors

Attaching package: 'S4Vectors'

The following objects are masked from 'package:dplyr':

    first, rename

The following object is masked from 'package:utils':

    findMatches

The following objects are masked from 'package:base':

    I, expand.grid, unname

Loading required package: IRanges

Attaching package: 'IRanges'

The following objects are masked from 'package:dplyr':

    collapse, desc, slice

Loading required package: Biostrings
Loading required package: XVector

Attaching package: 'Biostrings'

The following object is masked from 'package:base':

    strsplit

> 
> ## Run all unit tests
> test_check("RAIDS")

Attaching package: 'Matrix'

The following object is masked from 'package:S4Vectors':

    expand

[ FAIL 0 | WARN 0 | SKIP 0 | PASS 478 ]
> 
> proc.time()
   user  system elapsed 
 47.294   1.338  52.971 

RAIDS.Rcheck/tests/testthat.Rout.fail


R version 4.5.0 (2025-04-11) -- "How About a Twenty-Six"
Copyright (C) 2025 The R Foundation for Statistical Computing
Platform: aarch64-unknown-linux-gnu

R is free software and comes with ABSOLUTELY NO WARRANTY.
You are welcome to redistribute it under certain conditions.
Type 'license()' or 'licence()' for distribution details.

R is a collaborative project with many contributors.
Type 'contributors()' for more information and
'citation()' on how to cite R or R packages in publications.

Type 'demo()' for some demos, 'help()' for on-line help, or
'help.start()' for an HTML browser interface to help.
Type 'q()' to quit R.

> library(testthat)
> library(RAIDS)
Loading required package: gdsfmt
Loading required package: SNPRelate
Loading required package: GENESIS
Loading required package: dplyr

Attaching package: 'dplyr'

The following object is masked from 'package:testthat':

    matches

The following objects are masked from 'package:stats':

    filter, lag

The following objects are masked from 'package:base':

    intersect, setdiff, setequal, union

Loading required package: Rsamtools
Loading required package: Seqinfo
Loading required package: BiocGenerics
Loading required package: generics

Attaching package: 'generics'

The following object is masked from 'package:dplyr':

    explain

The following objects are masked from 'package:base':

    as.difftime, as.factor, as.ordered, intersect, is.element, setdiff,
    setequal, union


Attaching package: 'BiocGenerics'

The following object is masked from 'package:dplyr':

    combine

The following objects are masked from 'package:stats':

    IQR, mad, sd, var, xtabs

The following objects are masked from 'package:base':

    Filter, Find, Map, Position, Reduce, anyDuplicated, aperm, append,
    as.data.frame, basename, cbind, colnames, dirname, do.call,
    duplicated, eval, evalq, get, grep, grepl, is.unsorted, lapply,
    mapply, match, mget, order, paste, pmax, pmax.int, pmin, pmin.int,
    rank, rbind, rownames, sapply, saveRDS, table, tapply, unique,
    unsplit, which.max, which.min

Loading required package: GenomicRanges
Loading required package: stats4
Loading required package: S4Vectors

Attaching package: 'S4Vectors'

The following objects are masked from 'package:dplyr':

    first, rename

The following object is masked from 'package:utils':

    findMatches

The following objects are masked from 'package:base':

    I, expand.grid, unname

Loading required package: IRanges

Attaching package: 'IRanges'

The following objects are masked from 'package:dplyr':

    collapse, desc, slice

Loading required package: Biostrings
Loading required package: XVector

Attaching package: 'Biostrings'

The following object is masked from 'package:base':

    strsplit

> 
> ## Run all unit tests
> test_check("RAIDS")

Attaching package: 'Matrix'

The following object is masked from 'package:S4Vectors':

    expand

[ FAIL 2 | WARN 0 | SKIP 0 | PASS 443 ]

══ Failed tests ════════════════════════════════════════════════════════════════
── Failure ('test-gdsWrapper_internal.R:145:5'): runIBDKING() must return expected results ──
result$IBS0 not equal to `ibs0`.
6/9 mismatches (average diff: 0.000157)
[2] 0.0799 - 0.0797 ==  2.22e-04
[3] 0.0881 - 0.0882 == -9.38e-05
[4] 0.0799 - 0.0797 ==  2.22e-04
[6] 0.0939 - 0.0940 == -1.55e-04
[7] 0.0881 - 0.0882 == -9.38e-05
[8] 0.0939 - 0.0940 == -1.55e-04
── Failure ('test-gdsWrapper_internal.R:146:5'): runIBDKING() must return expected results ──
result$kinship not equal to `kinship`.
6/9 mismatches (average diff: 0.000713)
[2]  0.01548 -  0.01724 == -0.001756
[3]  0.00108 -  0.00129 == -0.000214
[4]  0.01548 -  0.01724 == -0.001756
[6] -0.01417 - -0.01434 ==  0.000168
[7]  0.00108 -  0.00129 == -0.000214
[8] -0.01417 - -0.01434 ==  0.000168

[ FAIL 2 | WARN 0 | SKIP 0 | PASS 443 ]
Error: Test failures
Execution halted

Example timings

RAIDS.Rcheck/RAIDS-Ex.timings

nameusersystemelapsed
add1KG2SampleGDS0.0820.0200.228
addBlockFromDetFile0.0040.0000.017
addBlockInGDSAnnot0.0070.0000.020
addGDS1KGLDBlock0.0020.0010.002
addGDSRef0.0050.0000.012
addGDSStudyPruning0.0010.0010.004
addGeneBlockGDSRefAnnot1.0390.1092.233
addGeneBlockRefAnnot0.0020.0000.006
addRef2GDS1KG0.0050.0010.015
addStudy1Kg0.0130.0000.023
addStudyGDSSample0.0100.0000.019
addUpdateLap0.0020.0000.007
addUpdateSegment0.0010.0010.007
appendGDSRefSample0.0080.0000.015
appendGDSSampleOnly0.0020.0000.002
appendGDSgenotype0.0270.0000.095
appendGDSgenotypeMat0.0020.0000.002
calcAFMLRNA0.0060.0000.006
computeAlleleFraction0.0030.0000.003
computeAllelicFractionDNA0.2040.0000.360
computeAllelicFractionRNA0.3720.0110.763
computeAllelicImbDNAChr0.0100.0000.018
computeAncestryFromSynthetic1.0250.2321.629
computeAncestryFromSyntheticFile8.1710.2139.666
computeKNNRefSample0.0240.0000.024
computeKNNRefSynthetic3.2820.2685.063
computeLOHBlocksDNAChr0.0110.0000.011
computePCAMultiSynthetic0.010.000.01
computePCARefRMMulti0.7180.0080.859
computePCARefSample0.7810.0040.892
computePoolSyntheticAncestryGr1.1950.0391.388
computeSyntheticConfMat0.0140.0040.018
computeSyntheticROC0.0530.0040.070
createAUROCGraph1.3280.0521.737
createAccuracyGraph1.2670.0081.354
createProfile0.0700.0000.138
createStudy2GDS1KG0.0720.0040.147
demoKnownSuperPop1KG2.2000.0962.408
demoPCA1KG0.0060.0040.010
demoPCASyntheticProfiles2.2020.1162.540
demoPedigreeEx10.0200.0040.024
estimateAllelicFraction0.1280.0000.128
extractNucleotide000
generateGDS1KG0.0210.0000.027
generateGDS1KGgenotypeFromSNPPileup0.0630.0000.135
generateGDSRefSample0.0040.0020.007
generateGDSSNPinfo0.0050.0010.006
generateGDSgenotype0.0170.0000.018
generateGeneBlock0.0020.0000.002
generateMapSnvSel0.0040.0000.005
generatePhase1KG2GDS0.0130.0040.021
generatePhaseRef0.0170.0000.017
generateProfileGDS0.0560.0000.058
getBlockIDs0.0030.0000.002
getRef1KGPop0.0040.0000.005
getRefSuperPop0.0010.0030.003
getTableSNV0.0120.0050.017
groupChr1KGSNV0.0630.0090.075
identifyRelative0.0110.0000.011
identifyRelativeRef0.0070.0000.007
inferAncestry0.020.000.02
inferAncestryDNA0.0210.0000.022
inferAncestryGeneAware0.0190.0000.019
matKNNSynthetic0.0460.0080.054
pedSynthetic0.0490.0040.054
prepPed1KG0.0070.0000.011
prepPedSynthetic1KG0.0070.0000.016
prepSynthetic0.0180.0010.035
processBlockChr0.0040.0000.009
processPileupChrBin3.1530.5084.465
profileAncestry0.0210.0040.024
pruning1KGbyChr0.0040.0000.005
pruningSample0.0590.0110.141
readSNVBAM5.1920.3075.677
readSNVFileGeneric0.0050.0000.012
readSNVPileupFile0.0440.0000.060
readSNVVCF 9.399 0.45210.569
runExomeAncestry0.0200.0060.027
runIBDKING0.0560.0010.057
runLDPruning0.0230.0120.064
runProfileAncestry0.0300.0010.064
runRNAAncestry0.0250.0000.026
runWrapperAncestry0.0180.0080.026
selParaPCAUpQuartile7.3570.1828.232
select1KGPop0.0070.0000.007
select1KGPopForSynthetic0.0060.0000.007
snpPositionDemo0.0040.0000.004
snvListVCF0.0050.0000.005
splitSelectByPop0.0010.0000.002
syntheticGeno0.0390.0040.043
tableBlockAF0.0340.0000.035
testAlleleFractionChange0.0020.0000.002
testEmptyBox0.0020.0000.002
validateAccuracyGraphInternal0.0000.0000.001
validateAdd1KG2SampleGDS0.0010.0000.002
validateAddStudy1Kg0.0030.0000.002
validateCharacterString0.0010.0000.000
validateComputeAncestryFromSyntheticFile0.0030.0000.002
validateComputeKNNRefSample0.0060.0000.006
validateComputeKNNRefSynthetic0.0070.0000.008
validateComputePCAMultiSynthetic0.0040.0000.005
validateComputePCARefSample0.0000.0020.002
validateComputePoolSyntheticAncestryGr0.0020.0000.001
validateComputeSyntheticRoc0.0110.0040.014
validateCreateAccuracyGraph0.0020.0000.001
validateCreateStudy2GDS1KG0.0030.0000.003
validateDataRefSynParameter0.0010.0000.001
validateEstimateAllelicFraction0.0040.0000.004
validateGDSClass0.0020.0000.002
validateGenerateGDS1KG0.0020.0000.001
validateLogical000
validatePEDStudyParameter0.0010.0000.001
validatePepSynthetic0.0020.0000.002
validatePositiveIntegerVector000
validatePrepPed1KG0.0010.0000.002
validateProfileGDSExist0.0010.0000.001
validatePruningSample0.0020.0000.002
validateRunExomeOrRNAAncestry0.0050.0000.006
validateSingleRatio000
validateStudyDataFrameParameter0.0000.0000.001
validateSyntheticGeno0.0020.0000.007
validatecreateAUROCGraph0.0020.0000.002
validatecreateProfile0.0030.0000.008
wrapperAncestry0.050.020.14