Back to Build/check report for BioC 3.23:   simplified   long
ABCDEFGHIJKLMNO[P]QRSTUVWXYZ

This page was generated on 2025-11-03 11:33 -0500 (Mon, 03 Nov 2025).

HostnameOSArch (*)R versionInstalled pkgs
nebbiolo1Linux (Ubuntu 24.04.3 LTS)x86_64R Under development (unstable) (2025-10-20 r88955) -- "Unsuffered Consequences" 4775
Click on any hostname to see more info about the system (e.g. compilers)      (*) as reported by 'uname -p', except on Windows and Mac OS X

Package 1644/2321HostnameOS / ArchINSTALLBUILDCHECKBUILD BIN
Pviz 1.45.0  (landing page)
Renan Sauteraud
Snapshot Date: 2025-11-02 13:40 -0500 (Sun, 02 Nov 2025)
git_url: https://git.bioconductor.org/packages/Pviz
git_branch: devel
git_last_commit: 2605bdc
git_last_commit_date: 2025-10-29 10:20:19 -0500 (Wed, 29 Oct 2025)
nebbiolo1Linux (Ubuntu 24.04.3 LTS) / x86_64  OK    OK    WARNINGS  NO, package depends on 'Gviz' which is not available


BUILD results for Pviz on nebbiolo1

To the developers/maintainers of the Pviz package:
- Allow up to 24 hours (and sometimes 48 hours) for your latest push to git@git.bioconductor.org:packages/Pviz.git to reflect on this report. See Troubleshooting Build Report for more information.
- Use the following Renviron settings to reproduce errors and warnings.
- If 'R CMD check' started to fail recently on the Linux builder(s) over a missing dependency, add the missing dependency to 'Suggests:' in your DESCRIPTION file. See Renviron.bioc for more information.

raw results


Summary

Package: Pviz
Version: 1.45.0
Command: /home/biocbuild/bbs-3.23-bioc/R/bin/R CMD build --keep-empty-dirs --no-resave-data Pviz
StartedAt: 2025-11-02 19:19:51 -0500 (Sun, 02 Nov 2025)
EndedAt: 2025-11-02 19:21:40 -0500 (Sun, 02 Nov 2025)
EllapsedTime: 109.1 seconds
RetCode: 0
Status:   OK  
PackageFile: Pviz_1.45.0.tar.gz
PackageFileSize: 203.4 KiB

Command output

##############################################################################
##############################################################################
###
### Running command:
###
###   /home/biocbuild/bbs-3.23-bioc/R/bin/R CMD build --keep-empty-dirs --no-resave-data Pviz
###
##############################################################################
##############################################################################


* checking for file ‘Pviz/DESCRIPTION’ ... OK
* preparing ‘Pviz’:
* checking DESCRIPTION meta-information ... OK
* installing the package (it is needed to build vignettes)
* creating vignettes ... OK
Warning: ‘inst/doc’ file
    ‘Pviz.pdf’
  ignored as vignettes have been rebuilt.
  Run R CMD build with --no-build-vignettes to prevent rebuilding.
* checking for LF line-endings in source and make files and shell scripts
* checking for empty or unneeded directories
* building ‘Pviz_1.45.0.tar.gz’