Back to Multiple platform build/check report for BioC 3.22:   simplified   long
ABCDEFGHIJKLMNO[P]QRSTUVWXYZ

This page was generated on 2025-08-15 12:07 -0400 (Fri, 15 Aug 2025).

HostnameOSArch (*)R versionInstalled pkgs
nebbiolo2Linux (Ubuntu 24.04.3 LTS)x86_644.5.1 (2025-06-13) -- "Great Square Root" 4818
palomino8Windows Server 2022 Datacenterx644.5.1 (2025-06-13 ucrt) -- "Great Square Root" 4554
lconwaymacOS 12.7.1 Montereyx86_644.5.1 (2025-06-13) -- "Great Square Root" 4595
kjohnson3macOS 13.7.7 Venturaarm644.5.1 Patched (2025-06-14 r88325) -- "Great Square Root" 4537
taishanLinux (openEuler 24.03 LTS)aarch644.5.0 (2025-04-11) -- "How About a Twenty-Six" 4535
Click on any hostname to see more info about the system (e.g. compilers)      (*) as reported by 'uname -p', except on Windows and Mac OS X

Package 1625/2317HostnameOS / ArchINSTALLBUILDCHECKBUILD BIN
ProteoMM 1.27.0  (landing page)
Yuliya V Karpievitch
Snapshot Date: 2025-08-14 13:45 -0400 (Thu, 14 Aug 2025)
git_url: https://git.bioconductor.org/packages/ProteoMM
git_branch: devel
git_last_commit: bcff179
git_last_commit_date: 2025-04-15 11:38:29 -0400 (Tue, 15 Apr 2025)
nebbiolo2Linux (Ubuntu 24.04.3 LTS) / x86_64  OK    OK    OK  UNNEEDED, same version is already published
palomino8Windows Server 2022 Datacenter / x64  OK    OK    OK    OK  UNNEEDED, same version is already published
lconwaymacOS 12.7.1 Monterey / x86_64  OK    OK    OK    OK  UNNEEDED, same version is already published
kjohnson3macOS 13.7.7 Ventura / arm64  OK    OK    OK    OK  UNNEEDED, same version is already published
taishanLinux (openEuler 24.03 LTS) / aarch64  OK    OK    OK  


CHECK results for ProteoMM on palomino8

To the developers/maintainers of the ProteoMM package:
- Allow up to 24 hours (and sometimes 48 hours) for your latest push to git@git.bioconductor.org:packages/ProteoMM.git to reflect on this report. See Troubleshooting Build Report for more information.
- Use the following Renviron settings to reproduce errors and warnings.
- If 'R CMD check' started to fail recently on the Linux builder(s) over a missing dependency, add the missing dependency to 'Suggests:' in your DESCRIPTION file. See Renviron.bioc for more information.

raw results


Summary

Package: ProteoMM
Version: 1.27.0
Command: F:\biocbuild\bbs-3.22-bioc\R\bin\R.exe CMD check --no-multiarch --install=check:ProteoMM.install-out.txt --library=F:\biocbuild\bbs-3.22-bioc\R\library --no-vignettes --timings ProteoMM_1.27.0.tar.gz
StartedAt: 2025-08-15 06:38:36 -0400 (Fri, 15 Aug 2025)
EndedAt: 2025-08-15 06:40:58 -0400 (Fri, 15 Aug 2025)
EllapsedTime: 141.8 seconds
RetCode: 0
Status:   OK  
CheckDir: ProteoMM.Rcheck
Warnings: 0

Command output

##############################################################################
##############################################################################
###
### Running command:
###
###   F:\biocbuild\bbs-3.22-bioc\R\bin\R.exe CMD check --no-multiarch --install=check:ProteoMM.install-out.txt --library=F:\biocbuild\bbs-3.22-bioc\R\library --no-vignettes --timings ProteoMM_1.27.0.tar.gz
###
##############################################################################
##############################################################################


* using log directory 'F:/biocbuild/bbs-3.22-bioc/meat/ProteoMM.Rcheck'
* using R version 4.5.1 (2025-06-13 ucrt)
* using platform: x86_64-w64-mingw32
* R was compiled by
    gcc.exe (GCC) 14.2.0
    GNU Fortran (GCC) 14.2.0
* running under: Windows Server 2022 x64 (build 20348)
* using session charset: UTF-8
* using option '--no-vignettes'
* checking for file 'ProteoMM/DESCRIPTION' ... OK
* this is package 'ProteoMM' version '1.27.0'
* package encoding: UTF-8
* checking package namespace information ... OK
* checking package dependencies ... OK
* checking if this is a source package ... OK
* checking if there is a namespace ... OK
* checking for hidden files and directories ... OK
* checking for portable file names ... OK
* checking whether package 'ProteoMM' can be installed ... OK
* checking installed package size ... OK
* checking package directory ... OK
* checking 'build' directory ... OK
* checking DESCRIPTION meta-information ... NOTE
License components which are templates and need '+ file LICENSE':
  MIT
* checking top-level files ... OK
* checking for left-over files ... OK
* checking index information ... OK
* checking package subdirectories ... OK
* checking code files for non-ASCII characters ... OK
* checking R files for syntax errors ... OK
* checking whether the package can be loaded ... OK
* checking whether the package can be loaded with stated dependencies ... OK
* checking whether the package can be unloaded cleanly ... OK
* checking whether the namespace can be loaded with stated dependencies ... OK
* checking whether the namespace can be unloaded cleanly ... OK
* checking dependencies in R code ... OK
* checking S3 generic/method consistency ... OK
* checking replacement functions ... OK
* checking foreign function calls ... OK
* checking R code for possible problems ... OK
* checking Rd files ... OK
* checking Rd metadata ... OK
* checking Rd cross-references ... OK
* checking for missing documentation entries ... OK
* checking for code/documentation mismatches ... OK
* checking Rd \usage sections ... OK
* checking Rd contents ... OK
* checking for unstated dependencies in examples ... OK
* checking contents of 'data' directory ... OK
* checking data for non-ASCII characters ... OK
* checking LazyData ... OK
* checking data for ASCII and uncompressed saves ... OK
* checking files in 'vignettes' ... OK
* checking examples ... OK
Examples with CPU (user + system) or elapsed time > 5s
                             user system elapsed
prot_level_multi_part       25.22   0.44   25.66
subset_proteins              8.34   0.23    8.57
prot_level_multiMat_PresAbs  7.69   0.09    7.78
peptideLevel_PresAbsDE       6.16   0.11    6.28
get_presAbs_prots            6.13   0.07    6.20
plot_volcano                 4.94   0.11    5.05
* checking for unstated dependencies in vignettes ... OK
* checking package vignettes ... OK
* checking running R code from vignettes ... SKIPPED
* checking re-building of vignette outputs ... SKIPPED
* checking PDF version of manual ... OK
* DONE

Status: 1 NOTE
See
  'F:/biocbuild/bbs-3.22-bioc/meat/ProteoMM.Rcheck/00check.log'
for details.


Installation output

ProteoMM.Rcheck/00install.out

##############################################################################
##############################################################################
###
### Running command:
###
###   F:\biocbuild\bbs-3.22-bioc\R\bin\R.exe CMD INSTALL ProteoMM
###
##############################################################################
##############################################################################


* installing to library 'F:/biocbuild/bbs-3.22-bioc/R/library'
* installing *source* package 'ProteoMM' ...
** this is package 'ProteoMM' version '1.27.0'
** using staged installation
** R
** data
*** moving datasets to lazyload DB
** byte-compile and prepare package for lazy loading
** help
*** installing help indices
** building package indices
** installing vignettes
** testing if installed package can be loaded from temporary location
** testing if installed package can be loaded from final location
** testing if installed package keeps a record of temporary installation path
* DONE (ProteoMM)

Tests output


Example timings

ProteoMM.Rcheck/ProteoMM-Ex.timings

nameusersystemelapsed
MBimpute4.390.154.53
convert_log2000
eig_norm13.940.074.02
eig_norm23.810.073.87
eigen_pi0.050.000.05
g.test0.010.000.02
get_presAbs_prots6.130.076.20
makeLMFormula000
make_intencities0.000.020.01
make_meta0.000.020.02
peptideLevel_DE4.700.154.86
peptideLevel_PresAbsDE6.160.116.28
plot_3_pep_trends_NOfile3.480.093.58
plot_volcano4.940.115.05
plot_volcano_wLab4.470.134.59
prot_level_multiMat_PresAbs7.690.097.78
prot_level_multi_part25.22 0.4425.66
subset_proteins8.340.238.57