Back to Build/check report for BioC 3.23:   simplified   long
ABCDEFGHIJKLMNO[P]QRSTUVWXYZ

This page was generated on 2025-10-31 08:34 -0400 (Fri, 31 Oct 2025).

HostnameOSArch (*)R versionInstalled pkgs
nebbiolo1Linux (Ubuntu 24.04.3 LTS)x86_64R Under development (unstable) (2025-10-20 r88955) -- "Unsuffered Consequences" 4428
Click on any hostname to see more info about the system (e.g. compilers)      (*) as reported by 'uname -p', except on Windows and Mac OS X

All results for package ProtGenerics


To the developers/maintainers of the ProtGenerics package:
- Allow up to 24 hours (and sometimes 48 hours) for your latest push to git@git.bioconductor.org:packages/ProtGenerics.git to reflect on this report. See Troubleshooting Build Report for more information.
- Use the following Renviron settings to reproduce errors and warnings.
- If 'R CMD check' started to fail recently on the Linux builder(s) over a missing dependency, add the missing dependency to 'Suggests:' in your DESCRIPTION file. See Renviron.bioc for more information.

raw results

Package 1636/2321HostnameOS / ArchINSTALLBUILDCHECKBUILD BIN
ProtGenerics 1.43.0  (landing page)
Laurent Gatto
Snapshot Date: 2025-10-30 13:40 -0400 (Thu, 30 Oct 2025)
git_url: https://git.bioconductor.org/packages/ProtGenerics
git_branch: devel
git_last_commit: 52f3a6a
git_last_commit_date: 2025-10-29 10:24:04 -0400 (Wed, 29 Oct 2025)
nebbiolo1Linux (Ubuntu 24.04.3 LTS) / x86_64  OK    OK    OK  YES



Results for Bioconductor software packages that depend directly on package ProtGenerics

QUICK STATSOS / ArchINSTALLBUILDCHECKBUILD BIN
nebbiolo1Linux (Ubuntu 24.04.3 LTS) / x86_64
0026
0125
01123
Package 1/26HostnameOS / ArchINSTALLBUILDCHECKBUILD BIN
Cardinal 3.13.0  (landing page)
Kylie Ariel Bemis
git_last_commit: 2d83be5
git_last_commit_date: 2025-10-29 10:23:51 -0400
nebbiolo1Linux (Ubuntu 24.04.3 LTS) / x86_64  OK    OK    OK  YES
Package 2/26HostnameOS / ArchINSTALLBUILDCHECKBUILD BIN
Chromatograms 1.1.0  (landing page)
Philippine Louail
git_last_commit: c10498e
git_last_commit_date: 2025-10-29 11:37:38 -0400
nebbiolo1Linux (Ubuntu 24.04.3 LTS) / x86_64  OK    OK    OK  NO, package depends on 'Spectra' which is not available
Package 3/26HostnameOS / ArchINSTALLBUILDCHECKBUILD BIN
CompoundDb 1.15.0  (landing page)
Johannes Rainer
git_last_commit: c48af8f
git_last_commit_date: 2025-10-29 11:14:42 -0400
nebbiolo1Linux (Ubuntu 24.04.3 LTS) / x86_64  OK    OK    OK  NO, package depends on 'AnnotationFilter' which is not available
Package 4/26HostnameOS / ArchINSTALLBUILDCHECKBUILD BIN
ensembldb 2.35.0  (landing page)
Johannes Rainer
git_last_commit: a74ca18
git_last_commit_date: 2025-10-29 10:24:50 -0400
nebbiolo1Linux (Ubuntu 24.04.3 LTS) / x86_64  OK    ERROR  skipped
Package 5/26HostnameOS / ArchINSTALLBUILDCHECKBUILD BIN
matter 2.13.0  (landing page)
Kylie A. Bemis
git_last_commit: 79e109f
git_last_commit_date: 2025-10-29 10:34:59 -0400
nebbiolo1Linux (Ubuntu 24.04.3 LTS) / x86_64  OK    OK    OK  YES
Package 6/26HostnameOS / ArchINSTALLBUILDCHECKBUILD BIN
MetaboAnnotation 1.15.0  (landing page)
Johannes Rainer
git_last_commit: 0232707
git_last_commit_date: 2025-10-29 11:14:44 -0400
nebbiolo1Linux (Ubuntu 24.04.3 LTS) / x86_64  OK    OK    OK  NO, package depends on 'Spectra' which is not available
Package 7/26HostnameOS / ArchINSTALLBUILDCHECKBUILD BIN
MsBackendMassbank 1.19.0  (landing page)
RforMassSpectrometry Package Maintainer
git_last_commit: 1e6d7b3
git_last_commit_date: 2025-10-29 11:06:30 -0400
nebbiolo1Linux (Ubuntu 24.04.3 LTS) / x86_64  OK    OK    OK  NO, package depends on 'Spectra' which is not available
Package 8/26HostnameOS / ArchINSTALLBUILDCHECKBUILD BIN
MsBackendMetaboLights 1.5.0  (landing page)
Johannes Rainer
git_last_commit: 6566108
git_last_commit_date: 2025-10-29 11:32:30 -0400
nebbiolo1Linux (Ubuntu 24.04.3 LTS) / x86_64  OK    OK    ERROR  
Package 9/26HostnameOS / ArchINSTALLBUILDCHECKBUILD BIN
MsBackendMgf 1.19.0  (landing page)
RforMassSpectrometry Package Maintainer
git_last_commit: 3de3a3e
git_last_commit_date: 2025-10-29 11:06:57 -0400
nebbiolo1Linux (Ubuntu 24.04.3 LTS) / x86_64  OK    OK    OK  NO, package depends on 'Spectra' which is not available
Package 10/26HostnameOS / ArchINSTALLBUILDCHECKBUILD BIN
MsBackendMsp 1.15.0  (landing page)
Johannes Rainer
git_last_commit: 4b37244
git_last_commit_date: 2025-10-29 11:15:06 -0400
nebbiolo1Linux (Ubuntu 24.04.3 LTS) / x86_64  OK    OK    OK  NO, package depends on 'Spectra' which is not available
Package 11/26HostnameOS / ArchINSTALLBUILDCHECKBUILD BIN
MsBackendRawFileReader 1.17.0  (landing page)
Christian Panse
git_last_commit: c509d56
git_last_commit_date: 2025-10-29 11:12:57 -0400
nebbiolo1Linux (Ubuntu 24.04.3 LTS) / x86_64  OK    OK    OK  NO, package depends on 'Spectra' which is not available
Package 12/26HostnameOS / ArchINSTALLBUILDCHECKBUILD BIN
MsBackendSql 1.11.0  (landing page)
Johannes Rainer
git_last_commit: edb1158
git_last_commit_date: 2025-10-29 11:20:33 -0400
nebbiolo1Linux (Ubuntu 24.04.3 LTS) / x86_64  OK    OK    OK  NO, package depends on 'Spectra' which is not available
Package 13/26HostnameOS / ArchINSTALLBUILDCHECKBUILD BIN
MsExperiment 1.13.0  (landing page)
Laurent Gatto
git_last_commit: 18b0bf2
git_last_commit_date: 2025-10-29 11:18:49 -0400
nebbiolo1Linux (Ubuntu 24.04.3 LTS) / x86_64  OK    OK    OK  NO, package depends on 'IRanges' which is not available
Package 14/26HostnameOS / ArchINSTALLBUILDCHECKBUILD BIN
MsFeatures 1.19.0  (landing page)
Johannes Rainer
git_last_commit: e8548f3
git_last_commit_date: 2025-10-29 11:06:00 -0400
nebbiolo1Linux (Ubuntu 24.04.3 LTS) / x86_64  OK    OK    OK  NO, package depends on 'SummarizedExperiment' which is not available
Package 15/26HostnameOS / ArchINSTALLBUILDCHECKBUILD BIN
MSnbase 2.37.0  (landing page)
Laurent Gatto
git_last_commit: 3ca1ea4
git_last_commit_date: 2025-10-29 10:06:57 -0400
nebbiolo1Linux (Ubuntu 24.04.3 LTS) / x86_64  OK    OK    OK  NO, package depends on 'PSMatch' which is not available
Package 16/26HostnameOS / ArchINSTALLBUILDCHECKBUILD BIN
MSnID 1.45.0  (landing page)
Vlad Petyuk
git_last_commit: 7607478
git_last_commit_date: 2025-10-29 10:21:36 -0400
nebbiolo1Linux (Ubuntu 24.04.3 LTS) / x86_64  OK    OK    OK  NO, package depends on 'MSnbase' which is not available
Package 17/26HostnameOS / ArchINSTALLBUILDCHECKBUILD BIN
MsQuality 1.11.0  (landing page)
Thomas Naake
git_last_commit: 58f05c8
git_last_commit_date: 2025-10-29 11:20:21 -0400
nebbiolo1Linux (Ubuntu 24.04.3 LTS) / x86_64  OK    OK    OK  NO, package depends on 'MsExperiment' which is not available
Package 18/26HostnameOS / ArchINSTALLBUILDCHECKBUILD BIN
mzID 1.49.0  (landing page)
Laurent Gatto
git_last_commit: 0eea35c
git_last_commit_date: 2025-10-29 10:16:21 -0400
nebbiolo1Linux (Ubuntu 24.04.3 LTS) / x86_64  OK    OK    OK  YES
Package 19/26HostnameOS / ArchINSTALLBUILDCHECKBUILD BIN
mzR 2.45.0  (landing page)
Steffen Neumann
git_last_commit: b483816
git_last_commit_date: 2025-10-29 10:08:33 -0400
nebbiolo1Linux (Ubuntu 24.04.3 LTS) / x86_64  OK    OK    WARNINGS  YES
Package 20/26HostnameOS / ArchINSTALLBUILDCHECKBUILD BIN
PSMatch 1.15.0  (landing page)
Laurent Gatto
git_last_commit: 269b755
git_last_commit_date: 2025-10-29 11:15:29 -0400
nebbiolo1Linux (Ubuntu 24.04.3 LTS) / x86_64  OK    OK    OK  NO, package depends on 'Spectra' which is not available
Package 21/26HostnameOS / ArchINSTALLBUILDCHECKBUILD BIN
QFeatures 1.21.0  (landing page)
Laurent Gatto
git_last_commit: 9863a56
git_last_commit_date: 2025-10-29 11:01:30 -0400
nebbiolo1Linux (Ubuntu 24.04.3 LTS) / x86_64  OK    OK    OK  NO, package depends on 'MultiAssayExperiment' which is not available
Package 22/26HostnameOS / ArchINSTALLBUILDCHECKBUILD BIN
Spectra 1.21.0  (landing page)
RforMassSpectrometry Package Maintainer
git_last_commit: 3a71e5d
git_last_commit_date: 2025-10-29 11:01:49 -0400
nebbiolo1Linux (Ubuntu 24.04.3 LTS) / x86_64  OK    OK    OK  NO, package depends on 'IRanges' which is not available
Package 23/26HostnameOS / ArchINSTALLBUILDCHECKBUILD BIN
SpectraQL 1.5.0  (landing page)
Johannes Rainer
git_last_commit: 5d7973b
git_last_commit_date: 2025-10-29 11:31:53 -0400
nebbiolo1Linux (Ubuntu 24.04.3 LTS) / x86_64  OK    OK    OK  NO, package depends on 'Spectra' which is not available
Package 24/26HostnameOS / ArchINSTALLBUILDCHECKBUILD BIN
SpectriPy 1.1.0  (landing page)
Johannes Rainer
git_last_commit: 09e5773
git_last_commit_date: 2025-10-29 11:36:52 -0400
nebbiolo1Linux (Ubuntu 24.04.3 LTS) / x86_64  OK    OK    OK  NO, package depends on 'Spectra' which is not available
Package 25/26HostnameOS / ArchINSTALLBUILDCHECKBUILD BIN
topdownr 1.33.0  (landing page)
Sebastian Gibb
git_last_commit: 3979e4f
git_last_commit_date: 2025-10-29 10:41:42 -0400
nebbiolo1Linux (Ubuntu 24.04.3 LTS) / x86_64  OK    OK    OK  NO, package depends on 'Biostrings' which is not available
Package 26/26HostnameOS / ArchINSTALLBUILDCHECKBUILD BIN
xcms 4.9.0  (landing page)
Steffen Neumann
git_last_commit: 3321e90
git_last_commit_date: 2025-10-29 09:56:19 -0400
nebbiolo1Linux (Ubuntu 24.04.3 LTS) / x86_64  OK    OK    OK  NO, package depends on 'MSnbase' which is not available