Back to Multiple platform build/check report for BioC 3.22: simplified long |
|
This page was generated on 2025-10-18 12:04 -0400 (Sat, 18 Oct 2025).
Hostname | OS | Arch (*) | R version | Installed pkgs |
---|---|---|---|---|
nebbiolo2 | Linux (Ubuntu 24.04.3 LTS) | x86_64 | 4.5.1 Patched (2025-08-23 r88802) -- "Great Square Root" | 4887 |
lconway | macOS 12.7.6 Monterey | x86_64 | 4.5.1 Patched (2025-09-10 r88807) -- "Great Square Root" | 4677 |
kjohnson3 | macOS 13.7.7 Ventura | arm64 | 4.5.1 Patched (2025-09-10 r88807) -- "Great Square Root" | 4622 |
taishan | Linux (openEuler 24.03 LTS) | aarch64 | 4.5.0 (2025-04-11) -- "How About a Twenty-Six" | 4632 |
Click on any hostname to see more info about the system (e.g. compilers) (*) as reported by 'uname -p', except on Windows and Mac OS X |
Package 1372/2353 | Hostname | OS / Arch | INSTALL | BUILD | CHECK | BUILD BIN | ||||||||
MsBackendRawFileReader 1.15.1 (landing page) Christian Panse
| nebbiolo2 | Linux (Ubuntu 24.04.3 LTS) / x86_64 | OK | OK | OK | ![]() | ||||||||
lconway | macOS 12.7.6 Monterey / x86_64 | OK | OK | OK | OK | ![]() | ||||||||
kjohnson3 | macOS 13.7.7 Ventura / arm64 | OK | OK | OK | OK | ![]() | ||||||||
taishan | Linux (openEuler 24.03 LTS) / aarch64 | OK | ERROR | skipped | ||||||||||
To the developers/maintainers of the MsBackendRawFileReader package: - Allow up to 24 hours (and sometimes 48 hours) for your latest push to git@git.bioconductor.org:packages/MsBackendRawFileReader.git to reflect on this report. See Troubleshooting Build Report for more information. - Use the following Renviron settings to reproduce errors and warnings. - If 'R CMD check' started to fail recently on the Linux builder(s) over a missing dependency, add the missing dependency to 'Suggests:' in your DESCRIPTION file. See Renviron.bioc for more information. |
Package: MsBackendRawFileReader |
Version: 1.15.1 |
Command: /home/biocbuild/bbs-3.22-bioc/R/bin/R CMD check --install=check:MsBackendRawFileReader.install-out.txt --library=/home/biocbuild/bbs-3.22-bioc/R/site-library --timings MsBackendRawFileReader_1.15.1.tar.gz |
StartedAt: 2025-10-18 02:15:27 -0400 (Sat, 18 Oct 2025) |
EndedAt: 2025-10-18 02:20:03 -0400 (Sat, 18 Oct 2025) |
EllapsedTime: 276.2 seconds |
RetCode: 0 |
Status: OK |
CheckDir: MsBackendRawFileReader.Rcheck |
Warnings: 0 |
############################################################################## ############################################################################## ### ### Running command: ### ### /home/biocbuild/bbs-3.22-bioc/R/bin/R CMD check --install=check:MsBackendRawFileReader.install-out.txt --library=/home/biocbuild/bbs-3.22-bioc/R/site-library --timings MsBackendRawFileReader_1.15.1.tar.gz ### ############################################################################## ############################################################################## * using log directory ‘/home/biocbuild/bbs-3.22-bioc/meat/MsBackendRawFileReader.Rcheck’ * using R version 4.5.1 Patched (2025-08-23 r88802) * using platform: x86_64-pc-linux-gnu * R was compiled by gcc (Ubuntu 13.3.0-6ubuntu2~24.04) 13.3.0 GNU Fortran (Ubuntu 13.3.0-6ubuntu2~24.04) 13.3.0 * running under: Ubuntu 24.04.3 LTS * using session charset: UTF-8 * checking for file ‘MsBackendRawFileReader/DESCRIPTION’ ... OK * checking extension type ... Package * this is package ‘MsBackendRawFileReader’ version ‘1.15.1’ * package encoding: UTF-8 * checking package namespace information ... OK * checking package dependencies ... OK * checking if this is a source package ... OK * checking if there is a namespace ... OK * checking for hidden files and directories ... OK * checking for portable file names ... OK * checking for sufficient/correct file permissions ... OK * checking whether package ‘MsBackendRawFileReader’ can be installed ... OK * checking installed package size ... OK * checking package directory ... OK * checking ‘build’ directory ... OK * checking DESCRIPTION meta-information ... OK * checking top-level files ... OK * checking for left-over files ... OK * checking index information ... OK * checking package subdirectories ... OK * checking code files for non-ASCII characters ... OK * checking R files for syntax errors ... OK * checking whether the package can be loaded ... OK * checking whether the package can be loaded with stated dependencies ... OK * checking whether the package can be unloaded cleanly ... OK * checking whether the namespace can be loaded with stated dependencies ... OK * checking whether the namespace can be unloaded cleanly ... OK * checking loading without being on the library search path ... OK * checking whether startup messages can be suppressed ... OK * checking dependencies in R code ... OK * checking S3 generic/method consistency ... OK * checking replacement functions ... OK * checking foreign function calls ... OK * checking R code for possible problems ... OK * checking Rd files ... OK * checking Rd metadata ... OK * checking Rd cross-references ... OK * checking for missing documentation entries ... OK * checking for code/documentation mismatches ... OK * checking Rd \usage sections ... OK * checking Rd contents ... OK * checking for unstated dependencies in examples ... OK * checking files in ‘vignettes’ ... OK * checking examples ... OK Examples with CPU (user + system) or elapsed time > 5s user system elapsed ioBenchmark 32.402 5.856 11.281 MsBackendRawFileReader 6.418 2.109 8.939 * checking for unstated dependencies in ‘tests’ ... OK * checking tests ... Running ‘testthat.R’ OK * checking for unstated dependencies in vignettes ... OK * checking package vignettes ... OK * checking re-building of vignette outputs ... OK * checking PDF version of manual ... OK * DONE Status: OK
MsBackendRawFileReader.Rcheck/00install.out
############################################################################## ############################################################################## ### ### Running command: ### ### /home/biocbuild/bbs-3.22-bioc/R/bin/R CMD INSTALL MsBackendRawFileReader ### ############################################################################## ############################################################################## * installing to library ‘/home/biocbuild/bbs-3.22-bioc/R/site-library’ * installing *source* package ‘MsBackendRawFileReader’ ... ** this is package ‘MsBackendRawFileReader’ version ‘1.15.1’ ** using staged installation ** R ** inst ** byte-compile and prepare package for lazy loading ** help *** installing help indices ** building package indices ** installing vignettes ** testing if installed package can be loaded from temporary location ** testing if installed package can be loaded from final location ** testing if installed package keeps a record of temporary installation path * DONE (MsBackendRawFileReader)
MsBackendRawFileReader.Rcheck/tests/testthat.Rout
R version 4.5.1 Patched (2025-08-23 r88802) -- "Great Square Root" Copyright (C) 2025 The R Foundation for Statistical Computing Platform: x86_64-pc-linux-gnu R is free software and comes with ABSOLUTELY NO WARRANTY. You are welcome to redistribute it under certain conditions. Type 'license()' or 'licence()' for distribution details. R is a collaborative project with many contributors. Type 'contributors()' for more information and 'citation()' on how to cite R or R packages in publications. Type 'demo()' for some demos, 'help()' for on-line help, or 'help.start()' for an HTML browser interface to help. Type 'q()' to quit R. > library("testthat") > library("MsBackendRawFileReader") Loading required package: Spectra Loading required package: S4Vectors Loading required package: stats4 Loading required package: BiocGenerics Loading required package: generics Attaching package: 'generics' The following objects are masked from 'package:base': as.difftime, as.factor, as.ordered, intersect, is.element, setdiff, setequal, union Attaching package: 'BiocGenerics' The following objects are masked from 'package:stats': IQR, mad, sd, var, xtabs The following objects are masked from 'package:base': Filter, Find, Map, Position, Reduce, anyDuplicated, aperm, append, as.data.frame, basename, cbind, colnames, dirname, do.call, duplicated, eval, evalq, get, grep, grepl, is.unsorted, lapply, mapply, match, mget, order, paste, pmax, pmax.int, pmin, pmin.int, rank, rbind, rownames, sapply, saveRDS, table, tapply, unique, unsplit, which.max, which.min Attaching package: 'S4Vectors' The following object is masked from 'package:utils': findMatches The following objects are masked from 'package:base': I, expand.grid, unname Loading required package: BiocParallel > library("Spectra") > > > sample_raw_file <- file.path(system.file(package = "rawrr"), + 'extdata', 'sample.raw') > > sample_mzXML_file <- file.path(path.package(package = 'MsBackendRawFileReader'), + 'extdata', 'sample.mzXML') > > > sample_raw <- backendInitialize(MsBackendRawFileReader::MsBackendRawFileReader(), files = sample_raw_file) > > > #sample_mzr <- backendInitialize(MsBackendMzR(), files = sample_mzXML_file) > > > mgf_file <- file.path(system.file(package = "MsBackendRawFileReader"), + 'extdata', '3159619b11ed_4590_9594.mgf') > > > rv <- lapply(1:2, function(x){ + file.copy(from = sample_raw_file, to = tempfile(fileext='.raw'))}) > > > register(SnowParam(workers = 1, type = "SOCK") , default = TRUE); > sample_raw_2 <- backendInitialize(MsBackendRawFileReader(), + files = file.path(tempdir(), + list.files(path = tempdir(), pattern = 'raw$'))) > > > test_check("MsBackendRawFileReader") [ FAIL 0 | WARN 1 | SKIP 2 | PASS 21 ] ══ Skipped tests (2) ═══════════════════════════════════════════════════════════ • isFALSE(file.exists(sample_mzXML_file)) is TRUE (1): 'test_MsBackendMzR_MsBackendRawFileReader.R:1:1' • isFALSE(require(MsBackendRawMgf)) is TRUE (1): 'test_top_n_mgf.R:1:1' [ FAIL 0 | WARN 1 | SKIP 2 | PASS 21 ] > > > be <- Spectra::backendInitialize(MsBackendRawFileReader::MsBackendRawFileReader(), + files = c(sample_raw_file)) > > ## Run the MsBackend spectra variable test suite > > test_suite <- system.file("test_backends", "test_MsBackend", + package = "Spectra") > > #res <- test_file(paste0(test_suite, "/test_spectra_variables.R"), > # reporter = check_reporter(), stop_on_failure = TRUE) > > > ## Run the whole suite. > res <- test_dir(test_suite, stop_on_failure = TRUE) ✔ | F W S OK | Context ⠏ | 0 | peaks_variables ⠙ | 2 | peaks_variables ⠸ | 4 | peaks_variables ✔ | 4 | peaks_variables [3.8s] ⠏ | 0 | spectra_subsetting ⠋ | 1 | spectra_subsetting ⠴ | 16 | spectra_subsetting ⠋ | 31 | spectra_subsetting ⠦ | 47 | spectra_subsetting ⠋ | 61 | spectra_subsetting ⠧ | 78 | spectra_subsetting ⠸ | 94 | spectra_subsetting ⠹ | 103 | spectra_subsetting ⠇ | 119 | spectra_subsetting ⠸ | 134 | spectra_subsetting ⠧ | 148 | spectra_subsetting ⠼ | 165 | spectra_subsetting ⠧ | 178 | spectra_subsetting ⠴ | 196 | spectra_subsetting ⠋ | 211 | spectra_subsetting ⠧ | 228 | spectra_subsetting ⠸ | 244 | spectra_subsetting ⠇ | 259 | spectra_subsetting ⠦ | 277 | spectra_subsetting ⠙ | 292 | spectra_subsetting ⠦ | 307 | spectra_subsetting ⠙ | 322 | spectra_subsetting ⠇ | 339 | spectra_subsetting ⠼ | 355 | spectra_subsetting ⠋ | 371 | spectra_subsetting ⠧ | 388 | spectra_subsetting ⠹ | 403 | spectra_subsetting ⠏ | 420 | spectra_subsetting ⠹ | 433 | spectra_subsetting ⠇ | 449 | spectra_subsetting ⠴ | 466 | spectra_subsetting ⠋ | 481 | spectra_subsetting ⠇ | 499 | spectra_subsetting ⠸ | 514 | spectra_subsetting ⠏ | 530 | spectra_subsetting ⠸ | 544 | spectra_subsetting ⠏ | 560 | spectra_subsetting ⠼ | 575 | spectra_subsetting ⠇ | 589 | spectra_subsetting ⠼ | 605 | spectra_subsetting ⠇ | 619 | spectra_subsetting ⠦ | 637 | spectra_subsetting ⠙ | 652 | spectra_subsetting ⠦ | 667 | spectra_subsetting ⠸ | 684 | spectra_subsetting ⠦ | 697 | spectra_subsetting ⠹ | 713 | spectra_subsetting ⠦ | 727 | spectra_subsetting ⠹ | 743 | spectra_subsetting ⠧ | 758 | spectra_subsetting ⠙ | 772 | spectra_subsetting ⠦ | 787 | spectra_subsetting ⠙ | 802 | spectra_subsetting ⠏ | 820 | spectra_subsetting ⠼ | 835 | spectra_subsetting ⠏ | 850 | spectra_subsetting ⠼ | 865 | spectra_subsetting ⠏ | 880 | spectra_subsetting ⠴ | 896 | spectra_subsetting ⠏ | 910 | spectra_subsetting ⠼ | 925 | spectra_subsetting ⠏ | 940 | spectra_subsetting ⠼ | 955 | spectra_subsetting ⠋ | 971 | spectra_subsetting ⠹ | 983 | spectra_subsetting ⠴ | 996 | spectra_subsetting ⠇ | 1009 | spectra_subsetting ⠋ | 1021 | spectra_subsetting ⠇ | 1039 | spectra_subsetting ⠸ | 1054 | spectra_subsetting ⠇ | 1069 | spectra_subsetting ⠸ | 1084 | spectra_subsetting ⠧ | 1098 | spectra_subsetting ⠹ | 1113 | spectra_subsetting ⠴ | 1126 | spectra_subsetting ⠋ | 1141 | spectra_subsetting ⠦ | 1157 | spectra_subsetting ⠋ | 1171 | spectra_subsetting ⠴ | 1186 | spectra_subsetting ⠋ | 1201 | spectra_subsetting ⠴ | 1216 | spectra_subsetting ⠋ | 1231 | spectra_subsetting ⠹ | 1243 | spectra_subsetting ⠏ | 1260 | spectra_subsetting ⠸ | 1274 | spectra_subsetting ⠇ | 1289 | spectra_subsetting ⠼ | 1305 | spectra_subsetting ⠧ | 1318 | spectra_subsetting ⠼ | 1335 | spectra_subsetting ⠧ | 1348 | spectra_subsetting ⠹ | 1363 | spectra_subsetting ⠇ | 1379 | spectra_subsetting ⠼ | 1395 | spectra_subsetting ⠋ | 1411 | spectra_subsetting ⠴ | 1426 | spectra_subsetting ⠙ | 1442 | spectra_subsetting ⠴ | 1456 | spectra_subsetting ⠋ | 1471 | spectra_subsetting ⠴ | 1486 | spectra_subsetting ⠋ | 1501 | spectra_subsetting ⠇ | 1519 | spectra_subsetting ⠹ | 1533 | spectra_subsetting ⠇ | 1549 | spectra_subsetting ⠸ | 1564 | spectra_subsetting ⠇ | 1579 | spectra_subsetting ⠸ | 1594 | spectra_subsetting ⠦ | 1607 | spectra_subsetting ⠋ | 1621 | spectra_subsetting ⠸ | 1634 | spectra_subsetting ⠧ | 1648 | spectra_subsetting ⠹ | 1663 | spectra_subsetting ⠧ | 1678 | spectra_subsetting ⠸ | 1694 | spectra_subsetting ⠧ | 1708 | spectra_subsetting ⠹ | 1723 | spectra_subsetting ⠧ | 1728 | spectra_subsetting ⠋ | 1731 | spectra_subsetting ⠹ | 1733 | spectra_subsetting ⠼ | 1735 | spectra_subsetting ⠧ | 1738 | spectra_subsetting ⠋ | 1741 | spectra_subsetting ⠹ | 1743 | spectra_subsetting ⠴ | 1746 | spectra_subsetting ⠇ | 1749 | spectra_subsetting ⠙ | 1752 | spectra_subsetting ⠼ | 1755 | spectra_subsetting ⠧ | 1758 | spectra_subsetting ⠋ | 1761 | spectra_subsetting ⠸ | 1764 | spectra_subsetting ⠦ | 1767 | spectra_subsetting ⠏ | 1770 | spectra_subsetting ⠹ | 1773 | spectra_subsetting ⠴ | 1776 | spectra_subsetting ⠧ | 1778 | spectra_subsetting ⠋ | 1781 | spectra_subsetting ⠸ | 1784 | spectra_subsetting ⠦ | 1787 | spectra_subsetting ⠏ | 1790 | spectra_subsetting ⠹ | 1793 | spectra_subsetting ⠴ | 1796 | spectra_subsetting ⠇ | 1799 | spectra_subsetting ⠙ | 1802 | spectra_subsetting ⠼ | 1805 | spectra_subsetting ⠧ | 1808 | spectra_subsetting ⠋ | 1811 | spectra_subsetting ⠹ | 1813 | spectra_subsetting ⠴ | 1816 | spectra_subsetting ⠧ | 1818 | spectra_subsetting ⠋ | 1821 | spectra_subsetting ⠸ | 1824 | spectra_subsetting ⠴ | 1826 | spectra_subsetting ⠇ | 1829 | spectra_subsetting ⠋ | 1831 | spectra_subsetting ⠹ | 1833 | spectra_subsetting ⠼ | 1835 | spectra_subsetting ⠧ | 1838 | spectra_subsetting ⠏ | 1840 | spectra_subsetting ⠹ | 1843 | spectra_subsetting ⠴ | 1846 | spectra_subsetting ⠧ | 1848 | spectra_subsetting ⠋ | 1851 | spectra_subsetting ⠸ | 1854 | spectra_subsetting ⠦ | 1857 | spectra_subsetting ⠏ | 1860 | spectra_subsetting ⠙ | 1862 | spectra_subsetting ⠼ | 1865 | spectra_subsetting ⠧ | 1868 | spectra_subsetting ⠏ | 1870 | spectra_subsetting ⠹ | 1873 | spectra_subsetting ⠼ | 1875 | spectra_subsetting ⠧ | 1878 | spectra_subsetting ⠋ | 1881 | spectra_subsetting ⠸ | 1884 | spectra_subsetting ⠦ | 1887 | spectra_subsetting ⠏ | 1890 | spectra_subsetting ⠙ | 1892 | spectra_subsetting ⠼ | 1895 | spectra_subsetting ⠴ | 1896 | spectra_subsetting ⠇ | 1899 | spectra_subsetting ⠙ | 1902 | spectra_subsetting ⠼ | 1905 | spectra_subsetting ⠧ | 1908 | spectra_subsetting ⠋ | 1911 | spectra_subsetting ⠸ | 1914 | spectra_subsetting ⠦ | 1917 | spectra_subsetting ⠏ | 1920 | spectra_subsetting ⠹ | 1923 | spectra_subsetting ⠴ | 1926 | spectra_subsetting ⠇ | 1929 | spectra_subsetting ⠙ | 1932 | spectra_subsetting ⠼ | 1935 | spectra_subsetting ⠧ | 1938 | spectra_subsetting ⠋ | 1941 | spectra_subsetting ⠸ | 1944 | spectra_subsetting ⠦ | 1947 | spectra_subsetting ⠏ | 1950 | spectra_subsetting ⠹ | 1953 | spectra_subsetting ⠴ | 1956 | spectra_subsetting ⠇ | 1959 | spectra_subsetting ⠙ | 1962 | spectra_subsetting ⠼ | 1965 | spectra_subsetting ⠧ | 1968 | spectra_subsetting ⠋ | 1971 | spectra_subsetting ⠹ | 1973 | spectra_subsetting ⠴ | 1976 | spectra_subsetting ⠇ | 1979 | spectra_subsetting ⠋ | 1981 | spectra_subsetting ⠹ | 1983 | spectra_subsetting ⠼ | 1985 | spectra_subsetting ⠦ | 1987 | spectra_subsetting ⠏ | 1990 | spectra_subsetting ⠹ | 1993 | spectra_subsetting ⠴ | 1996 | spectra_subsetting ⠇ | 1999 | spectra_subsetting ⠙ | 2002 | spectra_subsetting ⠼ | 2005 | spectra_subsetting ⠧ | 2008 | spectra_subsetting ⠋ | 2011 | spectra_subsetting ⠸ | 2014 | spectra_subsetting ⠦ | 2017 | spectra_subsetting ⠏ | 2020 | spectra_subsetting ⠹ | 2023 | spectra_subsetting ⠴ | 2026 | spectra_subsetting ⠧ | 2028 | spectra_subsetting ⠋ | 2031 | spectra_subsetting ⠸ | 2034 | spectra_subsetting ⠦ | 2037 | spectra_subsetting ⠏ | 2040 | spectra_subsetting ⠹ | 2043 | spectra_subsetting ⠴ | 2046 | spectra_subsetting ⠇ | 2049 | spectra_subsetting ⠙ | 2052 | spectra_subsetting ⠼ | 2055 | spectra_subsetting ⠧ | 2058 | spectra_subsetting ⠋ | 2061 | spectra_subsetting ⠸ | 2064 | spectra_subsetting ⠦ | 2067 | spectra_subsetting ⠏ | 2070 | spectra_subsetting ⠹ | 2073 | spectra_subsetting ⠴ | 2076 | spectra_subsetting ⠇ | 2079 | spectra_subsetting ⠙ | 2082 | spectra_subsetting ⠼ | 2085 | spectra_subsetting ⠧ | 2088 | spectra_subsetting ⠋ | 2091 | spectra_subsetting ⠸ | 2094 | spectra_subsetting ⠦ | 2097 | spectra_subsetting ⠏ | 2100 | spectra_subsetting ⠹ | 2103 | spectra_subsetting ⠴ | 2106 | spectra_subsetting ⠇ | 2109 | spectra_subsetting ⠙ | 2112 | spectra_subsetting ⠼ | 2115 | spectra_subsetting ⠧ | 2118 | spectra_subsetting ⠋ | 2121 | spectra_subsetting ⠸ | 2124 | spectra_subsetting ⠦ | 2127 | spectra_subsetting ⠏ | 2130 | spectra_subsetting ⠹ | 2133 | spectra_subsetting ⠴ | 2136 | spectra_subsetting ⠇ | 2139 | spectra_subsetting ⠙ | 2142 | spectra_subsetting ⠼ | 2145 | spectra_subsetting ⠧ | 2148 | spectra_subsetting ⠋ | 2151 | spectra_subsetting ⠸ | 2154 | spectra_subsetting ⠦ | 2157 | spectra_subsetting ⠏ | 2160 | spectra_subsetting ⠹ | 2163 | spectra_subsetting ⠴ | 2166 | spectra_subsetting ⠇ | 2169 | spectra_subsetting ⠙ | 2172 | spectra_subsetting ⠼ | 2175 | spectra_subsetting ⠧ | 2178 | spectra_subsetting ⠋ | 2181 | spectra_subsetting ⠸ | 2184 | spectra_subsetting ⠦ | 2187 | spectra_subsetting ⠏ | 2190 | spectra_subsetting ⠹ | 2193 | spectra_subsetting ⠴ | 2196 | spectra_subsetting ⠇ | 2199 | spectra_subsetting ⠙ | 2202 | spectra_subsetting ⠼ | 2205 | spectra_subsetting ⠧ | 2208 | spectra_subsetting ⠋ | 2211 | spectra_subsetting ⠸ | 2214 | spectra_subsetting ⠦ | 2217 | spectra_subsetting ⠏ | 2220 | spectra_subsetting ⠹ | 2223 | spectra_subsetting ⠴ | 2226 | spectra_subsetting ⠇ | 2229 | spectra_subsetting ⠙ | 2232 | spectra_subsetting ⠼ | 2235 | spectra_subsetting ⠧ | 2238 | spectra_subsetting ⠋ | 2241 | spectra_subsetting ⠸ | 2244 | spectra_subsetting ⠦ | 2247 | spectra_subsetting ⠏ | 2250 | spectra_subsetting ⠹ | 2253 | spectra_subsetting ⠴ | 2256 | spectra_subsetting ⠇ | 2259 | spectra_subsetting ⠙ | 2262 | spectra_subsetting ⠼ | 2265 | spectra_subsetting ⠧ | 2268 | spectra_subsetting ⠋ | 2271 | spectra_subsetting ⠹ | 2273 | spectra_subsetting ⠴ | 2276 | spectra_subsetting ⠇ | 2279 | spectra_subsetting ⠙ | 2282 | spectra_subsetting ⠼ | 2285 | spectra_subsetting ⠧ | 2288 | spectra_subsetting ⠋ | 2291 | spectra_subsetting ⠸ | 2294 | spectra_subsetting ⠦ | 2297 | spectra_subsetting ⠏ | 2300 | spectra_subsetting ⠼ | 2305 | spectra_subsetting ⠹ | 2313 | spectra_subsetting ⠙ | 2322 | spectra_subsetting ⠏ | 2330 | spectra_subsetting ⠸ | 2334 | spectra_subsetting ✔ | 2342 | spectra_subsetting [39.8s] ⠏ | 0 | spectra_variables ⠙ | 12 | spectra_variables ⠸ | 14 | spectra_variables ⠴ | 16 | spectra_variables ⠦ | 27 | spectra_variables ⠇ | 29 | spectra_variables ⠋ | 31 | spectra_variables ⠹ | 43 | spectra_variables ⠋ | 1 60 | spectra_variables ✔ | 1 62 | spectra_variables [14.1s] ══ Results ═════════════════════════════════════════════════════════════════════ Duration: 57.7 s ── Skipped tests (1) ─────────────────────────────────────────────────────────── • empty test (1): 'test_spectra_variables.R:262:1' [ FAIL 0 | WARN 0 | SKIP 1 | PASS 2408 ] > > proc.time() user system elapsed 78.957 7.662 89.143
MsBackendRawFileReader.Rcheck/MsBackendRawFileReader-Ex.timings
name | user | system | elapsed | |
MsBackendRawFileReader-class | 2.979 | 0.752 | 4.042 | |
MsBackendRawFileReader | 6.418 | 2.109 | 8.939 | |
hidden_aliases | 2.065 | 0.723 | 2.957 | |
ioBenchmark | 32.402 | 5.856 | 11.281 | |