Back to Multiple platform build/check report for BioC 3.22:   simplified   long
ABCDEFGHIJKLMNO[P]QRSTUVWXYZ

This page was generated on 2025-10-10 12:07 -0400 (Fri, 10 Oct 2025).

HostnameOSArch (*)R versionInstalled pkgs
nebbiolo2Linux (Ubuntu 24.04.3 LTS)x86_644.5.1 Patched (2025-08-23 r88802) -- "Great Square Root" 4854
lconwaymacOS 12.7.1 Montereyx86_644.5.1 Patched (2025-09-10 r88807) -- "Great Square Root" 4642
kjohnson3macOS 13.7.7 Venturaarm644.5.1 Patched (2025-09-10 r88807) -- "Great Square Root" 4587
taishanLinux (openEuler 24.03 LTS)aarch644.5.0 (2025-04-11) -- "How About a Twenty-Six" 4586
Click on any hostname to see more info about the system (e.g. compilers)      (*) as reported by 'uname -p', except on Windows and Mac OS X

Package 1580/2341HostnameOS / ArchINSTALLBUILDCHECKBUILD BIN
PhyloProfile 2.1.11  (landing page)
Vinh Tran
Snapshot Date: 2025-10-09 13:45 -0400 (Thu, 09 Oct 2025)
git_url: https://git.bioconductor.org/packages/PhyloProfile
git_branch: devel
git_last_commit: 70712c9
git_last_commit_date: 2025-10-05 08:05:12 -0400 (Sun, 05 Oct 2025)
nebbiolo2Linux (Ubuntu 24.04.3 LTS) / x86_64  OK    OK    OK  UNNEEDED, same version is already published
lconwaymacOS 12.7.1 Monterey / x86_64  OK    OK    OK    OK  UNNEEDED, same version is already published
kjohnson3macOS 13.7.7 Ventura / arm64  OK    OK    OK    OK  UNNEEDED, same version is already published
taishanLinux (openEuler 24.03 LTS) / aarch64  OK    OK    OK  


CHECK results for PhyloProfile on taishan

To the developers/maintainers of the PhyloProfile package:
- Allow up to 24 hours (and sometimes 48 hours) for your latest push to git@git.bioconductor.org:packages/PhyloProfile.git to reflect on this report. See Troubleshooting Build Report for more information.
- Use the following Renviron settings to reproduce errors and warnings.
- If 'R CMD check' started to fail recently on the Linux builder(s) over a missing dependency, add the missing dependency to 'Suggests:' in your DESCRIPTION file. See Renviron.bioc for more information.
- See Martin Grigorov's blog post for how to debug Linux ARM64 related issues on a x86_64 host.

raw results


Summary

Package: PhyloProfile
Version: 2.1.11
Command: /home/biocbuild/R/R/bin/R CMD check --install=check:PhyloProfile.install-out.txt --library=/home/biocbuild/R/R/site-library --no-vignettes --timings PhyloProfile_2.1.11.tar.gz
StartedAt: 2025-10-10 11:55:58 -0000 (Fri, 10 Oct 2025)
EndedAt: 2025-10-10 12:00:02 -0000 (Fri, 10 Oct 2025)
EllapsedTime: 243.4 seconds
RetCode: 0
Status:   OK  
CheckDir: PhyloProfile.Rcheck
Warnings: 0

Command output

##############################################################################
##############################################################################
###
### Running command:
###
###   /home/biocbuild/R/R/bin/R CMD check --install=check:PhyloProfile.install-out.txt --library=/home/biocbuild/R/R/site-library --no-vignettes --timings PhyloProfile_2.1.11.tar.gz
###
##############################################################################
##############################################################################


* using log directory ‘/home/biocbuild/bbs-3.22-bioc/meat/PhyloProfile.Rcheck’
* using R version 4.5.0 (2025-04-11)
* using platform: aarch64-unknown-linux-gnu
* R was compiled by
    aarch64-unknown-linux-gnu-gcc (GCC) 14.2.0
    GNU Fortran (GCC) 14.2.0
* running under: openEuler 24.03 (LTS)
* using session charset: UTF-8
* using option ‘--no-vignettes’
* checking for file ‘PhyloProfile/DESCRIPTION’ ... OK
* this is package ‘PhyloProfile’ version ‘2.1.11’
* package encoding: UTF-8
* checking package namespace information ... OK
* checking package dependencies ... INFO
Imports includes 31 non-default packages.
Importing from so many packages makes the package vulnerable to any of
them becoming unavailable.  Move as many as possible to Suggests and
use conditionally.
* checking if this is a source package ... OK
* checking if there is a namespace ... OK
* checking for hidden files and directories ... OK
* checking for portable file names ... OK
* checking for sufficient/correct file permissions ... OK
* checking whether package ‘PhyloProfile’ can be installed ... OK
* checking installed package size ... OK
* checking package directory ... OK
* checking ‘build’ directory ... OK
* checking DESCRIPTION meta-information ... OK
* checking top-level files ... OK
* checking for left-over files ... OK
* checking index information ... OK
* checking package subdirectories ... OK
* checking code files for non-ASCII characters ... OK
* checking R files for syntax errors ... OK
* checking whether the package can be loaded ... OK
* checking whether the package can be loaded with stated dependencies ... OK
* checking whether the package can be unloaded cleanly ... OK
* checking whether the namespace can be loaded with stated dependencies ... OK
* checking whether the namespace can be unloaded cleanly ... OK
* checking loading without being on the library search path ... OK
* checking dependencies in R code ... OK
* checking S3 generic/method consistency ... OK
* checking replacement functions ... OK
* checking foreign function calls ... OK
* checking R code for possible problems ... OK
* checking Rd files ... OK
* checking Rd metadata ... OK
* checking Rd cross-references ... OK
* checking for missing documentation entries ... OK
* checking for code/documentation mismatches ... OK
* checking Rd \usage sections ... OK
* checking Rd contents ... OK
* checking for unstated dependencies in examples ... OK
* checking contents of ‘data’ directory ... OK
* checking data for non-ASCII characters ... OK
* checking data for ASCII and uncompressed saves ... OK
* checking files in ‘vignettes’ ... OK
* checking examples ... OK
* checking for unstated dependencies in ‘tests’ ... OK
* checking tests ...
  Running ‘testthat.R’
 OK
* checking for unstated dependencies in vignettes ... OK
* checking package vignettes ... OK
* checking running R code from vignettes ... SKIPPED
* checking re-building of vignette outputs ... SKIPPED
* checking PDF version of manual ... OK
* DONE

Status: OK


Installation output

PhyloProfile.Rcheck/00install.out

##############################################################################
##############################################################################
###
### Running command:
###
###   /home/biocbuild/R/R/bin/R CMD INSTALL PhyloProfile
###
##############################################################################
##############################################################################


* installing to library ‘/home/biocbuild/R/R-4.5.0/site-library’
* installing *source* package ‘PhyloProfile’ ...
** this is package ‘PhyloProfile’ version ‘2.1.11’
** using staged installation
** R
** data
** inst
** byte-compile and prepare package for lazy loading
** help
*** installing help indices
** building package indices
** installing vignettes
** testing if installed package can be loaded from temporary location
** testing if installed package can be loaded from final location
** testing if installed package keeps a record of temporary installation path
* DONE (PhyloProfile)

Tests output

PhyloProfile.Rcheck/tests/testthat.Rout


R version 4.5.0 (2025-04-11) -- "How About a Twenty-Six"
Copyright (C) 2025 The R Foundation for Statistical Computing
Platform: aarch64-unknown-linux-gnu

R is free software and comes with ABSOLUTELY NO WARRANTY.
You are welcome to redistribute it under certain conditions.
Type 'license()' or 'licence()' for distribution details.

R is a collaborative project with many contributors.
Type 'contributors()' for more information and
'citation()' on how to cite R or R packages in publications.

Type 'demo()' for some demos, 'help()' for on-line help, or
'help.start()' for an HTML browser interface to help.
Type 'q()' to quit R.

> library(testthat)
> library(PhyloProfile)
> 
> test_check("PhyloProfile")
[ FAIL 0 | WARN 0 | SKIP 0 | PASS 22 ]
> 
> proc.time()
   user  system elapsed 
   9.58    0.49   10.95 

Example timings

PhyloProfile.Rcheck/PhyloProfile-Ex.timings

nameusersystemelapsed
addDimRedTaxaColors0.9670.0451.097
addFeatureColors0.0440.0000.086
addRankDivisionPlot1.9020.1512.264
calcPresSpec0.0460.0000.046
checkColorPalette000
checkInputValidity0.0050.0000.014
checkNewick0.0020.0010.003
checkOmaID000
checkOverlapDomains0.0210.0000.048
clusterDataDend0.0250.0000.048
compareMedianTaxonGroups0.0330.0000.064
compareTaxonGroups0.0440.0000.094
createArchiPlot3.1280.0893.825
createDimRedPlotData0.7520.0160.769
createGeneAgePlot0.4750.0040.580
createLongMatrix0.0180.0000.033
createPercentageDistributionData0.0900.0040.139
createProfileFromOma0.0010.0000.000
createUnrootedTree0.0170.0000.032
createVarDistPlot0.3740.0110.400
createVariableDistributionData0.0060.0000.007
createVariableDistributionDataSubset0.0050.0040.009
dataCustomizedPlot0.0410.0000.041
dataFeatureTaxGroup0.0160.0000.016
dataMainPlot0.0470.0000.048
dataVarDistTaxGroup0.0060.0000.006
dimReduction0.8170.0190.913
estimateGeneAge0.1600.0160.177
fastaParser0.0490.0000.092
featureDistTaxPlot0.4740.0010.710
filterProfileData0.1570.0070.165
fromInputToProfile0.2160.0080.224
geneAgePlotDf0.010.000.01
generateSinglePlot0.7180.0210.766
getAllDomainsOma000
getAllFastaOma000
getCommonAncestor0.0420.0000.042
getCoreGene0.1170.0000.117
getDataClustering0.0210.0000.021
getDataForOneOma000
getDendrogram0.0560.0030.061
getDistanceMatrix0.0200.0010.021
getDomainFolder0.0010.0000.000
getFastaFromFasInput0.0170.0000.017
getFastaFromFile0.0100.0040.028
getFastaFromFolder0.0100.0000.021
getIDsRank0.0280.0000.053
getInputTaxaID0.0020.0000.002
getInputTaxaName0.0140.0000.026
getNameList0.0150.0040.039
getOmaDataForOneOrtholog000
getOmaDomainFromURL000
getOmaMembers000
getQualColForVector0.0010.0000.000
getSelectedFastaOma000
getSelectedTaxonNames0.0210.0000.045
getTaxHierarchy0.0200.0000.045
getTaxonomyInfo0.0190.0000.021
getTaxonomyMatrix0.0820.0200.107
getTaxonomyRanks000
gridArrangeSharedLegend000
groupLabelDimRedData0.0850.0000.085
heatmapPlotting0.6190.0120.634
heatmapPlottingFast4.4890.1484.774
highlightProfilePlot0.6840.0080.770
id2name0.0050.0000.005
joinPlotMergeLegends1.1830.0201.209
linearizeArchitecture0.0110.0000.012
mainTaxonomyRank000
modifyFeatureName0.0120.0040.015
pairDomainPlotting0.8640.0120.878
parseDomainInput0.0140.0000.014
parseInfoProfile0.1550.0000.156
plotDimRed1.5680.0351.673
plotDimRed3D1.1050.0481.157
prepareDimRedData0.0630.0040.067
processNcbiTaxonomy000
processOrthoID0.1700.0400.653
qualitativeColours0.0010.0000.000
rankIndexing0.0630.0000.066
reduceProfile0.1140.0040.117
resolveOverlapFeatures0.0200.0000.021
runPhyloProfile0.1010.0080.118
singleDomainPlotting0.3920.0010.455
sortDomains0.0090.0000.010
sortDomainsByList0.0110.0000.011
sortInputTaxa0.0340.0000.034
sortTaxaFromTree0.0150.0000.014
taxonomyTableCreator0.1300.0120.158
varDistTaxPlot1.6360.0121.656
wideToLong0.010.000.01
xmlParser0.0220.0000.031