Back to Multiple platform build/check report for BioC 3.23:   simplified   long
ABCDEFGHIJKLMNO[P]QRSTUVWXYZ

This page was generated on 2025-11-21 11:38 -0500 (Fri, 21 Nov 2025).

HostnameOSArch (*)R versionInstalled pkgs
nebbiolo1Linux (Ubuntu 24.04.3 LTS)x86_64R Under development (unstable) (2025-10-20 r88955) -- "Unsuffered Consequences" 4829
lconwaymacOS 12.7.6 Montereyx86_64R Under development (unstable) (2025-10-21 r88958) -- "Unsuffered Consequences" 4602
kjohnson3macOS 13.7.7 Venturaarm64R Under development (unstable) (2025-11-04 r88984) -- "Unsuffered Consequences" 4566
Click on any hostname to see more info about the system (e.g. compilers)      (*) as reported by 'uname -p', except on Windows and Mac OS X

Package 1576/2327HostnameOS / ArchINSTALLBUILDCHECKBUILD BIN
PhyloProfile 2.3.2  (landing page)
Vinh Tran
Snapshot Date: 2025-11-20 13:40 -0500 (Thu, 20 Nov 2025)
git_url: https://git.bioconductor.org/packages/PhyloProfile
git_branch: devel
git_last_commit: 139f3a1
git_last_commit_date: 2025-11-18 05:18:17 -0500 (Tue, 18 Nov 2025)
nebbiolo1Linux (Ubuntu 24.04.3 LTS) / x86_64  OK    OK    OK  UNNEEDED, same version is already published
lconwaymacOS 12.7.6 Monterey / x86_64  OK    OK    OK    OK  UNNEEDED, same version is already published
kjohnson3macOS 13.7.7 Ventura / arm64  OK    OK    OK    OK  UNNEEDED, same version is already published


CHECK results for PhyloProfile on nebbiolo1

To the developers/maintainers of the PhyloProfile package:
- Allow up to 24 hours (and sometimes 48 hours) for your latest push to git@git.bioconductor.org:packages/PhyloProfile.git to reflect on this report. See Troubleshooting Build Report for more information.
- Use the following Renviron settings to reproduce errors and warnings.
- If 'R CMD check' started to fail recently on the Linux builder(s) over a missing dependency, add the missing dependency to 'Suggests:' in your DESCRIPTION file. See Renviron.bioc for more information.

raw results


Summary

Package: PhyloProfile
Version: 2.3.2
Command: /home/biocbuild/bbs-3.23-bioc/R/bin/R CMD check --install=check:PhyloProfile.install-out.txt --library=/home/biocbuild/bbs-3.23-bioc/R/site-library --timings PhyloProfile_2.3.2.tar.gz
StartedAt: 2025-11-21 02:36:57 -0500 (Fri, 21 Nov 2025)
EndedAt: 2025-11-21 02:40:01 -0500 (Fri, 21 Nov 2025)
EllapsedTime: 184.2 seconds
RetCode: 0
Status:   OK  
CheckDir: PhyloProfile.Rcheck
Warnings: 0

Command output

##############################################################################
##############################################################################
###
### Running command:
###
###   /home/biocbuild/bbs-3.23-bioc/R/bin/R CMD check --install=check:PhyloProfile.install-out.txt --library=/home/biocbuild/bbs-3.23-bioc/R/site-library --timings PhyloProfile_2.3.2.tar.gz
###
##############################################################################
##############################################################################


* using log directory ‘/home/biocbuild/bbs-3.23-bioc/meat/PhyloProfile.Rcheck’
* using R Under development (unstable) (2025-10-20 r88955)
* using platform: x86_64-pc-linux-gnu
* R was compiled by
    gcc (Ubuntu 13.3.0-6ubuntu2~24.04) 13.3.0
    GNU Fortran (Ubuntu 13.3.0-6ubuntu2~24.04) 13.3.0
* running under: Ubuntu 24.04.3 LTS
* using session charset: UTF-8
* checking for file ‘PhyloProfile/DESCRIPTION’ ... OK
* this is package ‘PhyloProfile’ version ‘2.3.2’
* package encoding: UTF-8
* checking package namespace information ... OK
* checking package dependencies ... INFO
Imports includes 31 non-default packages.
Importing from so many packages makes the package vulnerable to any of
them becoming unavailable.  Move as many as possible to Suggests and
use conditionally.
* checking if this is a source package ... OK
* checking if there is a namespace ... OK
* checking for hidden files and directories ... OK
* checking for portable file names ... OK
* checking for sufficient/correct file permissions ... OK
* checking whether package ‘PhyloProfile’ can be installed ... OK
* checking installed package size ... OK
* checking package directory ... OK
* checking ‘build’ directory ... OK
* checking DESCRIPTION meta-information ... OK
* checking top-level files ... OK
* checking for left-over files ... OK
* checking index information ... OK
* checking package subdirectories ... OK
* checking code files for non-ASCII characters ... OK
* checking R files for syntax errors ... OK
* checking whether the package can be loaded ... OK
* checking whether the package can be loaded with stated dependencies ... OK
* checking whether the package can be unloaded cleanly ... OK
* checking whether the namespace can be loaded with stated dependencies ... OK
* checking whether the namespace can be unloaded cleanly ... OK
* checking loading without being on the library search path ... OK
* checking dependencies in R code ... OK
* checking S3 generic/method consistency ... OK
* checking replacement functions ... OK
* checking foreign function calls ... OK
* checking R code for possible problems ... OK
* checking Rd files ... OK
* checking Rd metadata ... OK
* checking Rd cross-references ... OK
* checking for missing documentation entries ... OK
* checking for code/documentation mismatches ... OK
* checking Rd \usage sections ... OK
* checking Rd contents ... OK
* checking for unstated dependencies in examples ... OK
* checking contents of ‘data’ directory ... OK
* checking data for non-ASCII characters ... OK
* checking data for ASCII and uncompressed saves ... OK
* checking files in ‘vignettes’ ... OK
* checking examples ... OK
* checking for unstated dependencies in ‘tests’ ... OK
* checking tests ...
  Running ‘testthat.R’
 OK
* checking for unstated dependencies in vignettes ... OK
* checking package vignettes ... OK
* checking re-building of vignette outputs ... OK
* checking PDF version of manual ... OK
* DONE

Status: OK


Installation output

PhyloProfile.Rcheck/00install.out

##############################################################################
##############################################################################
###
### Running command:
###
###   /home/biocbuild/bbs-3.23-bioc/R/bin/R CMD INSTALL PhyloProfile
###
##############################################################################
##############################################################################


* installing to library ‘/home/biocbuild/bbs-3.23-bioc/R/site-library’
* installing *source* package ‘PhyloProfile’ ...
** this is package ‘PhyloProfile’ version ‘2.3.2’
** using staged installation
** R
** data
** inst
** byte-compile and prepare package for lazy loading
** help
*** installing help indices
** building package indices
** installing vignettes
** testing if installed package can be loaded from temporary location
** testing if installed package can be loaded from final location
** testing if installed package keeps a record of temporary installation path
* DONE (PhyloProfile)

Tests output

PhyloProfile.Rcheck/tests/testthat.Rout


R Under development (unstable) (2025-10-20 r88955) -- "Unsuffered Consequences"
Copyright (C) 2025 The R Foundation for Statistical Computing
Platform: x86_64-pc-linux-gnu

R is free software and comes with ABSOLUTELY NO WARRANTY.
You are welcome to redistribute it under certain conditions.
Type 'license()' or 'licence()' for distribution details.

R is a collaborative project with many contributors.
Type 'contributors()' for more information and
'citation()' on how to cite R or R packages in publications.

Type 'demo()' for some demos, 'help()' for on-line help, or
'help.start()' for an HTML browser interface to help.
Type 'q()' to quit R.

> library(testthat)
> library(PhyloProfile)
> 
> test_check("PhyloProfile")
[ FAIL 0 | WARN 0 | SKIP 1 | PASS 22 ]

══ Skipped tests (1) ═══════════════════════════════════════════════════════════
• empty test (1):

[ FAIL 0 | WARN 0 | SKIP 1 | PASS 22 ]
> 
> proc.time()
   user  system elapsed 
  7.125   0.512   7.625 

Example timings

PhyloProfile.Rcheck/PhyloProfile-Ex.timings

nameusersystemelapsed
addDimRedTaxaColors0.6930.0250.719
addFeatureColors0.0260.0050.031
addRankDivisionPlot0.9960.0371.033
calcPresSpec0.0340.0010.036
checkColorPalette0.0010.0000.001
checkInputValidity0.0040.0000.004
checkNewick0.0020.0000.003
checkOmaID000
checkOverlapDomains0.0140.0010.015
clusterDataDend0.0180.0010.018
compareMedianTaxonGroups0.0240.0010.025
compareTaxonGroups0.5580.0910.649
createArchiPlot1.9680.0171.985
createDimRedPlotData0.5630.0260.587
createGeneAgePlot0.2990.0010.299
createLongMatrix0.0120.0060.018
createPercentageDistributionData0.0600.0070.067
createProfileFromOma000
createUnrootedTree0.0110.0010.012
createVarDistPlot0.2450.0010.246
createVariableDistributionData0.0060.0010.008
createVariableDistributionDataSubset0.0060.0010.007
dataCustomizedPlot0.0280.0010.030
dataFeatureTaxGroup0.0110.0020.013
dataMainPlot0.0340.0090.043
dataVarDistTaxGroup0.0050.0000.006
dimReduction0.5740.0130.587
estimateGeneAge0.1180.0030.121
fastaParser0.0290.0010.030
featureDistTaxPlot0.3140.0000.316
filterProfileData0.1040.0240.129
fromInputToProfile0.1530.0070.159
geneAgePlotDf0.0070.0000.007
generateSinglePlot0.4350.0060.441
getAllDomainsOma0.0000.0000.001
getAllFastaOma000
getCommonAncestor0.0240.0070.030
getCoreGene0.0810.0020.082
getDataClustering0.0130.0010.016
getDataForOneOma0.0000.0000.001
getDendrogram0.0400.0040.043
getDistanceMatrix0.0160.0000.016
getDomainFolder0.0000.0000.001
getFastaFromFasInput0.0120.0000.014
getFastaFromFile0.0080.0000.010
getFastaFromFolder0.0060.0000.008
getIDsRank0.0170.0020.019
getInputTaxaID0.0010.0010.003
getInputTaxaName0.010.000.01
getNameList0.0110.0260.037
getOmaDataForOneOrtholog0.0000.0010.000
getOmaDomainFromURL000
getOmaMembers000
getQualColForVector0.0000.0010.001
getSelectedFastaOma000
getSelectedTaxonNames0.0120.0040.015
getTaxHierarchy0.0120.0020.014
getTaxonomyInfo0.0120.0010.013
getTaxonomyMatrix0.0650.0960.162
getTaxonomyRanks000
gridArrangeSharedLegend000
groupLabelDimRedData0.0570.0040.061
heatmapPlotting0.3970.0020.399
heatmapPlottingFast4.4010.4044.473
highlightProfilePlot0.4760.0060.483
id2name0.0040.0000.005
joinPlotMergeLegends0.7430.0000.750
linearizeArchitecture0.0080.0000.008
mainTaxonomyRank0.0000.0000.001
modifyFeatureName0.0100.0170.028
pairDomainPlotting0.5250.0010.526
parseDomainInput0.0090.0170.026
parseInfoProfile0.0980.0020.100
plotDimRed0.9420.0310.972
plotDimRed3D0.8140.0110.825
prepareDimRedData0.0460.0020.048
processNcbiTaxonomy000
processOrthoID0.1220.0230.161
qualitativeColours0.0010.0000.000
rankIndexing0.0380.0010.038
reduceProfile0.0420.0000.042
resolveOverlapFeatures0.0140.0010.015
runPhyloProfile0.0820.0110.094
singleDomainPlotting0.2570.0040.261
sortDomains0.0050.0020.007
sortDomainsByList0.0090.0000.009
sortInputTaxa0.0240.0020.026
sortTaxaFromTree0.0090.0010.010
taxonomyTableCreator0.0790.0010.080
varDistTaxPlot1.0640.0351.098
wideToLong0.0090.0060.016
xmlParser0.0140.0020.016