Back to Multiple platform build/check report for BioC 3.22:   simplified   long
ABCDEFGHIJKLMNO[P]QRSTUVWXYZ

This page was generated on 2025-09-30 12:07 -0400 (Tue, 30 Sep 2025).

HostnameOSArch (*)R versionInstalled pkgs
nebbiolo2Linux (Ubuntu 24.04.3 LTS)x86_644.5.1 Patched (2025-08-23 r88802) -- "Great Square Root" 4843
lconwaymacOS 12.7.1 Montereyx86_644.5.1 Patched (2025-09-10 r88807) -- "Great Square Root" 4631
kjohnson3macOS 13.7.7 Venturaarm644.5.1 Patched (2025-09-10 r88807) -- "Great Square Root" 4575
taishanLinux (openEuler 24.03 LTS)aarch644.5.0 (2025-04-11) -- "How About a Twenty-Six" 4576
Click on any hostname to see more info about the system (e.g. compilers)      (*) as reported by 'uname -p', except on Windows and Mac OS X

Package 1577/2337HostnameOS / ArchINSTALLBUILDCHECKBUILD BIN
PhosR 1.19.2  (landing page)
Di Xiao
Snapshot Date: 2025-09-29 13:45 -0400 (Mon, 29 Sep 2025)
git_url: https://git.bioconductor.org/packages/PhosR
git_branch: devel
git_last_commit: 6ee352c
git_last_commit_date: 2025-09-09 05:32:59 -0400 (Tue, 09 Sep 2025)
nebbiolo2Linux (Ubuntu 24.04.3 LTS) / x86_64  OK    OK    OK  UNNEEDED, same version is already published
lconwaymacOS 12.7.1 Monterey / x86_64  OK    OK    OK    OK  UNNEEDED, same version is already published
kjohnson3macOS 13.7.7 Ventura / arm64  OK    OK    OK    OK  UNNEEDED, same version is already published
taishanLinux (openEuler 24.03 LTS) / aarch64  OK    OK    OK  


CHECK results for PhosR on taishan

To the developers/maintainers of the PhosR package:
- Allow up to 24 hours (and sometimes 48 hours) for your latest push to git@git.bioconductor.org:packages/PhosR.git to reflect on this report. See Troubleshooting Build Report for more information.
- Use the following Renviron settings to reproduce errors and warnings.
- If 'R CMD check' started to fail recently on the Linux builder(s) over a missing dependency, add the missing dependency to 'Suggests:' in your DESCRIPTION file. See Renviron.bioc for more information.
- See Martin Grigorov's blog post for how to debug Linux ARM64 related issues on a x86_64 host.

raw results


Summary

Package: PhosR
Version: 1.19.2
Command: /home/biocbuild/R/R/bin/R CMD check --install=check:PhosR.install-out.txt --library=/home/biocbuild/R/R/site-library --no-vignettes --timings PhosR_1.19.2.tar.gz
StartedAt: 2025-09-30 11:22:24 -0000 (Tue, 30 Sep 2025)
EndedAt: 2025-09-30 11:32:46 -0000 (Tue, 30 Sep 2025)
EllapsedTime: 622.2 seconds
RetCode: 0
Status:   OK  
CheckDir: PhosR.Rcheck
Warnings: 0

Command output

##############################################################################
##############################################################################
###
### Running command:
###
###   /home/biocbuild/R/R/bin/R CMD check --install=check:PhosR.install-out.txt --library=/home/biocbuild/R/R/site-library --no-vignettes --timings PhosR_1.19.2.tar.gz
###
##############################################################################
##############################################################################


* using log directory ‘/home/biocbuild/bbs-3.22-bioc/meat/PhosR.Rcheck’
* using R version 4.5.0 (2025-04-11)
* using platform: aarch64-unknown-linux-gnu
* R was compiled by
    aarch64-unknown-linux-gnu-gcc (GCC) 14.2.0
    GNU Fortran (GCC) 14.2.0
* running under: openEuler 24.03 (LTS)
* using session charset: UTF-8
* using option ‘--no-vignettes’
* checking for file ‘PhosR/DESCRIPTION’ ... OK
* checking extension type ... Package
* this is package ‘PhosR’ version ‘1.19.2’
* package encoding: UTF-8
* checking package namespace information ... OK
* checking package dependencies ... INFO
Imports includes 24 non-default packages.
Importing from so many packages makes the package vulnerable to any of
them becoming unavailable.  Move as many as possible to Suggests and
use conditionally.
* checking if this is a source package ... OK
* checking if there is a namespace ... OK
* checking for hidden files and directories ... NOTE
Found the following hidden files and directories:
  .travis.yml
These were most likely included in error. See section ‘Package
structure’ in the ‘Writing R Extensions’ manual.
* checking for portable file names ... OK
* checking for sufficient/correct file permissions ... OK
* checking whether package ‘PhosR’ can be installed ... OK
* checking installed package size ... OK
* checking package directory ... OK
* checking ‘build’ directory ... OK
* checking DESCRIPTION meta-information ... OK
* checking top-level files ... OK
* checking for left-over files ... OK
* checking index information ... OK
* checking package subdirectories ... OK
* checking code files for non-ASCII characters ... OK
* checking R files for syntax errors ... OK
* checking whether the package can be loaded ... OK
* checking whether the package can be loaded with stated dependencies ... OK
* checking whether the package can be unloaded cleanly ... OK
* checking whether the namespace can be loaded with stated dependencies ... OK
* checking whether the namespace can be unloaded cleanly ... OK
* checking loading without being on the library search path ... OK
* checking whether startup messages can be suppressed ... OK
* checking dependencies in R code ... NOTE
Namespace in Imports field not imported from: ‘stringi’
  All declared Imports should be used.
Unexported objects imported by ':::' calls:
  ‘BiocGenerics:::replaceSlots’ ‘S4Vectors:::disableValidity’
  ‘SummarizedExperiment:::.SummarizedExperiment.charbound’
  See the note in ?`:::` about the use of this operator.
* checking S3 generic/method consistency ... OK
* checking replacement functions ... OK
* checking foreign function calls ... OK
* checking R code for possible problems ... NOTE
abundPlot: no visible binding for global variable ‘.’
Undefined global functions or variables:
  .
* checking Rd files ... OK
* checking Rd metadata ... OK
* checking Rd cross-references ... NOTE
Found the following Rd file(s) with Rd \link{} targets missing package
anchors:
  PhosphoExperiment-operate.Rd: SummarizedExperiment-class
  PhosphoExperiment.Rd: SummarizedExperiment-class
Please provide package anchors for all Rd \link{} targets not in the
package itself and the base packages.
* checking for missing documentation entries ... OK
* checking for code/documentation mismatches ... OK
* checking Rd \usage sections ... OK
* checking Rd contents ... OK
* checking for unstated dependencies in examples ... OK
* checking contents of ‘data’ directory ... OK
* checking data for non-ASCII characters ... OK
* checking data for ASCII and uncompressed saves ... OK
* checking files in ‘vignettes’ ... OK
* checking examples ... OK
Examples with CPU (user + system) or elapsed time > 5s
                         user system elapsed
kinaseSubstratePred    42.576  0.364  57.643
siteAnnotate           41.098  0.068  51.904
minmax                 27.016  0.064  33.112
kinaseSubstrateScore   26.845  0.118  29.897
standardise            15.556  0.064  19.740
matANOVA               15.247  0.036  19.567
kinaseSubstrateProfile 14.529  0.134  18.853
plotQC                  7.701  0.079   9.522
* checking for unstated dependencies in ‘tests’ ... OK
* checking tests ...
  Running ‘testthat.R’
 OK
* checking for unstated dependencies in vignettes ... OK
* checking package vignettes ... OK
* checking running R code from vignettes ... SKIPPED
* checking re-building of vignette outputs ... SKIPPED
* checking PDF version of manual ... OK
* DONE

Status: 4 NOTEs
See
  ‘/home/biocbuild/bbs-3.22-bioc/meat/PhosR.Rcheck/00check.log’
for details.


Installation output

PhosR.Rcheck/00install.out

##############################################################################
##############################################################################
###
### Running command:
###
###   /home/biocbuild/R/R/bin/R CMD INSTALL PhosR
###
##############################################################################
##############################################################################


* installing to library ‘/home/biocbuild/R/R-4.5.0/site-library’
* installing *source* package ‘PhosR’ ...
** this is package ‘PhosR’ version ‘1.19.2’
** using staged installation
** R
** data
** inst
** byte-compile and prepare package for lazy loading
** help
*** installing help indices
*** copying figures
** building package indices
** installing vignettes
** testing if installed package can be loaded from temporary location
** testing if installed package can be loaded from final location
** testing if installed package keeps a record of temporary installation path
* DONE (PhosR)

Tests output

PhosR.Rcheck/tests/testthat.Rout


R version 4.5.0 (2025-04-11) -- "How About a Twenty-Six"
Copyright (C) 2025 The R Foundation for Statistical Computing
Platform: aarch64-unknown-linux-gnu

R is free software and comes with ABSOLUTELY NO WARRANTY.
You are welcome to redistribute it under certain conditions.
Type 'license()' or 'licence()' for distribution details.

R is a collaborative project with many contributors.
Type 'contributors()' for more information and
'citation()' on how to cite R or R packages in publications.

Type 'demo()' for some demos, 'help()' for on-line help, or
'help.start()' for an HTML browser interface to help.
Type 'q()' to quit R.

> library(testthat)
> library(PhosR)
> 
> test_check("PhosR")
[ FAIL 0 | WARN 0 | SKIP 0 | PASS 64 ]
> 
> proc.time()
   user  system elapsed 
 11.730   0.564  15.698 

Example timings

PhosR.Rcheck/PhosR-Ex.timings

nameusersystemelapsed
PhosphoExperiment-methods0.3620.0080.542
PhosphoExperiment-operate0.5520.0160.570
PhosphoExperiment0.2670.0000.267
RUVphospho0.8100.0430.917
Signalomes0.0010.0000.000
createFrequencyMat0.0940.0000.094
frequencyScoring0.4010.0120.414
getSPS2.2620.1043.960
kinaseSubstrateHeatmap0.0010.0000.001
kinaseSubstratePred42.576 0.36457.643
kinaseSubstrateProfile14.529 0.13418.853
kinaseSubstrateScore26.845 0.11829.897
mIntersect1.5930.0081.616
matANOVA15.247 0.03619.567
meanAbundance0.2790.0000.327
medianScaling0.3320.0160.348
minmax27.016 0.06433.112
pathwayOverrepresent000
pathwayRankBasedEnrichment000
phosCollapse1.2060.0001.210
plotQC7.7010.0799.522
ptImpute0.3280.0040.333
scImpute0.7210.0040.750
selectGrps0.1100.0040.114
selectLocalisedSites0.0790.0000.078
selectOverallPercent0.0390.0000.038
selectTimes0.0120.0000.011
siteAnnotate41.098 0.06851.904
standardise15.556 0.06419.740
tImpute0.1610.0040.165