Back to Multiple platform build/check report for BioC 3.22:   simplified   long
ABCDEFGHIJKLMNO[P]QRSTUVWXYZ

This page was generated on 2025-10-04 12:07 -0400 (Sat, 04 Oct 2025).

HostnameOSArch (*)R versionInstalled pkgs
nebbiolo2Linux (Ubuntu 24.04.3 LTS)x86_644.5.1 Patched (2025-08-23 r88802) -- "Great Square Root" 4853
lconwaymacOS 12.7.1 Montereyx86_644.5.1 Patched (2025-09-10 r88807) -- "Great Square Root" 4640
kjohnson3macOS 13.7.7 Venturaarm644.5.1 Patched (2025-09-10 r88807) -- "Great Square Root" 4585
taishanLinux (openEuler 24.03 LTS)aarch644.5.0 (2025-04-11) -- "How About a Twenty-Six" 4576
Click on any hostname to see more info about the system (e.g. compilers)      (*) as reported by 'uname -p', except on Windows and Mac OS X

Package 1575/2341HostnameOS / ArchINSTALLBUILDCHECKBUILD BIN
PhenStat 2.45.1  (landing page)
Hamed Haselimashhadi
Snapshot Date: 2025-10-03 13:45 -0400 (Fri, 03 Oct 2025)
git_url: https://git.bioconductor.org/packages/PhenStat
git_branch: devel
git_last_commit: c16bc8d
git_last_commit_date: 2025-09-22 09:51:44 -0400 (Mon, 22 Sep 2025)
nebbiolo2Linux (Ubuntu 24.04.3 LTS) / x86_64  ERROR    ERROR  skipped
lconwaymacOS 12.7.1 Monterey / x86_64  ERROR    ERROR  skippedskipped
kjohnson3macOS 13.7.7 Ventura / arm64  ERROR    ERROR  skippedskipped
taishanLinux (openEuler 24.03 LTS) / aarch64  OK    OK    OK  


CHECK results for PhenStat on taishan

To the developers/maintainers of the PhenStat package:
- Allow up to 24 hours (and sometimes 48 hours) for your latest push to git@git.bioconductor.org:packages/PhenStat.git to reflect on this report. See Troubleshooting Build Report for more information.
- Use the following Renviron settings to reproduce errors and warnings.
- If 'R CMD check' started to fail recently on the Linux builder(s) over a missing dependency, add the missing dependency to 'Suggests:' in your DESCRIPTION file. See Renviron.bioc for more information.
- See Martin Grigorov's blog post for how to debug Linux ARM64 related issues on a x86_64 host.

raw results


Summary

Package: PhenStat
Version: 2.45.1
Command: /home/biocbuild/R/R/bin/R CMD check --install=check:PhenStat.install-out.txt --library=/home/biocbuild/R/R/site-library --no-vignettes --timings PhenStat_2.45.1.tar.gz
StartedAt: 2025-10-03 10:10:49 -0000 (Fri, 03 Oct 2025)
EndedAt: 2025-10-03 10:13:18 -0000 (Fri, 03 Oct 2025)
EllapsedTime: 149.2 seconds
RetCode: 0
Status:   OK  
CheckDir: PhenStat.Rcheck
Warnings: 0

Command output

##############################################################################
##############################################################################
###
### Running command:
###
###   /home/biocbuild/R/R/bin/R CMD check --install=check:PhenStat.install-out.txt --library=/home/biocbuild/R/R/site-library --no-vignettes --timings PhenStat_2.45.1.tar.gz
###
##############################################################################
##############################################################################


* using log directory ‘/home/biocbuild/bbs-3.22-bioc/meat/PhenStat.Rcheck’
* using R version 4.5.0 (2025-04-11)
* using platform: aarch64-unknown-linux-gnu
* R was compiled by
    aarch64-unknown-linux-gnu-gcc (GCC) 14.2.0
    GNU Fortran (GCC) 14.2.0
* running under: openEuler 24.03 (LTS)
* using session charset: UTF-8
* using option ‘--no-vignettes’
* checking for file ‘PhenStat/DESCRIPTION’ ... OK
* checking extension type ... Package
* this is package ‘PhenStat’ version ‘2.45.1’
* checking package namespace information ... OK
* checking package dependencies ... OK
* checking if this is a source package ... OK
* checking if there is a namespace ... OK
* checking for hidden files and directories ... OK
* checking for portable file names ... OK
* checking for sufficient/correct file permissions ... OK
* checking whether package ‘PhenStat’ can be installed ... OK
* checking installed package size ... OK
* checking package directory ... OK
* checking ‘build’ directory ... OK
* checking DESCRIPTION meta-information ... OK
* checking top-level files ... OK
* checking for left-over files ... OK
* checking index information ... OK
* checking package subdirectories ... OK
* checking code files for non-ASCII characters ... OK
* checking R files for syntax errors ... OK
* checking whether the package can be loaded ... OK
* checking whether the package can be loaded with stated dependencies ... OK
* checking whether the package can be unloaded cleanly ... OK
* checking whether the namespace can be loaded with stated dependencies ... OK
* checking whether the namespace can be unloaded cleanly ... OK
* checking loading without being on the library search path ... OK
* checking whether startup messages can be suppressed ... OK
* checking dependencies in R code ... NOTE
Namespace in Imports field not imported from: ‘SmoothWin’
  All declared Imports should be used.
* checking S3 generic/method consistency ... OK
* checking replacement functions ... OK
* checking foreign function calls ... OK
* checking R code for possible problems ... OK
* checking Rd files ... NOTE
checkRd: (-1) plot.PhenList.Rd:49-53: Lost braces
    49 |       \item boxplotSexGenotype. See documentations for {
       |                                                        ^
checkRd: (-1) plot.PhenList.Rd:54-58: Lost braces
    54 |       \item boxplotSexGenotypeBatchAdjusted. See documentations for {
       |                                                                     ^
checkRd: (-1) plot.PhenList.Rd:59-63: Lost braces
    59 |       \item boxplotSexGenotypeWeightBatchAdjusted. See documentations for {
       |                                                                           ^
checkRd: (-1) plot.PhenList.Rd:64-68: Lost braces
    64 |       \item scatterplotSexGenotypeBatch. See documentations for {
       |                                                                 ^
checkRd: (-1) plot.PhenList.Rd:69-73: Lost braces
    69 |       \item scatterplotGenotypeWeight. See documentations for {
       |                                                               ^
checkRd: (-1) plot.PhenList.Rd:74-78: Lost braces
    74 |       \item boxplotSexGenotypeBatch. See documentations for {
       |                                                             ^
checkRd: (-1) plot.PhenTestResult.Rd:41-45: Lost braces
    41 |       \item boxplotSexGenotypeResult. See documentations for {
       |                                                              ^
checkRd: (-1) plot.PhenTestResult.Rd:46-50: Lost braces
    46 |       \item scatterplotSexGenotypeBatchResult. See documentations for {
       |                                                                       ^
checkRd: (-1) plot.PhenTestResult.Rd:51-55: Lost braces
    51 |       \item scatterplotGenotypeWeightResult. See documentations for {
       |                                                                     ^
checkRd: (-1) plot.PhenTestResult.Rd:56-60: Lost braces
    56 |       \item plotResidualPredicted. See documentations for {
       |                                                           ^
checkRd: (-1) plot.PhenTestResult.Rd:61-65: Lost braces
    61 |       \item qqplotRandomEffects. See documentations for {
       |                                                         ^
checkRd: (-1) plot.PhenTestResult.Rd:66-70: Lost braces
    66 |       \item boxplotResidualBatch. See documentations for {
       |                                                          ^
checkRd: (-1) plot.PhenTestResult.Rd:71-75: Lost braces
    71 |       \item qqplotRotatedResiduals. See documentations for {
       |                                                            ^
checkRd: (-1) plot.PhenTestResult.Rd:76-80: Lost braces
    76 |       \item qqplotGenotype. See documentations for {
       |                                                    ^
checkRd: (-1) plot.PhenTestResult.Rd:81-85: Lost braces
    81 |       \item categoricalBarplot. See documentations for {
       |                                                        ^
checkRd: (-1) qqplotRotatedResiduals.Rd:18: Lost braces
    18 |     Houseman, E. A., Ryan, L. M., Coull, B. A. (2004): Cholesky residuals for assessing normal errors in a linear model with correlated outcomes. \emph{Journal of the American Statistical Association} \bold{99}{466}: pg 383-394. Doi 10.1198
       |                                                                                                                                                                                                                   ^
* checking Rd metadata ... OK
* checking Rd cross-references ... OK
* checking for missing documentation entries ... OK
* checking for code/documentation mismatches ... OK
* checking Rd \usage sections ... NOTE
Documented arguments not in \usage in Rd file 'printLROutput.Rd':
  ‘effectValues’

Functions with \usage entries need to have the appropriate \alias
entries, and all their arguments documented.
The \usage entries must correspond to syntactically valid R code.
See chapter ‘Writing R documentation files’ in the ‘Writing R
Extensions’ manual.
* checking Rd contents ... NOTE
Argument items with no description in Rd file 'plot.PhenList.Rd':
  ‘\dots’
Argument items with no description in Rd file 'plot.PhenTestResult.Rd':
  ‘\dots’
* checking for unstated dependencies in examples ... OK
* checking installed files from ‘inst/doc’ ... OK
* checking files in ‘vignettes’ ... OK
* checking examples ... OK
* checking for unstated dependencies in ‘tests’ ... OK
* checking tests ...
  Running ‘runTests.R’
 OK
* checking for unstated dependencies in vignettes ... OK
* checking package vignettes ... OK
* checking running R code from vignettes ... SKIPPED
* checking re-building of vignette outputs ... SKIPPED
* checking PDF version of manual ... OK
* DONE

Status: 4 NOTEs
See
  ‘/home/biocbuild/bbs-3.22-bioc/meat/PhenStat.Rcheck/00check.log’
for details.


Installation output

PhenStat.Rcheck/00install.out

##############################################################################
##############################################################################
###
### Running command:
###
###   /home/biocbuild/R/R/bin/R CMD INSTALL PhenStat
###
##############################################################################
##############################################################################


* installing to library ‘/home/biocbuild/R/R-4.5.0/site-library’
* installing *source* package ‘PhenStat’ ...
** this is package ‘PhenStat’ version ‘2.45.1’
** using staged installation
** R
** inst
** byte-compile and prepare package for lazy loading
** help
*** installing help indices
** building package indices
** installing vignettes
** testing if installed package can be loaded from temporary location
Warning in fun(libname, pkgname) :
  Package 'PhenStat' is deprecated and will be removed from Bioconductor
  version 3.23
** testing if installed package can be loaded from final location
Warning in fun(libname, pkgname) :
  Package 'PhenStat' is deprecated and will be removed from Bioconductor
  version 3.23
** testing if installed package keeps a record of temporary installation path
* DONE (PhenStat)

Tests output

PhenStat.Rcheck/tests/runTests.Rout


R version 4.5.0 (2025-04-11) -- "How About a Twenty-Six"
Copyright (C) 2025 The R Foundation for Statistical Computing
Platform: aarch64-unknown-linux-gnu

R is free software and comes with ABSOLUTELY NO WARRANTY.
You are welcome to redistribute it under certain conditions.
Type 'license()' or 'licence()' for distribution details.

R is a collaborative project with many contributors.
Type 'contributors()' for more information and
'citation()' on how to cite R or R packages in publications.

Type 'demo()' for some demos, 'help()' for on-line help, or
'help.start()' for an HTML browser interface to help.
Type 'q()' to quit R.

> BiocGenerics:::testPackage("PhenStat")


RUNIT TEST PROTOCOL -- Fri Oct  3 10:13:11 2025 
*********************************************** 
Number of test functions: 0 
Number of errors: 0 
Number of failures: 0 

 
1 Test Suite : 
PhenStat RUnit Tests - 0 test functions, 0 errors, 0 failures
Number of test functions: 0 
Number of errors: 0 
Number of failures: 0 
Warning message:
In fun(libname, pkgname) :
  Package 'PhenStat' is deprecated and will be removed from Bioconductor
  version 3.23
> 
> proc.time()
   user  system elapsed 
  4.069   0.190   4.255 

Example timings

PhenStat.Rcheck/PhenStat-Ex.timings

nameusersystemelapsed
FisherExactTest0.2740.0040.281
JSONOutput1.0760.0041.085
LRDataset0.0560.0000.058
PhenList-class0.2100.1120.325
PhenList0.2020.0360.241
PhenStatReport0.0470.0080.054
PhenTestResult-class0.6510.0360.688
PhenTestResult0.5170.0280.545
RRTest0.1060.0040.110
TFDataset0.3290.0240.354
analysedDataset0.6150.0080.625
analysisResults0.6260.0190.648
boxplotResidualBatch0.6400.0120.654
boxplotSexGenotype0.0800.0000.082
boxplotSexGenotypeBatch0.1550.0120.167
boxplotSexGenotypeBatchAdjusted0.0750.0040.079
boxplotSexGenotypeResult0.8120.0000.813
boxplotSexGenotypeWeightBatchAdjusted0.0880.0000.088
categoricalBarplot0.1560.0080.163
checkDataset0.0420.0000.041
classificationTag0.5840.0040.589
determiningLambda0.8070.0280.837
dim0.0430.0000.043
finalLRModel0.7900.1280.921
finalModel0.4680.0000.468
finalTFModel0.5700.0040.577
htestPhenStat-class0.1460.0240.170
modelFormula0.0010.0000.000
modelFormulaLR0.0000.0000.001
parserOutputSummary0.5840.0080.592
parserOutputSummaryLR0.5330.0000.535
parserOutputTFSummary0.1170.0000.119
performReverseTransformation000
performTransformation0.0010.0000.000
plot.PhenList1.9120.0281.944
plot.PhenTestResult1.9250.0081.936
plotResidualPredicted0.6000.0000.601
printLROutput0.5260.0040.530
printTabStyle0.0010.0000.001
qqplotGenotype0.5980.0040.602
qqplotRandomEffects0.6010.0040.606
qqplotRotatedResiduals1.9220.0081.933
recommendMethod0.5330.0000.535
scatterplotGenotypeWeight0.1650.0000.165
scatterplotGenotypeWeightResult0.8190.0000.822
scatterplotSexGenotypeBatch0.1010.0000.101
scatterplotSexGenotypeBatchResult0.7980.0040.804
startLRModel0.5120.0000.513
startModel0.5230.0000.524
startTFModel0.5350.0070.544
summaryOutput0.7440.0030.750
summaryPhenListResult0.7670.0000.769
testDataset1.9410.0121.957
testFinalLRModel0.5600.0000.561
testFinalModel0.6280.0080.638
vectorOutput0.7610.0040.767
vectorOutputMatrices0.1430.0000.144