Back to Multiple platform build/check report for BioC 3.22: simplified long |
|
This page was generated on 2025-10-16 12:07 -0400 (Thu, 16 Oct 2025).
Hostname | OS | Arch (*) | R version | Installed pkgs |
---|---|---|---|---|
nebbiolo2 | Linux (Ubuntu 24.04.3 LTS) | x86_64 | 4.5.1 Patched (2025-08-23 r88802) -- "Great Square Root" | 4867 |
lconway | macOS 12.7.6 Monterey | x86_64 | 4.5.1 Patched (2025-09-10 r88807) -- "Great Square Root" | 4655 |
kjohnson3 | macOS 13.7.7 Ventura | arm64 | 4.5.1 Patched (2025-09-10 r88807) -- "Great Square Root" | 4600 |
taishan | Linux (openEuler 24.03 LTS) | aarch64 | 4.5.0 (2025-04-11) -- "How About a Twenty-Six" | 4610 |
Click on any hostname to see more info about the system (e.g. compilers) (*) as reported by 'uname -p', except on Windows and Mac OS X |
Package 1500/2346 | Hostname | OS / Arch | INSTALL | BUILD | CHECK | BUILD BIN | ||||||||
OncoSimulR 4.11.1 (landing page) Ramon Diaz-Uriarte
| nebbiolo2 | Linux (Ubuntu 24.04.3 LTS) / x86_64 | OK | OK | OK | ![]() | ||||||||
lconway | macOS 12.7.6 Monterey / x86_64 | OK | OK | OK | OK | ![]() | ||||||||
kjohnson3 | macOS 13.7.7 Ventura / arm64 | ... NOT SUPPORTED ... | ||||||||||||
taishan | Linux (openEuler 24.03 LTS) / aarch64 | OK | OK | OK | ||||||||||
To the developers/maintainers of the OncoSimulR package: - Allow up to 24 hours (and sometimes 48 hours) for your latest push to git@git.bioconductor.org:packages/OncoSimulR.git to reflect on this report. See Troubleshooting Build Report for more information. - Use the following Renviron settings to reproduce errors and warnings. - If 'R CMD check' started to fail recently on the Linux builder(s) over a missing dependency, add the missing dependency to 'Suggests:' in your DESCRIPTION file. See Renviron.bioc for more information. - See Martin Grigorov's blog post for how to debug Linux ARM64 related issues on a x86_64 host. |
Package: OncoSimulR |
Version: 4.11.1 |
Command: /home/biocbuild/R/R/bin/R CMD check --install=check:OncoSimulR.install-out.txt --library=/home/biocbuild/R/R/site-library --no-vignettes --timings OncoSimulR_4.11.1.tar.gz |
StartedAt: 2025-10-14 11:01:58 -0000 (Tue, 14 Oct 2025) |
EndedAt: 2025-10-14 11:09:23 -0000 (Tue, 14 Oct 2025) |
EllapsedTime: 444.7 seconds |
RetCode: 0 |
Status: OK |
CheckDir: OncoSimulR.Rcheck |
Warnings: 0 |
############################################################################## ############################################################################## ### ### Running command: ### ### /home/biocbuild/R/R/bin/R CMD check --install=check:OncoSimulR.install-out.txt --library=/home/biocbuild/R/R/site-library --no-vignettes --timings OncoSimulR_4.11.1.tar.gz ### ############################################################################## ############################################################################## * using log directory ‘/home/biocbuild/bbs-3.22-bioc/meat/OncoSimulR.Rcheck’ * using R version 4.5.0 (2025-04-11) * using platform: aarch64-unknown-linux-gnu * R was compiled by aarch64-unknown-linux-gnu-gcc (GCC) 14.2.0 GNU Fortran (GCC) 14.2.0 * running under: openEuler 24.03 (LTS) * using session charset: UTF-8 * using option ‘--no-vignettes’ * checking for file ‘OncoSimulR/DESCRIPTION’ ... OK * checking extension type ... Package * this is package ‘OncoSimulR’ version ‘4.11.1’ * checking package namespace information ... OK * checking package dependencies ... OK * checking if this is a source package ... OK * checking if there is a namespace ... OK * checking for hidden files and directories ... NOTE Found the following hidden files and directories: .BBSoptions These were most likely included in error. See section ‘Package structure’ in the ‘Writing R Extensions’ manual. * checking for portable file names ... OK * checking for sufficient/correct file permissions ... OK * checking whether package ‘OncoSimulR’ can be installed ... OK * used C compiler: ‘aarch64-unknown-linux-gnu-gcc (GCC) 14.2.0’ * used C++ compiler: ‘aarch64-unknown-linux-gnu-g++ (GCC) 14.2.0’ * checking installed package size ... INFO installed size is 46.6Mb sub-directories of 1Mb or more: libs 44.9Mb * checking package directory ... OK * checking ‘build’ directory ... OK * checking DESCRIPTION meta-information ... OK * checking top-level files ... OK * checking for left-over files ... OK * checking index information ... OK * checking package subdirectories ... OK * checking code files for non-ASCII characters ... OK * checking R files for syntax errors ... OK * checking whether the package can be loaded ... OK * checking whether the package can be loaded with stated dependencies ... OK * checking whether the package can be unloaded cleanly ... OK * checking whether the namespace can be loaded with stated dependencies ... OK * checking whether the namespace can be unloaded cleanly ... OK * checking loading without being on the library search path ... OK * checking whether startup messages can be suppressed ... OK * checking dependencies in R code ... OK * checking S3 generic/method consistency ... OK * checking replacement functions ... OK * checking foreign function calls ... OK * checking R code for possible problems ... OK * checking Rd files ... OK * checking Rd metadata ... OK * checking Rd cross-references ... OK * checking for missing documentation entries ... OK * checking for code/documentation mismatches ... OK * checking Rd \usage sections ... OK * checking Rd contents ... OK * checking for unstated dependencies in examples ... OK * checking contents of ‘data’ directory ... OK * checking data for non-ASCII characters ... OK * checking data for ASCII and uncompressed saves ... OK * checking line endings in C/C++/Fortran sources/headers ... OK * checking line endings in Makefiles ... OK * checking compilation flags in Makevars ... OK * checking for GNU extensions in Makefiles ... OK * checking for portable use of $(BLAS_LIBS) and $(LAPACK_LIBS) ... OK * checking use of PKG_*FLAGS in Makefiles ... OK * checking include directives in Makefiles ... OK * checking compiled code ... NOTE Note: information on .o files is not available * checking files in ‘vignettes’ ... OK * checking examples ... OK Examples with CPU (user + system) or elapsed time > 5s user system elapsed allFitnessEffects 3.057 0.096 5.102 * checking for unstated dependencies in ‘tests’ ... OK * checking tests ... Running ‘testthat.R’ OK * checking for unstated dependencies in vignettes ... OK * checking package vignettes ... OK * checking running R code from vignettes ... SKIPPED * checking re-building of vignette outputs ... SKIPPED * checking PDF version of manual ... OK * DONE Status: 2 NOTEs See ‘/home/biocbuild/bbs-3.22-bioc/meat/OncoSimulR.Rcheck/00check.log’ for details.
OncoSimulR.Rcheck/00install.out
############################################################################## ############################################################################## ### ### Running command: ### ### /home/biocbuild/R/R/bin/R CMD INSTALL OncoSimulR ### ############################################################################## ############################################################################## * installing to library ‘/home/biocbuild/R/R-4.5.0/site-library’ * installing *source* package ‘OncoSimulR’ ... ** this is package ‘OncoSimulR’ version ‘4.11.1’ ** using staged installation ** libs using C compiler: ‘aarch64-unknown-linux-gnu-gcc (GCC) 14.2.0’ using C++ compiler: ‘aarch64-unknown-linux-gnu-g++ (GCC) 14.2.0’ /opt/ohpc/pub/compiler/gcc/14.2.0/bin/aarch64-unknown-linux-gnu-gcc -std=gnu23 -I"/home/biocbuild/R/R-4.5.0/include" -DNDEBUG -I'/home/biocbuild/R/R-4.5.0/site-library/Rcpp/include' -I/usr/local/include -fPIC -g -O2 -Wall -Werror=format-security -c FitnessLandscape/gamma.c -o FitnessLandscape/gamma.o /opt/ohpc/pub/compiler/gcc/14.2.0/bin/aarch64-unknown-linux-gnu-gcc -std=gnu23 -I"/home/biocbuild/R/R-4.5.0/include" -DNDEBUG -I'/home/biocbuild/R/R-4.5.0/site-library/Rcpp/include' -I/usr/local/include -fPIC -g -O2 -Wall -Werror=format-security -c FitnessLandscape/landscape.c -o FitnessLandscape/landscape.o /opt/ohpc/pub/compiler/gcc/14.2.0/bin/aarch64-unknown-linux-gnu-gcc -std=gnu23 -I"/home/biocbuild/R/R-4.5.0/include" -DNDEBUG -I'/home/biocbuild/R/R-4.5.0/site-library/Rcpp/include' -I/usr/local/include -fPIC -g -O2 -Wall -Werror=format-security -c FitnessLandscape/random.c -o FitnessLandscape/random.o /opt/ohpc/pub/compiler/gcc/14.2.0/bin/aarch64-unknown-linux-gnu-gcc -std=gnu23 -I"/home/biocbuild/R/R-4.5.0/include" -DNDEBUG -I'/home/biocbuild/R/R-4.5.0/site-library/Rcpp/include' -I/usr/local/include -fPIC -g -O2 -Wall -Werror=format-security -c FitnessLandscape/sort.c -o FitnessLandscape/sort.o /opt/ohpc/pub/compiler/gcc/14.2.0/bin/aarch64-unknown-linux-gnu-gcc -std=gnu23 -I"/home/biocbuild/R/R-4.5.0/include" -DNDEBUG -I'/home/biocbuild/R/R-4.5.0/site-library/Rcpp/include' -I/usr/local/include -fPIC -g -O2 -Wall -Werror=format-security -c FitnessLandscape/chain.c -o FitnessLandscape/chain.o /opt/ohpc/pub/compiler/gcc/14.2.0/bin/aarch64-unknown-linux-gnu-gcc -std=gnu23 -I"/home/biocbuild/R/R-4.5.0/include" -DNDEBUG -I'/home/biocbuild/R/R-4.5.0/site-library/Rcpp/include' -I/usr/local/include -fPIC -g -O2 -Wall -Werror=format-security -c FitnessLandscape/input.c -o FitnessLandscape/input.o /opt/ohpc/pub/compiler/gcc/14.2.0/bin/aarch64-unknown-linux-gnu-gcc -std=gnu23 -I"/home/biocbuild/R/R-4.5.0/include" -DNDEBUG -I'/home/biocbuild/R/R-4.5.0/site-library/Rcpp/include' -I/usr/local/include -fPIC -g -O2 -Wall -Werror=format-security -c FitnessLandscape/genotypes.c -o FitnessLandscape/genotypes.o /opt/ohpc/pub/compiler/gcc/14.2.0/bin/aarch64-unknown-linux-gnu-gcc -std=gnu23 -I"/home/biocbuild/R/R-4.5.0/include" -DNDEBUG -I'/home/biocbuild/R/R-4.5.0/site-library/Rcpp/include' -I/usr/local/include -fPIC -g -O2 -Wall -Werror=format-security -c FitnessLandscape/ordered_pairs.c -o FitnessLandscape/ordered_pairs.o /opt/ohpc/pub/compiler/gcc/14.2.0/bin/aarch64-unknown-linux-gnu-gcc -std=gnu23 -I"/home/biocbuild/R/R-4.5.0/include" -DNDEBUG -I'/home/biocbuild/R/R-4.5.0/site-library/Rcpp/include' -I/usr/local/include -fPIC -g -O2 -Wall -Werror=format-security -c FitnessLandscape/calculus.c -o FitnessLandscape/calculus.o /opt/ohpc/pub/compiler/gcc/14.2.0/bin/aarch64-unknown-linux-gnu-gcc -std=gnu23 -I"/home/biocbuild/R/R-4.5.0/include" -DNDEBUG -I'/home/biocbuild/R/R-4.5.0/site-library/Rcpp/include' -I/usr/local/include -fPIC -g -O2 -Wall -Werror=format-security -c FitnessLandscape/vector.c -o FitnessLandscape/vector.o /opt/ohpc/pub/compiler/gcc/14.2.0/bin/aarch64-unknown-linux-gnu-gcc -std=gnu23 -I"/home/biocbuild/R/R-4.5.0/include" -DNDEBUG -I'/home/biocbuild/R/R-4.5.0/site-library/Rcpp/include' -I/usr/local/include -fPIC -g -O2 -Wall -Werror=format-security -c FitnessLandscape/generalized_chain.c -o FitnessLandscape/generalized_chain.o /opt/ohpc/pub/compiler/gcc/14.2.0/bin/aarch64-unknown-linux-gnu-gcc -std=gnu23 -I"/home/biocbuild/R/R-4.5.0/include" -DNDEBUG -I'/home/biocbuild/R/R-4.5.0/site-library/Rcpp/include' -I/usr/local/include -fPIC -g -O2 -Wall -Werror=format-security -c FitnessLandscape/LinearAlgebra.c -o FitnessLandscape/LinearAlgebra.o /opt/ohpc/pub/compiler/gcc/14.2.0/bin/aarch64-unknown-linux-gnu-gcc -std=gnu23 -I"/home/biocbuild/R/R-4.5.0/include" -DNDEBUG -I'/home/biocbuild/R/R-4.5.0/site-library/Rcpp/include' -I/usr/local/include -fPIC -g -O2 -Wall -Werror=format-security -c FitnessLandscape/summary_statistics.c -o FitnessLandscape/summary_statistics.o /opt/ohpc/pub/compiler/gcc/14.2.0/bin/aarch64-unknown-linux-gnu-gcc -std=gnu23 -I"/home/biocbuild/R/R-4.5.0/include" -DNDEBUG -I'/home/biocbuild/R/R-4.5.0/site-library/Rcpp/include' -I/usr/local/include -fPIC -g -O2 -Wall -Werror=format-security -c FitnessLandscape/epistasis_type.c -o FitnessLandscape/epistasis_type.o /opt/ohpc/pub/compiler/gcc/14.2.0/bin/aarch64-unknown-linux-gnu-gcc -std=gnu23 -I"/home/biocbuild/R/R-4.5.0/include" -DNDEBUG -I'/home/biocbuild/R/R-4.5.0/site-library/Rcpp/include' -I/usr/local/include -fPIC -g -O2 -Wall -Werror=format-security -c FitnessLandscape/decomposition.c -o FitnessLandscape/decomposition.o /opt/ohpc/pub/compiler/gcc/14.2.0/bin/aarch64-unknown-linux-gnu-gcc -std=gnu23 -I"/home/biocbuild/R/R-4.5.0/include" -DNDEBUG -I'/home/biocbuild/R/R-4.5.0/site-library/Rcpp/include' -I/usr/local/include -fPIC -g -O2 -Wall -Werror=format-security -c FitnessLandscape/models.c -o FitnessLandscape/models.o /opt/ohpc/pub/compiler/gcc/14.2.0/bin/aarch64-unknown-linux-gnu-gcc -std=gnu23 -I"/home/biocbuild/R/R-4.5.0/include" -DNDEBUG -I'/home/biocbuild/R/R-4.5.0/site-library/Rcpp/include' -I/usr/local/include -fPIC -g -O2 -Wall -Werror=format-security -c FitnessLandscape/verbose.c -o FitnessLandscape/verbose.o ar -r liblandscape.a FitnessLandscape/gamma.o FitnessLandscape/landscape.o FitnessLandscape/random.o FitnessLandscape/sort.o FitnessLandscape/chain.o FitnessLandscape/input.o FitnessLandscape/genotypes.o FitnessLandscape/ordered_pairs.o FitnessLandscape/calculus.o FitnessLandscape/vector.o FitnessLandscape/generalized_chain.o FitnessLandscape/LinearAlgebra.o FitnessLandscape/summary_statistics.o FitnessLandscape/epistasis_type.o FitnessLandscape/decomposition.o FitnessLandscape/models.o FitnessLandscape/verbose.o ; ar: creating liblandscape.a ranlib liblandscape.a; /opt/ohpc/pub/compiler/gcc/14.2.0/bin/aarch64-unknown-linux-gnu-gcc -std=gnu23 -O -Wall -o fl_statistics -I/FitnessLandscape/. -L. FitnessLandscape/main_fl_statistics.c -llandscape -lm; /opt/ohpc/pub/compiler/gcc/14.2.0/bin/aarch64-unknown-linux-gnu-gcc -std=gnu23 -O -Wall -o fl_generate -I/FitnessLandscape/. -L. FitnessLandscape/main_fl_generate.c -llandscape -lm; /opt/ohpc/pub/compiler/gcc/14.2.0/bin/aarch64-unknown-linux-gnu-gcc -std=gnu23 -I"/home/biocbuild/R/R-4.5.0/include" -DNDEBUG -I'/home/biocbuild/R/R-4.5.0/site-library/Rcpp/include' -I/usr/local/include -fPIC -g -O2 -Wall -Werror=format-security -c OncoSimulR_init.c -o OncoSimulR_init.o /opt/ohpc/pub/compiler/gcc/14.2.0/bin/aarch64-unknown-linux-gnu-g++ -std=gnu++17 -I"/home/biocbuild/R/R-4.5.0/include" -DNDEBUG -I'/home/biocbuild/R/R-4.5.0/site-library/Rcpp/include' -I/usr/local/include -fPIC -g -O2 -Wall -Werror=format-security -c RcppExports.cpp -o RcppExports.o /opt/ohpc/pub/compiler/gcc/14.2.0/bin/aarch64-unknown-linux-gnu-g++ -std=gnu++17 -I"/home/biocbuild/R/R-4.5.0/include" -DNDEBUG -I'/home/biocbuild/R/R-4.5.0/site-library/Rcpp/include' -I/usr/local/include -fPIC -g -O2 -Wall -Werror=format-security -c unity_osimul.cpp -o unity_osimul.o /opt/ohpc/pub/compiler/gcc/14.2.0/bin/aarch64-unknown-linux-gnu-g++ -std=gnu++17 -shared -L/home/biocbuild/R/R-4.5.0/lib -L/usr/local/lib -o OncoSimulR.so OncoSimulR_init.o RcppExports.o unity_osimul.o -L/home/biocbuild/R/R-4.5.0/lib -lR installing via 'install.libs.R' to /home/biocbuild/R/R-4.5.0/site-library/00LOCK-OncoSimulR/00new/OncoSimulR [1] "" Installing fl_statistics fl_generate to /home/biocbuild/R/R-4.5.0/site-library/00LOCK-OncoSimulR/00new/OncoSimulR/exec Installing library OncoSimulR.so to /home/biocbuild/R/R-4.5.0/site-library/00LOCK-OncoSimulR/00new/OncoSimulR/libs ** R ** data ** inst ** byte-compile and prepare package for lazy loading ** help *** installing help indices ** building package indices ** installing vignettes ** testing if installed package can be loaded from temporary location ** checking absolute paths in shared objects and dynamic libraries ** testing if installed package can be loaded from final location ** testing if installed package keeps a record of temporary installation path * DONE (OncoSimulR)
OncoSimulR.Rcheck/tests/testthat.Rout
R version 4.5.0 (2025-04-11) -- "How About a Twenty-Six" Copyright (C) 2025 The R Foundation for Statistical Computing Platform: aarch64-unknown-linux-gnu R is free software and comes with ABSOLUTELY NO WARRANTY. You are welcome to redistribute it under certain conditions. Type 'license()' or 'licence()' for distribution details. R is a collaborative project with many contributors. Type 'contributors()' for more information and 'citation()' on how to cite R or R packages in publications. Type 'demo()' for some demos, 'help()' for on-line help, or 'help.start()' for an HTML browser interface to help. Type 'q()' to quit R. > library(testthat) > library(OncoSimulR) This is package OncoSimulR. If you are running it on an aarch64 (arm64) platform with a MacOS note that the package fails some tests in that platform + OS that I have no way of debugging. Please read file README_tests_kjohnson3_aarch64-apple-darwin20.txt in the tests directory. As of 2024-10-09, this platform is unsupported until we can properly debug it. > > test_check("OncoSimulR") Starting FDF-letter-fitness-order Tue Oct 14 11:04:01 2025 exprtk parser error: Error[00] Position: 00 Type: [ Syntax Error] Msg: ERR202 - Undefined symbol: 'n_2_3' Expression: n_2_3 exprtk parser error: Error[00] Position: 00 Type: [ Syntax Error] Msg: ERR202 - Undefined symbol: 'f_2_3' Expression: f_2_3 Ending FDF-small-fitness-specs Tue Oct 14 11:04:02 2025 Took 0.7 Starting LOD_POM at Tue Oct 14 11:04:02 2025 Ending LOD_POM at Tue Oct 14 11:04:23 2025 Took 21.39 Starting test.Z-all-fitness at Tue Oct 14 11:04:23 2025 Ending test.Z-all-fitness at Tue Oct 14 11:04:23 2025 Took 0.15 Starting test.Z-driver-counts at Tue Oct 14 11:04:23 2025 Ending test.Z-driver-counts at Tue Oct 14 11:04:24 2025 Took 0.18 Starting test.Z-fixation at Tue Oct 14 11:04:24 2025 Ending test.Z-fixation at Tue Oct 14 11:04:24 2025 Took 0.4 Starting test.Z-magellan at Tue Oct 14 11:04:24 2025 Ended test.Z-magellan at Tue Oct 14 11:04:27 2025 Starting test.Z-mutator at Tue Oct 14 11:04:27 2025 Ending test.Z-mutator at Tue Oct 14 11:04:28 2025 Took 1.05 Starting test.Z-mutatorFDF at Tue Oct 14 11:04:28 2025 Ending test.Z-mutatorFDF at Tue Oct 14 11:04:28 2025 Took 0.17 Starting test.Z-oncoSimulIndiv at Tue Oct 14 11:04:28 2025 Ending test.Z-oncoSimulIndiv at Tue Oct 14 11:04:29 2025 Took 0.71 Starting test.Z-oncoSimulIndivConstant at Tue Oct 14 11:04:29 2025 Ending test.Z-oncoSimulIndivConstant at Tue Oct 14 11:04:32 2025 Took 3.39 Starting test.Z-oncoSimulIndivDeath at Tue Oct 14 11:04:32 2025 Ending test.Z-oncoSimulIndivDeath at Tue Oct 14 11:04:33 2025 Took 1 Starting test.Z-oncoSimulIndivFDF at Tue Oct 14 11:04:33 2025 Hitted wall time. Exiting. Hitting wall time is regarded as an error. Ending test.Z-oncoSimulIndivFDF at Tue Oct 14 11:04:35 2025 Took 1.17 Starting test.Z-rfitness-landscape at Tue Oct 14 11:04:35 2025 Ending test.Z-rfitness-landscape at Tue Oct 14 11:04:35 2025 Took 0.41 Starting Z-sample-only-last tests Tue Oct 14 11:04:35 2025 Ending Z-sample-only-last tests Tue Oct 14 11:04:35 2025 Took 0 Starting Z-total-present-drivers tests Tue Oct 14 11:04:35 2025 Ending Z-total-present-drivers tests Tue Oct 14 11:04:36 2025 Took 1.07 Dummy empty test Tue Oct 14 11:04:36 2025 Starting accessible_genotypes at Tue Oct 14 11:04:36 2025 Ending accessible_genotypes at Tue Oct 14 11:04:47 2025 Took 11.27 Starting all fitness at Tue Oct 14 11:04:47 2025 Ending all-fitness at Tue Oct 14 11:04:54 2025 Took 6.48 Starting test.allFitnessEffectsFDF at Tue Oct 14 11:04:54 2025 Ending test.allFitnessEffectsFDF at Tue Oct 14 11:04:54 2025 Took 0.21 Starting test.allFitnessEffectsDeath at Tue Oct 14 11:04:54 2025 Ending test.allFitnessEffectsDeath at Tue Oct 14 11:04:55 2025 Took 0.54 Starting test.allFitnessEffectsFDF at Tue Oct 14 11:04:55 2025 Ending test.allFitnessEffectsFDF at Tue Oct 14 11:04:55 2025 Took 0.51 Starting driverCounts at Tue Oct 14 11:04:55 2025 Ending driverCounts at Tue Oct 14 11:05:12 2025 Took 16.56 Starting epist-order-modules at Tue Oct 14 11:05:12 2025 Ending epist-order-modules at Tue Oct 14 11:05:12 2025 Took 0.15 Starting test.evaluatingGenotypesDeath at Tue Oct 14 11:05:12 2025 Ending test.evaluatingGenotypesDeath at Tue Oct 14 11:05:12 2025 Took 0.54 Starting test.evaluatingGenotypesFDF at Tue Oct 14 11:05:12 2025 Ending test.evaluatingGenotypesFDF at Tue Oct 14 11:05:13 2025 Took 0.5 Starting exercise-plotting-code at Tue Oct 14 11:05:13 2025 Ending exercise-plotting-code at Tue Oct 14 11:05:17 2025 Took 4.37 Starting exercise-rfitness at Tue Oct 14 11:05:17 2025 Ending exercise-rfitness at Tue Oct 14 11:05:30 2025 Took 13.28 Starting to_Magella at Tue Oct 14 11:05:31 2025 Ending to_Magella at Tue Oct 14 11:05:31 2025 Took 0.05 Starting fitness preds at Tue Oct 14 11:05:31 2025 Observed vs expected, case III done tries 1 Ending fitness preds long at Tue Oct 14 11:05:44 2025 Took 13.79 Starting fixation at Tue Oct 14 11:05:44 2025 Ending fixation at Tue Oct 14 11:06:10 2025 Took 25.97 Starting test.flfast-additional.R test at Tue Oct 14 11:06:10 2025 Ending test.flfast-additional.R test at Tue Oct 14 11:06:12 2025 Took 1.85 Starting test.flfast-mutator.R test at Tue Oct 14 11:06:12 2025 Finished test.flfast-mutator.R test at Tue Oct 14 11:06:14 2025 Took 2.08 Starting genotFitness at Tue Oct 14 11:06:14 2025 Ending genotFitness at Tue Oct 14 11:06:15 2025 Took 0.24 Starting genot_fitness_to_epistasis at Tue Oct 14 11:06:15 2025 Ending genot_fitness_to_epistasis at Tue Oct 14 11:06:15 2025 Took 0.06 Starting init-mutant tests Tue Oct 14 11:06:15 2025 exprtk parser error: Error[00] Position: 18 Type: [ Syntax Error] Msg: ERR202 - Undefined symbol: 'f_2' Expression: 1.1 + 0.7*((f_1 + f_2) > 0.3) Ending init-mutant tests Tue Oct 14 11:06:24 2025 Took 9.37 Starting interventions tests Tue Oct 14 11:06:24 2025 [1] "Checking intervention: intOverA" [1] "Checking intervention: intOverA" [1] "Checking intervention: intOverA" [1] "Checking intervention: intOverA" [1] "Checking intervention: intOverMultiplicatesA" In intervention:intOverMultiplicatesA with WhatHappens: n_1 = n_1 * 2. You cannot intervene to generate more population.[1] "Checking intervention: intOverA" [1] "Checking intervention: intOverA" [1] "Checking intervention: intOverTotPop" [1] 0.4 0.4 0.4 [1] "Checking intervention: intOverTotPop" [1] "Checking intervention: intOverA" [1] "Checking intervention: intOverB" [1] "Checking intervention: intOverC" [1] "Checking intervention: intOverD" Init Mutant with birth == 1.0 Init Mutant with birth == 1.0 [1] "Checking intervention: intOverA" [1] "Checking intervention: intOverB" [1] "Checking intervention: intOverC" [1] "Checking intervention: intOverD" Init Mutant with birth == 1.0 Init Mutant with birth == 1.0 [1] "Checking user variable: user_var_1" [1] "Checking rule: rule_1" [1] "Checking rule: rule_2" [1] "Checking rule: rule_3" [1] "Checking intervention: intOverTotPop" [1] "Checking intervention: intOverTotPop2" [1] "Checking intervention: intOverTotPop3" [1] "Checking user variable: user_var_1" [1] "Checking rule: rule_1" [1] "Checking rule: rule_2" [1] "Checking rule: rule_3" [1] "Checking intervention: intOverTotPop" Ending interventions tests Tue Oct 14 11:06:30 2025 Took 5.76 Starting test.magellan at Tue Oct 14 11:06:30 2025 Ending test.magellan at Tue Oct 14 11:06:30 2025 Took 0.26 Starting test.modules-root-no-root at Tue Oct 14 11:06:30 2025 Ending test.modules-root-no-root at Tue Oct 14 11:06:30 2025 Took 0.26 Starting at mutPropGrowth Tue Oct 14 11:06:30 2025 Ended test.mutPropGrowth: Tue Oct 14 11:06:42 2025 Took 12.18 Starting test.mutator-oncoSimulSample.R test at Tue Oct 14 11:06:42 2025 Finished test.mutator-oncoSimulSample.R test at Tue Oct 14 11:06:55 2025 Took 12.43 seconds Starting test.mutator.R test at Tue Oct 14 11:06:55 2025[1] 7.119253e-08 [1] 1.192868e-11 Finished test.mutator.R test at Tue Oct 14 11:07:15 2025 Took 19.92 Starting test.mutatorFDF.R test at Tue Oct 14 11:07:15 2025 Starting oncoSimulIndiv-miscell tests Tue Oct 14 11:07:16 2025 Ending oncoSimulIndiv-miscell tests Tue Oct 14 11:07:33 2025 Took 17.1 Starting oncoSimulSample-failures tests Tue Oct 14 11:07:33 2025 Ending oncoSimulSample-failures tests Tue Oct 14 11:07:37 2025 Took 3.86 Starting oncoSimulSample-limits tests Tue Oct 14 11:07:37 2025 Ending oncoSimulSample-limits tests Tue Oct 14 11:07:37 2025 Took 0.09 Starting per-gene-mutation rates at Tue Oct 14 11:07:37 2025 Ending per-gene-mutation rates at Tue Oct 14 11:08:12 2025 Took 35.47 Starting plotFitnessLandscape at Tue Oct 14 11:08:12 2025 Ending plotFitnessLandscape at Tue Oct 14 11:08:17 2025 Took 5.24 Starting poset-transformations tests Tue Oct 14 11:08:17 2025 Ending poset-transformations tests Tue Oct 14 11:08:32 2025 Took 14.77 Starting sample-prob Tue Oct 14 11:08:32 2025 [1] 1.584119e-25 [1] 2.220947e-10 [1] 1.322036e-07 [1] 1.353185e-11 [1] 1.360527e-10 [1] 2.552588e-13 [1] 1.877119e-13 [1] 1.442171e-16 [1] 9.768418e-09 [1] 5.706184e-08 [1] 2.424671e-08 [1] 7.563249e-08 Ending sample-prob tests Tue Oct 14 11:08:45 2025 Took 12.48 Starting samplePop tests Tue Oct 14 11:08:45 2025 Ending samplePop tests Tue Oct 14 11:08:53 2025 Took 8.72 Starting simuls-runs-examples tests Tue Oct 14 11:08:53 2025 Ending simuls-runs-examples tests Tue Oct 14 11:09:07 2025 Took 13.54 Starting user variable tests Tue Oct 14 11:09:07 2025 [1] "Checking user variable: user_var_1" [1] "Checking rule: rule_1" Ending user variable tests Tue Oct 14 11:09:07 2025 Took 0.13 Starting warning-mutPropGrowth tests Tue Oct 14 11:09:07 2025 Ending warning-mutPropGrowth tests Tue Oct 14 11:09:08 2025 Took 0.46 Starting wide2long tests Tue Oct 14 11:09:08 2025 Ending wide2long tests Tue Oct 14 11:09:08 2025 Took 0.29 [ FAIL 0 | WARN 19 | SKIP 5 | PASS 8403 ] ══ Skipped tests (5) ═══════════════════════════════════════════════════════════ • empty test (5): 'test.FDF-letter-fitness-order.R:376:1', 'test.ZZ-dummy-skip-warn-test.R:8:1', 'test.ZZ-dummy-skip-warn-test.R:12:1', 'test.fixation.R:4:1', 'test.init-mutant.R:1099:1' [ FAIL 0 | WARN 19 | SKIP 5 | PASS 8403 ] > > proc.time() user system elapsed 279.683 31.183 313.182
OncoSimulR.Rcheck/OncoSimulR-Ex.timings
name | user | system | elapsed | |
OncoSimulWide2Long | 0.263 | 0.000 | 0.532 | |
POM | 0.857 | 0.050 | 1.212 | |
allFitnessEffects | 3.057 | 0.096 | 5.102 | |
benchmarks | 0.01 | 0.00 | 0.01 | |
createInterventions | 0.347 | 0.000 | 0.348 | |
createUserVars | 0.531 | 0.012 | 0.636 | |
evalAllGenotypes | 0.250 | 0.028 | 0.279 | |
example-missing-drivers | 0.269 | 0.024 | 0.294 | |
examplePosets | 0.334 | 0.011 | 0.359 | |
examplesFitnessEffects | 0.106 | 0.000 | 0.122 | |
freq-dep-simul-examples | 0.007 | 0.004 | 0.011 | |
mcfLs | 0 | 0 | 0 | |
oncoSimulIndiv | 1.380 | 0.113 | 2.337 | |
plot.fitnessEffects | 0.323 | 0.032 | 0.709 | |
plot.oncosimul | 0.607 | 0.020 | 0.948 | |
plotClonePhylog | 1.523 | 0.080 | 1.656 | |
plotFitnessLandscape | 2.095 | 0.079 | 2.558 | |
plotPoset | 0.133 | 0.004 | 0.137 | |
poset | 0.150 | 0.000 | 0.158 | |
rfitness | 1.084 | 0.064 | 1.311 | |
samplePop | 0.070 | 0.048 | 0.128 | |
simOGraph | 0.083 | 0.012 | 0.192 | |
to_Magellan | 0.220 | 0.026 | 0.483 | |
vignette_pre_computed | 0.005 | 0.004 | 0.018 | |