| Back to Multiple platform build/check report for BioC 3.22: simplified long |
|
This page was generated on 2025-08-15 12:07 -0400 (Fri, 15 Aug 2025).
| Hostname | OS | Arch (*) | R version | Installed pkgs |
|---|---|---|---|---|
| nebbiolo2 | Linux (Ubuntu 24.04.3 LTS) | x86_64 | 4.5.1 (2025-06-13) -- "Great Square Root" | 4818 |
| palomino8 | Windows Server 2022 Datacenter | x64 | 4.5.1 (2025-06-13 ucrt) -- "Great Square Root" | 4554 |
| lconway | macOS 12.7.1 Monterey | x86_64 | 4.5.1 (2025-06-13) -- "Great Square Root" | 4595 |
| kjohnson3 | macOS 13.7.7 Ventura | arm64 | 4.5.1 Patched (2025-06-14 r88325) -- "Great Square Root" | 4537 |
| taishan | Linux (openEuler 24.03 LTS) | aarch64 | 4.5.0 (2025-04-11) -- "How About a Twenty-Six" | 4535 |
| Click on any hostname to see more info about the system (e.g. compilers) (*) as reported by 'uname -p', except on Windows and Mac OS X | ||||
| Package 1501/2317 | Hostname | OS / Arch | INSTALL | BUILD | CHECK | BUILD BIN | ||||||||
| OUTRIDER 1.27.2 (landing page) Christian Mertes
| nebbiolo2 | Linux (Ubuntu 24.04.3 LTS) / x86_64 | OK | OK | OK | |||||||||
| palomino8 | Windows Server 2022 Datacenter / x64 | OK | OK | OK | OK | |||||||||
| lconway | macOS 12.7.1 Monterey / x86_64 | OK | OK | OK | OK | |||||||||
| kjohnson3 | macOS 13.7.7 Ventura / arm64 | OK | OK | OK | OK | |||||||||
| taishan | Linux (openEuler 24.03 LTS) / aarch64 | OK | OK | OK | ||||||||||
|
To the developers/maintainers of the OUTRIDER package: - Allow up to 24 hours (and sometimes 48 hours) for your latest push to git@git.bioconductor.org:packages/OUTRIDER.git to reflect on this report. See Troubleshooting Build Report for more information. - Use the following Renviron settings to reproduce errors and warnings. - If 'R CMD check' started to fail recently on the Linux builder(s) over a missing dependency, add the missing dependency to 'Suggests:' in your DESCRIPTION file. See Renviron.bioc for more information. |
| Package: OUTRIDER |
| Version: 1.27.2 |
| Command: F:\biocbuild\bbs-3.22-bioc\R\bin\R.exe CMD check --no-multiarch --install=check:OUTRIDER.install-out.txt --library=F:\biocbuild\bbs-3.22-bioc\R\library --no-vignettes --timings OUTRIDER_1.27.2.tar.gz |
| StartedAt: 2025-08-15 06:08:19 -0400 (Fri, 15 Aug 2025) |
| EndedAt: 2025-08-15 06:22:58 -0400 (Fri, 15 Aug 2025) |
| EllapsedTime: 879.2 seconds |
| RetCode: 0 |
| Status: OK |
| CheckDir: OUTRIDER.Rcheck |
| Warnings: 0 |
##############################################################################
##############################################################################
###
### Running command:
###
### F:\biocbuild\bbs-3.22-bioc\R\bin\R.exe CMD check --no-multiarch --install=check:OUTRIDER.install-out.txt --library=F:\biocbuild\bbs-3.22-bioc\R\library --no-vignettes --timings OUTRIDER_1.27.2.tar.gz
###
##############################################################################
##############################################################################
* using log directory 'F:/biocbuild/bbs-3.22-bioc/meat/OUTRIDER.Rcheck'
* using R version 4.5.1 (2025-06-13 ucrt)
* using platform: x86_64-w64-mingw32
* R was compiled by
gcc.exe (GCC) 14.2.0
GNU Fortran (GCC) 14.2.0
* running under: Windows Server 2022 x64 (build 20348)
* using session charset: UTF-8
* using option '--no-vignettes'
* checking for file 'OUTRIDER/DESCRIPTION' ... OK
* checking extension type ... Package
* this is package 'OUTRIDER' version '1.27.2'
* package encoding: UTF-8
* checking package namespace information ... OK
* checking package dependencies ... INFO
Imports includes 22 non-default packages.
Importing from so many packages makes the package vulnerable to any of
them becoming unavailable. Move as many as possible to Suggests and
use conditionally.
* checking if this is a source package ... OK
* checking if there is a namespace ... OK
* checking for hidden files and directories ... OK
* checking for portable file names ... OK
* checking whether package 'OUTRIDER' can be installed ... OK
* used C++ compiler: 'G__~1.EXE (GCC) 14.2.0'
* checking installed package size ... OK
* checking package directory ... OK
* checking 'build' directory ... OK
* checking DESCRIPTION meta-information ... OK
* checking top-level files ... OK
* checking for left-over files ... OK
* checking index information ... OK
* checking package subdirectories ... OK
* checking code files for non-ASCII characters ... OK
* checking R files for syntax errors ... OK
* checking whether the package can be loaded ... OK
* checking whether the package can be loaded with stated dependencies ... OK
* checking whether the package can be unloaded cleanly ... OK
* checking whether the namespace can be loaded with stated dependencies ... OK
* checking whether the namespace can be unloaded cleanly ... OK
* checking dependencies in R code ... NOTE
Unexported object imported by a ':::' call: 'ggbio:::.buildFacetsFromArgs'
See the note in ?`:::` about the use of this operator.
There are ::: calls to the package's namespace in its code. A package
almost never needs to use ::: for its own objects:
'checkOutriderDataSet'
* checking S3 generic/method consistency ... OK
* checking replacement functions ... OK
* checking foreign function calls ... OK
* checking R code for possible problems ... NOTE
estimateBestQ: no visible binding for global variable 'oht'
plotEncDimSearch.OUTRIDER: no visible binding for global variable 'oht'
plotEncDimSearch.OUTRIDER: no visible binding for global variable
'singular_values'
plotEncDimSearch,OutriderDataSet: no visible binding for global
variable 'oht'
plotEncDimSearch,OutriderDataSet: no visible binding for global
variable 'singular_values'
Undefined global functions or variables:
oht singular_values
* checking Rd files ... OK
* checking Rd metadata ... OK
* checking Rd cross-references ... NOTE
Non-topic package-anchored link(s) in Rd file 'getter_setter_functions.Rd':
'[DESeq2]{estimateDispersions}'
Non-topic package-anchored link(s) in Rd file 'sizeFactors.Rd':
'[DESeq2]{estimateSizeFactors}'
See section 'Cross-references' in the 'Writing R Extensions' manual.
* checking for missing documentation entries ... OK
* checking for code/documentation mismatches ... OK
* checking Rd \usage sections ... OK
* checking Rd contents ... OK
* checking for unstated dependencies in examples ... OK
* checking line endings in C/C++/Fortran sources/headers ... OK
* checking line endings in Makefiles ... OK
* checking compilation flags in Makevars ... OK
* checking for GNU extensions in Makefiles ... OK
* checking for portable use of $(BLAS_LIBS) and $(LAPACK_LIBS) ... OK
* checking use of PKG_*FLAGS in Makefiles ... OK
* checking compiled code ... NOTE
Note: information on .o files for x64 is not available
File 'F:/biocbuild/bbs-3.22-bioc/R/library/OUTRIDER/libs/x64/OUTRIDER.dll':
Found '_exit', possibly from '_exit' (C)
Found 'abort', possibly from 'abort' (C), 'runtime' (Fortran)
Found 'exit', possibly from 'exit' (C), 'stop' (Fortran)
Compiled code should not call entry points which might terminate R nor
write to stdout/stderr instead of to the console, nor use Fortran I/O
nor system RNGs nor [v]sprintf. The detected symbols are linked into
the code but might come from libraries and not actually be called.
See 'Writing portable packages' in the 'Writing R Extensions' manual.
* checking sizes of PDF files under 'inst/doc' ... OK
* checking files in 'vignettes' ... OK
* checking examples ... OK
Examples with CPU (user + system) or elapsed time > 5s
user system elapsed
plotFunctions 18.55 1.00 19.59
estimateBestQ 14.44 0.11 14.54
OUTRIDER 14.03 0.32 112.84
computePvalues 8.65 0.17 135.89
aberrant 3.44 0.08 48.53
* checking for unstated dependencies in 'tests' ... OK
* checking tests ...
Running 'testthat.R'
OK
* checking for unstated dependencies in vignettes ... OK
* checking package vignettes ... OK
* checking running R code from vignettes ... SKIPPED
* checking re-building of vignette outputs ... SKIPPED
* checking PDF version of manual ... OK
* DONE
Status: 4 NOTEs
See
'F:/biocbuild/bbs-3.22-bioc/meat/OUTRIDER.Rcheck/00check.log'
for details.
OUTRIDER.Rcheck/00install.out
############################################################################## ############################################################################## ### ### Running command: ### ### F:\biocbuild\bbs-3.22-bioc\R\bin\R.exe CMD INSTALL OUTRIDER ### ############################################################################## ############################################################################## * installing to library 'F:/biocbuild/bbs-3.22-bioc/R/library' * installing *source* package 'OUTRIDER' ... ** this is package 'OUTRIDER' version '1.27.2' ** using staged installation ** libs using C++ compiler: 'G__~1.EXE (GCC) 14.2.0' g++ -std=gnu++17 -I"F:/biocbuild/bbs-3.22-bioc/R/include" -DNDEBUG -I'F:/biocbuild/bbs-3.22-bioc/R/library/Rcpp/include' -I'F:/biocbuild/bbs-3.22-bioc/R/library/RcppArmadillo/include' -I"C:/rtools45/x86_64-w64-mingw32.static.posix/include" -fopenmp -DARMA_DONT_USE_OPENMP -O2 -Wall -mfpmath=sse -msse2 -mstackrealign -c RcppExports.cpp -o RcppExports.o g++ -std=gnu++17 -I"F:/biocbuild/bbs-3.22-bioc/R/include" -DNDEBUG -I'F:/biocbuild/bbs-3.22-bioc/R/library/Rcpp/include' -I'F:/biocbuild/bbs-3.22-bioc/R/library/RcppArmadillo/include' -I"C:/rtools45/x86_64-w64-mingw32.static.posix/include" -fopenmp -DARMA_DONT_USE_OPENMP -O2 -Wall -mfpmath=sse -msse2 -mstackrealign -c loss_n_gradient_functions.cpp -o loss_n_gradient_functions.o g++ -std=gnu++17 -shared -s -static-libgcc -o OUTRIDER.dll tmp.def RcppExports.o loss_n_gradient_functions.o -fopenmp -LF:/biocbuild/bbs-3.22-bioc/R/bin/x64 -lRlapack -LF:/biocbuild/bbs-3.22-bioc/R/bin/x64 -lRblas -lgfortran -lquadmath -LC:/rtools45/x86_64-w64-mingw32.static.posix/lib/x64 -LC:/rtools45/x86_64-w64-mingw32.static.posix/lib -LF:/biocbuild/bbs-3.22-bioc/R/bin/x64 -lR installing to F:/biocbuild/bbs-3.22-bioc/R/library/00LOCK-OUTRIDER/00new/OUTRIDER/libs/x64 ** R ** inst ** byte-compile and prepare package for lazy loading ** help *** installing help indices ** building package indices ** installing vignettes ** testing if installed package can be loaded from temporary location ** testing if installed package can be loaded from final location ** testing if installed package keeps a record of temporary installation path * DONE (OUTRIDER)
OUTRIDER.Rcheck/tests/testthat.Rout
R version 4.5.1 (2025-06-13 ucrt) -- "Great Square Root"
Copyright (C) 2025 The R Foundation for Statistical Computing
Platform: x86_64-w64-mingw32/x64
R is free software and comes with ABSOLUTELY NO WARRANTY.
You are welcome to redistribute it under certain conditions.
Type 'license()' or 'licence()' for distribution details.
R is a collaborative project with many contributors.
Type 'contributors()' for more information and
'citation()' on how to cite R or R packages in publications.
Type 'demo()' for some demos, 'help()' for on-line help, or
'help.start()' for an HTML browser interface to help.
Type 'q()' to quit R.
> library(testthat)
> library(OUTRIDER)
Loading required package: BiocParallel
Loading required package: GenomicFeatures
Loading required package: BiocGenerics
Loading required package: generics
Attaching package: 'generics'
The following objects are masked from 'package:base':
as.difftime, as.factor, as.ordered, intersect, is.element, setdiff,
setequal, union
Attaching package: 'BiocGenerics'
The following objects are masked from 'package:stats':
IQR, mad, sd, var, xtabs
The following objects are masked from 'package:base':
Filter, Find, Map, Position, Reduce, anyDuplicated, aperm, append,
as.data.frame, basename, cbind, colnames, dirname, do.call,
duplicated, eval, evalq, get, grep, grepl, is.unsorted, lapply,
mapply, match, mget, order, paste, pmax, pmax.int, pmin, pmin.int,
rank, rbind, rownames, sapply, saveRDS, table, tapply, unique,
unsplit, which.max, which.min
Loading required package: S4Vectors
Loading required package: stats4
Attaching package: 'S4Vectors'
The following object is masked from 'package:utils':
findMatches
The following objects are masked from 'package:base':
I, expand.grid, unname
Loading required package: IRanges
Attaching package: 'IRanges'
The following object is masked from 'package:grDevices':
windows
Loading required package: Seqinfo
Loading required package: GenomicRanges
Loading required package: AnnotationDbi
Loading required package: Biobase
Welcome to Bioconductor
Vignettes contain introductory material; view with
'browseVignettes()'. To cite Bioconductor, see
'citation("Biobase")', and for packages 'citation("pkgname")'.
Loading required package: SummarizedExperiment
Loading required package: MatrixGenerics
Loading required package: matrixStats
Attaching package: 'matrixStats'
The following objects are masked from 'package:Biobase':
anyMissing, rowMedians
Attaching package: 'MatrixGenerics'
The following objects are masked from 'package:matrixStats':
colAlls, colAnyNAs, colAnys, colAvgsPerRowSet, colCollapse,
colCounts, colCummaxs, colCummins, colCumprods, colCumsums,
colDiffs, colIQRDiffs, colIQRs, colLogSumExps, colMadDiffs,
colMads, colMaxs, colMeans2, colMedians, colMins, colOrderStats,
colProds, colQuantiles, colRanges, colRanks, colSdDiffs, colSds,
colSums2, colTabulates, colVarDiffs, colVars, colWeightedMads,
colWeightedMeans, colWeightedMedians, colWeightedSds,
colWeightedVars, rowAlls, rowAnyNAs, rowAnys, rowAvgsPerColSet,
rowCollapse, rowCounts, rowCummaxs, rowCummins, rowCumprods,
rowCumsums, rowDiffs, rowIQRDiffs, rowIQRs, rowLogSumExps,
rowMadDiffs, rowMads, rowMaxs, rowMeans2, rowMedians, rowMins,
rowOrderStats, rowProds, rowQuantiles, rowRanges, rowRanks,
rowSdDiffs, rowSds, rowSums2, rowTabulates, rowVarDiffs, rowVars,
rowWeightedMads, rowWeightedMeans, rowWeightedMedians,
rowWeightedSds, rowWeightedVars
The following object is masked from 'package:Biobase':
rowMedians
Loading required package: data.table
Attaching package: 'data.table'
The following object is masked from 'package:SummarizedExperiment':
shift
The following object is masked from 'package:GenomicRanges':
shift
The following object is masked from 'package:IRanges':
shift
The following objects are masked from 'package:S4Vectors':
first, second
>
> register(SerialParam())
>
> test_check("OUTRIDER")
[1] "Fri Aug 15 06:21:26 2025: Initial PCA loss: 6.31503403816782"
[1] "Fri Aug 15 06:21:27 2025: Iteration: 1 loss: 4.55697950425801"
[1] "Fri Aug 15 06:21:28 2025: Iteration: 2 loss: 4.45019320419223"
[1] "Fri Aug 15 06:21:29 2025: Iteration: 3 loss: 4.39631863135383"
[1] "Fri Aug 15 06:21:30 2025: Iteration: 4 loss: 4.37839135682964"
[1] "Fri Aug 15 06:21:31 2025: Iteration: 5 loss: 4.37102758463249"
[1] "Fri Aug 15 06:21:31 2025: Iteration: 6 loss: 4.36959847907431"
Time difference of 4.927226 secs
[1] "Fri Aug 15 06:21:31 2025: 6 Final nb-AE loss: 4.36959847907431"
[1] "Fri Aug 15 06:21:33 2025: Initial PCA loss: 6.31503403816782"
[1] "Fri Aug 15 06:21:34 2025: Iteration: 1 loss: 4.55697950425801"
[1] "Fri Aug 15 06:21:35 2025: Iteration: 2 loss: 4.45019320419223"
[1] "Fri Aug 15 06:21:36 2025: Iteration: 3 loss: 4.39631863135383"
[1] "Fri Aug 15 06:21:37 2025: Iteration: 4 loss: 4.37839135682964"
[1] "Fri Aug 15 06:21:37 2025: Iteration: 5 loss: 4.37102758463249"
[1] "Fri Aug 15 06:21:38 2025: Iteration: 6 loss: 4.36959847907431"
Time difference of 4.989074 secs
[1] "Fri Aug 15 06:21:38 2025: 6 Final nb-AE loss: 4.36959847907431"
class: OutriderDataSet
class: RangedSummarizedExperiment
dim: 100 50
metadata(1): version
assays(1): counts
rownames(100): ENSG00000223972.4 ENSG00000227232.4 ...
ENSG00000107404.13 ENSG00000162576.12
rowData names(0):
colnames(50): GTEX.UPK5.0426.SM.3GAEK GTEX.WFG7.2026.SM.3GIL7 ...
GTEX.11UD2.2526.SM.5CVNU GTEX.13O61.1426.SM.5KM3D
colData names(1): sampleID
[1] "Fri Aug 15 06:21:45 2025: Initial PCA loss: 4.52143012239749"
[1] "Fri Aug 15 06:21:47 2025: Iteration: 1 loss: 4.09931056646148"
[1] "Fri Aug 15 06:21:48 2025: Iteration: 2 loss: 4.05397302764531"
Time difference of 1.635043 secs
[1] "Fri Aug 15 06:21:48 2025: 2 Final nb-AE loss: 4.05397302764531"
[1] "Evaluation loss: 0.466178715274528 for q=3"
[1] "Fri Aug 15 06:21:49 2025: Initial PCA loss: 4.47631470129654"
[1] "Fri Aug 15 06:21:50 2025: Iteration: 1 loss: 4.04222852943919"
[1] "Fri Aug 15 06:21:51 2025: Iteration: 2 loss: 3.99066127899538"
Time difference of 1.446608 secs
[1] "Fri Aug 15 06:21:51 2025: 2 Final nb-AE loss: 3.99066127899538"
[1] "Evaluation loss: 0.481113940255713 for q=4"
[1] "Fri Aug 15 06:21:52 2025: Initial PCA loss: 4.44505485503312"
[1] "Fri Aug 15 06:21:53 2025: Iteration: 1 loss: 3.94288267194241"
[1] "Fri Aug 15 06:21:54 2025: Iteration: 2 loss: 3.89990952960879"
Time difference of 1.720273 secs
[1] "Fri Aug 15 06:21:54 2025: 2 Final nb-AE loss: 3.89990952960879"
[1] "Evaluation loss: 0.426641630734569 for q=5"
Optimal encoding dimension: 4
Optimal encoding dimension: 50
Optimal encoding dimension: 20
Optimal encoding dimension: 2
Optimal encoding dimension: 4
[1] "Fri Aug 15 06:22:21 2025: Initial PCA loss: 7.16457134714849"
[1] "Fri Aug 15 06:22:23 2025: Iteration: 1 loss: 6.82914738092401"
[1] "Fri Aug 15 06:22:24 2025: Iteration: 2 loss: 6.82748931657223"
Time difference of 2.378342 secs
[1] "Fri Aug 15 06:22:24 2025: 2 Final nb-AE loss: 6.82748931657223"
[ FAIL 0 | WARN 5 | SKIP 0 | PASS 131 ]
[ FAIL 0 | WARN 5 | SKIP 0 | PASS 131 ]
>
> proc.time()
user system elapsed
100.10 2.96 103.10
OUTRIDER.Rcheck/OUTRIDER-Ex.timings
| name | user | system | elapsed | |
| OUTRIDER | 14.03 | 0.32 | 112.84 | |
| OutriderDataSet-class | 1.04 | 0.00 | 1.04 | |
| aberrant | 3.44 | 0.08 | 48.53 | |
| computeGeneLength | 1.89 | 0.10 | 2.08 | |
| computeLatentSpace | 1.10 | 0.00 | 1.13 | |
| computePvalues | 8.65 | 0.17 | 135.89 | |
| computeZscores | 0.99 | 0.00 | 0.98 | |
| controlForConfounders | 1.42 | 0.06 | 1.49 | |
| counts | 0.81 | 0.02 | 0.83 | |
| estimateBestQ | 14.44 | 0.11 | 14.54 | |
| filterExpression | 2.16 | 0.03 | 2.19 | |
| fit | 1.12 | 0.01 | 1.14 | |
| fpkm | 1.00 | 0.05 | 1.05 | |
| getter_setter_functions | 3.41 | 0.06 | 3.47 | |
| makeExampleOutriderDataSet | 1.47 | 0.01 | 1.49 | |
| normalizationFactors | 0.90 | 0.02 | 0.92 | |
| plotFunctions | 18.55 | 1.00 | 19.59 | |
| results | 4.15 | 0.05 | 4.21 | |
| sampleExclusionMask | 0.5 | 0.0 | 0.5 | |
| sizeFactors | 0.90 | 0.01 | 0.90 | |