| Back to Multiple platform build/check report for BioC 3.23: simplified long |
|
This page was generated on 2025-11-26 11:38 -0500 (Wed, 26 Nov 2025).
| Hostname | OS | Arch (*) | R version | Installed pkgs |
|---|---|---|---|---|
| nebbiolo1 | Linux (Ubuntu 24.04.3 LTS) | x86_64 | R Under development (unstable) (2025-10-20 r88955) -- "Unsuffered Consequences" | 4830 |
| lconway | macOS 12.7.6 Monterey | x86_64 | R Under development (unstable) (2025-10-21 r88958) -- "Unsuffered Consequences" | 4609 |
| kjohnson3 | macOS 13.7.7 Ventura | arm64 | R Under development (unstable) (2025-11-04 r88984) -- "Unsuffered Consequences" | 4569 |
| Click on any hostname to see more info about the system (e.g. compilers) (*) as reported by 'uname -p', except on Windows and Mac OS X | ||||
| Package 1414/2328 | Hostname | OS / Arch | INSTALL | BUILD | CHECK | BUILD BIN | ||||||||
| MutationalPatterns 3.21.0 (landing page) Mark van Roosmalen
| nebbiolo1 | Linux (Ubuntu 24.04.3 LTS) / x86_64 | OK | OK | ERROR | |||||||||
| lconway | macOS 12.7.6 Monterey / x86_64 | OK | ERROR | skipped | skipped | |||||||||
| kjohnson3 | macOS 13.7.7 Ventura / arm64 | OK | ERROR | skipped | skipped | |||||||||
|
To the developers/maintainers of the MutationalPatterns package: - Allow up to 24 hours (and sometimes 48 hours) for your latest push to git@git.bioconductor.org:packages/MutationalPatterns.git to reflect on this report. See Troubleshooting Build Report for more information. - Use the following Renviron settings to reproduce errors and warnings. - If 'R CMD check' started to fail recently on the Linux builder(s) over a missing dependency, add the missing dependency to 'Suggests:' in your DESCRIPTION file. See Renviron.bioc for more information. |
| Package: MutationalPatterns |
| Version: 3.21.0 |
| Command: /home/biocbuild/bbs-3.23-bioc/R/bin/R CMD check --install=check:MutationalPatterns.install-out.txt --library=/home/biocbuild/bbs-3.23-bioc/R/site-library --timings MutationalPatterns_3.21.0.tar.gz |
| StartedAt: 2025-11-26 02:01:21 -0500 (Wed, 26 Nov 2025) |
| EndedAt: 2025-11-26 02:21:25 -0500 (Wed, 26 Nov 2025) |
| EllapsedTime: 1203.9 seconds |
| RetCode: 1 |
| Status: ERROR |
| CheckDir: MutationalPatterns.Rcheck |
| Warnings: NA |
##############################################################################
##############################################################################
###
### Running command:
###
### /home/biocbuild/bbs-3.23-bioc/R/bin/R CMD check --install=check:MutationalPatterns.install-out.txt --library=/home/biocbuild/bbs-3.23-bioc/R/site-library --timings MutationalPatterns_3.21.0.tar.gz
###
##############################################################################
##############################################################################
* using log directory ‘/home/biocbuild/bbs-3.23-bioc/meat/MutationalPatterns.Rcheck’
* using R Under development (unstable) (2025-10-20 r88955)
* using platform: x86_64-pc-linux-gnu
* R was compiled by
gcc (Ubuntu 13.3.0-6ubuntu2~24.04) 13.3.0
GNU Fortran (Ubuntu 13.3.0-6ubuntu2~24.04) 13.3.0
* running under: Ubuntu 24.04.3 LTS
* using session charset: UTF-8
* checking for file ‘MutationalPatterns/DESCRIPTION’ ... OK
* checking extension type ... Package
* this is package ‘MutationalPatterns’ version ‘3.21.0’
* package encoding: UTF-8
* checking package namespace information ... OK
* checking package dependencies ... OK
* checking if this is a source package ... OK
* checking if there is a namespace ... OK
* checking for hidden files and directories ... OK
* checking for portable file names ... OK
* checking for sufficient/correct file permissions ... OK
* checking whether package ‘MutationalPatterns’ can be installed ... OK
* checking installed package size ... OK
* checking package directory ... OK
* checking ‘build’ directory ... OK
* checking DESCRIPTION meta-information ... NOTE
License stub is invalid DCF.
* checking top-level files ... OK
* checking for left-over files ... OK
* checking index information ... OK
* checking package subdirectories ... OK
* checking code files for non-ASCII characters ... OK
* checking R files for syntax errors ... OK
* checking whether the package can be loaded ... OK
* checking whether the package can be loaded with stated dependencies ... OK
* checking whether the package can be unloaded cleanly ... OK
* checking whether the namespace can be loaded with stated dependencies ... OK
* checking whether the namespace can be unloaded cleanly ... OK
* checking loading without being on the library search path ... OK
* checking dependencies in R code ... OK
* checking S3 generic/method consistency ... OK
* checking replacement functions ... OK
* checking foreign function calls ... OK
* checking R code for possible problems ... OK
* checking Rd files ... OK
* checking Rd metadata ... OK
* checking Rd cross-references ... OK
* checking for missing documentation entries ... OK
* checking for code/documentation mismatches ... OK
* checking Rd \usage sections ... OK
* checking Rd contents ... OK
* checking for unstated dependencies in examples ... OK
* checking files in ‘vignettes’ ... OK
* checking examples ... OK
Examples with CPU (user + system) or elapsed time > 5s
user system elapsed
context_potential_damage_analysis 23.844 0.642 24.486
read_vcfs_as_granges 19.652 2.596 26.253
plot_lesion_segregation 17.246 0.068 17.314
get_mut_type 11.296 0.023 11.321
calculate_lesion_segregation 10.758 0.382 11.140
plot_indel_contexts 10.540 0.008 10.548
plot_compare_indels 10.327 0.039 10.366
genomic_distribution 9.954 0.178 10.137
bin_mutation_density 9.715 0.377 10.093
get_indel_context 6.580 0.925 7.506
plot_compare_dbs 6.947 0.004 6.953
fit_to_signatures_bootstrapped 6.523 0.125 6.655
mut_matrix_stranded 5.330 0.494 5.825
plot_profile_heatmap 5.484 0.029 5.514
plot_river 5.456 0.051 5.507
plot_spectrum 5.207 0.273 5.487
plot_spectrum_region 5.296 0.134 5.431
* checking for unstated dependencies in ‘tests’ ... OK
* checking tests ...
Running ‘testthat.R’
ERROR
Running the tests in ‘tests/testthat.R’ failed.
Last 13 lines of output:
[68] 2 - 1 == 1
[69] 4 - 3 == 1
[70] 5 - 6 == -1
[71] 2 - 1 == 1
[72] 1 - 0 == 1
[74] 3 - 2 == 1
[77] 4 - 3 == 1
[78] 2 - 1 == 1
[79] 1 - 0 == 1
...
[ FAIL 3 | WARN 41 | SKIP 0 | PASS 471 ]
Error:
! Test failures.
Execution halted
* checking for unstated dependencies in vignettes ... OK
* checking package vignettes ... OK
* checking re-building of vignette outputs ... OK
* checking PDF version of manual ... OK
* DONE
Status: 1 ERROR, 1 NOTE
See
‘/home/biocbuild/bbs-3.23-bioc/meat/MutationalPatterns.Rcheck/00check.log’
for details.
MutationalPatterns.Rcheck/00install.out
############################################################################## ############################################################################## ### ### Running command: ### ### /home/biocbuild/bbs-3.23-bioc/R/bin/R CMD INSTALL MutationalPatterns ### ############################################################################## ############################################################################## * installing to library ‘/home/biocbuild/bbs-3.23-bioc/R/site-library’ * installing *source* package ‘MutationalPatterns’ ... ** this is package ‘MutationalPatterns’ version ‘3.21.0’ ** using staged installation ** R ** inst ** byte-compile and prepare package for lazy loading ** help *** installing help indices ** building package indices ** installing vignettes ** testing if installed package can be loaded from temporary location ** testing if installed package can be loaded from final location ** testing if installed package keeps a record of temporary installation path * DONE (MutationalPatterns)
MutationalPatterns.Rcheck/tests/testthat.Rout.fail
R Under development (unstable) (2025-10-20 r88955) -- "Unsuffered Consequences"
Copyright (C) 2025 The R Foundation for Statistical Computing
Platform: x86_64-pc-linux-gnu
R is free software and comes with ABSOLUTELY NO WARRANTY.
You are welcome to redistribute it under certain conditions.
Type 'license()' or 'licence()' for distribution details.
R is a collaborative project with many contributors.
Type 'contributors()' for more information and
'citation()' on how to cite R or R packages in publications.
Type 'demo()' for some demos, 'help()' for on-line help, or
'help.start()' for an HTML browser interface to help.
Type 'q()' to quit R.
> library(testthat)
> library(MutationalPatterns)
Loading required package: GenomicRanges
Loading required package: stats4
Loading required package: BiocGenerics
Loading required package: generics
Attaching package: 'generics'
The following objects are masked from 'package:base':
as.difftime, as.factor, as.ordered, intersect, is.element, setdiff,
setequal, union
Attaching package: 'BiocGenerics'
The following objects are masked from 'package:stats':
IQR, mad, sd, var, xtabs
The following objects are masked from 'package:base':
Filter, Find, Map, Position, Reduce, anyDuplicated, aperm, append,
as.data.frame, basename, cbind, colnames, dirname, do.call,
duplicated, eval, evalq, get, grep, grepl, is.unsorted, lapply,
mapply, match, mget, order, paste, pmax, pmax.int, pmin, pmin.int,
rank, rbind, rownames, sapply, saveRDS, table, tapply, unique,
unsplit, which.max, which.min
Loading required package: S4Vectors
Attaching package: 'S4Vectors'
The following object is masked from 'package:utils':
findMatches
The following objects are masked from 'package:base':
I, expand.grid, unname
Loading required package: IRanges
Loading required package: Seqinfo
Loading required package: NMF
Loading required package: registry
Loading required package: rngtools
Loading required package: cluster
NMF - BioConductor layer [OK] | Shared memory capabilities [NO: bigmemory] | Cores 2/2
To enable shared memory capabilities, try: install.extras('
NMF
')
Attaching package: 'NMF'
The following object is masked from 'package:S4Vectors':
nrun
The following object is masked from 'package:generics':
fit
The following object is masked from 'package:testthat':
compare
>
> test_check("MutationalPatterns")
Saving _problems/test-context_potential_damage_analysis-46.R
Saving _problems/test-mut_matrix_stranded-20.R
Saving _problems/test-mut_matrix_stranded-29.R
[ FAIL 3 | WARN 41 | SKIP 0 | PASS 471 ]
══ Failed tests ════════════════════════════════════════════════════════════════
── Failure ('test-context_potential_damage_analysis.R:46:3'): Output is equal to expected ──
Expected `output` to equal `expected`.
Differences:
Component "n": Mean relative difference: 0.09452736
Component "ratio": Mean relative difference: 0.06150134
Component "blosum62": Mean relative difference: 0.2656804
── Failure ('test-mut_matrix_stranded.R:20:3'): transforms correctly ───────────
Expected `output` to equal `expected`.
Differences:
382/1728 mismatches (average diff: 1.45)
[68] 2 - 1 == 1
[69] 4 - 3 == 1
[70] 5 - 6 == -1
[71] 2 - 1 == 1
[72] 1 - 0 == 1
[74] 3 - 2 == 1
[77] 4 - 3 == 1
[78] 2 - 1 == 1
[79] 1 - 0 == 1
...
── Failure ('test-mut_matrix_stranded.R:29:3'): a list is also acceptable input ──
Expected `output_list` to equal `expected`.
Differences:
382/1728 mismatches (average diff: 1.45)
[68] 2 - 1 == 1
[69] 4 - 3 == 1
[70] 5 - 6 == -1
[71] 2 - 1 == 1
[72] 1 - 0 == 1
[74] 3 - 2 == 1
[77] 4 - 3 == 1
[78] 2 - 1 == 1
[79] 1 - 0 == 1
...
[ FAIL 3 | WARN 41 | SKIP 0 | PASS 471 ]
Error:
! Test failures.
Execution halted
MutationalPatterns.Rcheck/MutationalPatterns-Ex.timings
| name | user | system | elapsed | |
| bin_mutation_density | 9.715 | 0.377 | 10.093 | |
| binomial_test | 0.009 | 0.000 | 0.009 | |
| calculate_lesion_segregation | 10.758 | 0.382 | 11.140 | |
| cluster_signatures | 0.041 | 0.002 | 0.044 | |
| context_potential_damage_analysis | 23.844 | 0.642 | 24.486 | |
| convert_sigs_to_ref | 0.046 | 0.003 | 0.053 | |
| cos_sim | 0.000 | 0.000 | 0.001 | |
| cos_sim_matrix | 0.032 | 0.005 | 0.038 | |
| count_dbs_contexts | 0.110 | 0.003 | 0.113 | |
| count_indel_contexts | 0.146 | 0.001 | 0.147 | |
| count_mbs_contexts | 0.07 | 0.00 | 0.07 | |
| determine_regional_similarity | 2.818 | 0.380 | 3.198 | |
| enrichment_depletion_test | 0.131 | 0.000 | 0.132 | |
| extract_signatures | 0.001 | 0.000 | 0.002 | |
| fit_to_signatures | 0.084 | 0.008 | 0.092 | |
| fit_to_signatures_bootstrapped | 6.523 | 0.125 | 6.655 | |
| fit_to_signatures_strict | 3.604 | 0.050 | 3.656 | |
| genomic_distribution | 9.954 | 0.178 | 10.137 | |
| get_dbs_context | 0.349 | 0.003 | 0.352 | |
| get_indel_context | 6.580 | 0.925 | 7.506 | |
| get_known_signatures | 0.243 | 0.431 | 0.678 | |
| get_mut_type | 11.296 | 0.023 | 11.321 | |
| lengthen_mut_matrix | 0.014 | 0.005 | 0.018 | |
| merge_signatures | 1.038 | 0.119 | 1.157 | |
| mut_context | 1.068 | 0.198 | 1.267 | |
| mut_matrix | 1.946 | 0.274 | 2.219 | |
| mut_matrix_stranded | 5.330 | 0.494 | 5.825 | |
| mut_strand | 1.925 | 0.076 | 2.001 | |
| mut_type | 0.034 | 0.001 | 0.035 | |
| mut_type_occurrences | 0.917 | 0.140 | 1.057 | |
| mutations_from_vcf | 0.029 | 0.001 | 0.030 | |
| plot_192_profile | 3.496 | 0.008 | 3.506 | |
| plot_96_profile | 2.939 | 0.007 | 2.946 | |
| plot_bootstrapped_contribution | 2.523 | 0.002 | 2.525 | |
| plot_compare_dbs | 6.947 | 0.004 | 6.953 | |
| plot_compare_indels | 10.327 | 0.039 | 10.366 | |
| plot_compare_mbs | 1.359 | 0.004 | 1.363 | |
| plot_compare_profiles | 2.662 | 0.003 | 2.665 | |
| plot_contribution | 2.216 | 0.001 | 2.218 | |
| plot_contribution_heatmap | 2.294 | 0.008 | 2.302 | |
| plot_correlation_bootstrap | 1.760 | 0.004 | 1.764 | |
| plot_cosine_heatmap | 2.664 | 0.007 | 2.671 | |
| plot_dbs_contexts | 4.830 | 0.003 | 4.833 | |
| plot_enrichment_depletion | 4.773 | 0.003 | 4.775 | |
| plot_indel_contexts | 10.540 | 0.008 | 10.548 | |
| plot_lesion_segregation | 17.246 | 0.068 | 17.314 | |
| plot_main_dbs_contexts | 0.907 | 0.023 | 0.930 | |
| plot_main_indel_contexts | 0.862 | 0.007 | 0.869 | |
| plot_mbs_contexts | 0.771 | 0.001 | 0.772 | |
| plot_original_vs_reconstructed | 0.961 | 0.002 | 0.964 | |
| plot_profile_heatmap | 5.484 | 0.029 | 5.514 | |
| plot_profile_region | 1.243 | 0.031 | 1.274 | |
| plot_rainfall | 2.107 | 0.003 | 2.109 | |
| plot_regional_similarity | 2.576 | 0.001 | 2.578 | |
| plot_river | 5.456 | 0.051 | 5.507 | |
| plot_signature_strand_bias | 2.277 | 0.102 | 2.379 | |
| plot_spectrum | 5.207 | 0.273 | 5.487 | |
| plot_spectrum_region | 5.296 | 0.134 | 5.431 | |
| plot_strand | 0.274 | 0.006 | 0.280 | |
| plot_strand_bias | 0.893 | 0.002 | 0.894 | |
| pool_mut_mat | 0.034 | 0.002 | 0.036 | |
| read_vcfs_as_granges | 19.652 | 2.596 | 26.253 | |
| rename_nmf_signatures | 0.025 | 0.039 | 0.065 | |
| signature_potential_damage_analysis | 0.085 | 0.017 | 0.102 | |
| split_muts_region | 4.101 | 0.209 | 4.310 | |
| strand_bias_test | 0.111 | 0.010 | 0.122 | |
| strand_occurrences | 0.131 | 0.011 | 0.142 | |
| type_context | 1.191 | 0.272 | 1.463 | |