Back to Build/check report for BioC 3.23:   simplified   long
ABCDEFGHIJKL[M]NOPQRSTUVWXYZ

This page was generated on 2025-11-01 11:32 -0400 (Sat, 01 Nov 2025).

HostnameOSArch (*)R versionInstalled pkgs
nebbiolo1Linux (Ubuntu 24.04.3 LTS)x86_64R Under development (unstable) (2025-10-20 r88955) -- "Unsuffered Consequences" 4774
Click on any hostname to see more info about the system (e.g. compilers)      (*) as reported by 'uname -p', except on Windows and Mac OS X

All results for package MultiAssayExperiment


To the developers/maintainers of the MultiAssayExperiment package:
- Allow up to 24 hours (and sometimes 48 hours) for your latest push to git@git.bioconductor.org:packages/MultiAssayExperiment.git to reflect on this report. See Troubleshooting Build Report for more information.
- Use the following Renviron settings to reproduce errors and warnings.
- If 'R CMD check' started to fail recently on the Linux builder(s) over a missing dependency, add the missing dependency to 'Suggests:' in your DESCRIPTION file. See Renviron.bioc for more information.

raw results

Package 1388/2321HostnameOS / ArchINSTALLBUILDCHECKBUILD BIN
MultiAssayExperiment 1.37.0  (landing page)
Marcel Ramos
Snapshot Date: 2025-10-31 13:40 -0400 (Fri, 31 Oct 2025)
git_url: https://git.bioconductor.org/packages/MultiAssayExperiment
git_branch: devel
git_last_commit: bcc9a96
git_last_commit_date: 2025-10-29 10:31:09 -0400 (Wed, 29 Oct 2025)
nebbiolo1Linux (Ubuntu 24.04.3 LTS) / x86_64  OK    OK    OK  YES



Results for Bioconductor software packages that depend directly on package MultiAssayExperiment

QUICK STATSOS / ArchINSTALLBUILDCHECKBUILD BIN
nebbiolo1Linux (Ubuntu 24.04.3 LTS) / x86_64
0258
0753
02744
Package 1/60HostnameOS / ArchINSTALLBUILDCHECKBUILD BIN
AffiXcan 1.29.0  (landing page)
Alessandro Lussana
git_last_commit: a4562bc
git_last_commit_date: 2025-10-29 10:47:57 -0400
nebbiolo1Linux (Ubuntu 24.04.3 LTS) / x86_64  OK    OK    OK  YES
Package 2/60HostnameOS / ArchINSTALLBUILDCHECKBUILD BIN
alabaster.mae 1.11.0  (landing page)
Aaron Lun
git_last_commit: f3f563c
git_last_commit_date: 2025-10-29 11:21:27 -0400
nebbiolo1Linux (Ubuntu 24.04.3 LTS) / x86_64  OK    ERROR  skipped
Package 3/60HostnameOS / ArchINSTALLBUILDCHECKBUILD BIN
AMARETTO 1.27.0  (landing page)
Olivier Gevaert
git_last_commit: 87c41a4
git_last_commit_date: 2025-10-29 10:50:47 -0400
nebbiolo1Linux (Ubuntu 24.04.3 LTS) / x86_64  OK    OK    WARNINGS  YES
Package 4/60HostnameOS / ArchINSTALLBUILDCHECKBUILD BIN
anansi 1.1.0  (landing page)
Thomaz Bastiaanssen
git_last_commit: d5ff74a
git_last_commit_date: 2025-10-29 11:38:37 -0400
nebbiolo1Linux (Ubuntu 24.04.3 LTS) / x86_64  OK    OK    OK  NO, package depends on 'SingleCellExperiment' which is not available
Package 5/60HostnameOS / ArchINSTALLBUILDCHECKBUILD BIN
animalcules 1.27.0  (landing page)
Jessica McClintock
git_last_commit: 30597c8
git_last_commit_date: 2025-10-29 10:52:04 -0400
nebbiolo1Linux (Ubuntu 24.04.3 LTS) / x86_64  OK    OK    OK  YES
Package 6/60HostnameOS / ArchINSTALLBUILDCHECKBUILD BIN
autonomics 1.19.0  (landing page)
Aditya Bhagwat
git_last_commit: 9fc1276
git_last_commit_date: 2025-10-29 11:06:51 -0400
nebbiolo1Linux (Ubuntu 24.04.3 LTS) / x86_64  OK    OK    OK  YES
Package 7/60HostnameOS / ArchINSTALLBUILDCHECKBUILD BIN
biosigner 1.39.0  (landing page)
Etienne A. Thevenot
git_last_commit: 65312f0
git_last_commit_date: 2025-10-29 10:30:29 -0400
nebbiolo1Linux (Ubuntu 24.04.3 LTS) / x86_64  OK    OK    OK  NO, package depends on 'MultiDataSet' which is not available
Package 8/60HostnameOS / ArchINSTALLBUILDCHECKBUILD BIN
CAGEr 2.17.0  (landing page)
Charles Plessy
git_last_commit: 0a93a41
git_last_commit_date: 2025-10-29 10:13:45 -0400
nebbiolo1Linux (Ubuntu 24.04.3 LTS) / x86_64  OK    OK    OK  NO, package depends on 'BSgenome' which is not available
Package 9/60HostnameOS / ArchINSTALLBUILDCHECKBUILD BIN
cBioPortalData 2.23.0  (landing page)
Marcel Ramos
git_last_commit: eaed633
git_last_commit_date: 2025-10-29 10:59:37 -0400
nebbiolo1Linux (Ubuntu 24.04.3 LTS) / x86_64  ERROR    ERROR  skipped
Package 10/60HostnameOS / ArchINSTALLBUILDCHECKBUILD BIN
ClassifyR 3.15.0  (landing page)
Dario Strbenac
git_last_commit: 766b130
git_last_commit_date: 2025-10-29 10:20:42 -0400
nebbiolo1Linux (Ubuntu 24.04.3 LTS) / x86_64  OK    OK    OK  YES
Package 11/60HostnameOS / ArchINSTALLBUILDCHECKBUILD BIN
CoreGx 2.15.0  (landing page)
Benjamin Haibe-Kains
git_last_commit: e18fa83
git_last_commit_date: 2025-10-29 10:59:21 -0400
nebbiolo1Linux (Ubuntu 24.04.3 LTS) / x86_64  OK    OK    OK  YES
Package 12/60HostnameOS / ArchINSTALLBUILDCHECKBUILD BIN
corral 1.21.0  (landing page)
Lauren Hsu
git_last_commit: 87340f9
git_last_commit_date: 2025-10-29 11:00:12 -0400
nebbiolo1Linux (Ubuntu 24.04.3 LTS) / x86_64  OK    OK    OK  NO, package depends on 'SingleCellExperiment' which is not available
Package 13/60HostnameOS / ArchINSTALLBUILDCHECKBUILD BIN
ELMER 2.35.0  (landing page)
Tiago Chedraoui Silva
git_last_commit: 642227c
git_last_commit_date: 2025-10-29 10:26:17 -0400
nebbiolo1Linux (Ubuntu 24.04.3 LTS) / x86_64  OK    ERROR  skipped
Package 14/60HostnameOS / ArchINSTALLBUILDCHECKBUILD BIN
evaluomeR 1.27.0  (landing page)
José Antonio Bernabé-Díaz
git_last_commit: 71a13fd
git_last_commit_date: 2025-10-29 10:50:57 -0400
nebbiolo1Linux (Ubuntu 24.04.3 LTS) / x86_64  OK    OK    WARNINGS  YES
Package 15/60HostnameOS / ArchINSTALLBUILDCHECKBUILD BIN
FindIT2 1.17.0  (landing page)
Guandong Shang
git_last_commit: 6e3f32a
git_last_commit_date: 2025-10-29 11:10:30 -0400
nebbiolo1Linux (Ubuntu 24.04.3 LTS) / x86_64  OK    OK    OK  NO, package depends on 'rtracklayer' which is not available
Package 16/60HostnameOS / ArchINSTALLBUILDCHECKBUILD BIN
gDRcore 1.9.1  (landing page)
Arkadiusz Gladki
git_last_commit: 6b41ab3
git_last_commit_date: 2025-10-30 05:31:59 -0400
nebbiolo1Linux (Ubuntu 24.04.3 LTS) / x86_64  OK    OK    OK  YES
Package 17/60HostnameOS / ArchINSTALLBUILDCHECKBUILD BIN
gDRimport 1.9.1  (landing page)
Arkadiusz Gladki
git_last_commit: 16632cf
git_last_commit_date: 2025-10-30 05:32:55 -0400
nebbiolo1Linux (Ubuntu 24.04.3 LTS) / x86_64  OK    OK    OK  YES
Package 18/60HostnameOS / ArchINSTALLBUILDCHECKBUILD BIN
gDRutils 1.9.1  (landing page)
Arkadiusz Gladki
git_last_commit: 4a412dc
git_last_commit_date: 2025-10-30 05:33:15 -0400
nebbiolo1Linux (Ubuntu 24.04.3 LTS) / x86_64  OK    OK    OK  YES
Package 19/60HostnameOS / ArchINSTALLBUILDCHECKBUILD BIN
gINTomics 1.7.0  (landing page)
Angelo Velle
git_last_commit: 4cacafe
git_last_commit_date: 2025-10-29 11:30:01 -0400
nebbiolo1Linux (Ubuntu 24.04.3 LTS) / x86_64  OK    OK    OK  NO, package depends on 'OmnipathR' which is not available
Package 20/60HostnameOS / ArchINSTALLBUILDCHECKBUILD BIN
glmSparseNet 1.29.0  (landing page)
André Veríssimo
git_last_commit: 4e68566
git_last_commit_date: 2025-10-29 10:47:42 -0400
nebbiolo1Linux (Ubuntu 24.04.3 LTS) / x86_64  OK    ERROR  skipped
Package 21/60HostnameOS / ArchINSTALLBUILDCHECKBUILD BIN
GOpro 1.37.0  (landing page)
Lidia Chrabaszcz
git_last_commit: 0f52ba5
git_last_commit_date: 2025-10-29 10:34:40 -0400
nebbiolo1Linux (Ubuntu 24.04.3 LTS) / x86_64  OK    OK    OK  YES
Package 22/60HostnameOS / ArchINSTALLBUILDCHECKBUILD BIN
hermes 1.15.0  (landing page)
Daniel Sabanés Bové
git_last_commit: da21eaa
git_last_commit_date: 2025-10-29 11:14:07 -0400
nebbiolo1Linux (Ubuntu 24.04.3 LTS) / x86_64  OK    OK    OK  YES
Package 23/60HostnameOS / ArchINSTALLBUILDCHECKBUILD BIN
hipathia 3.11.0  (landing page)
Marta R. Hidalgo
git_last_commit: 14e5361
git_last_commit_date: 2025-10-29 10:44:56 -0400
nebbiolo1Linux (Ubuntu 24.04.3 LTS) / x86_64  OK    ERROR  skipped
Package 24/60HostnameOS / ArchINSTALLBUILDCHECKBUILD BIN
HoloFoodR 1.5.0  (landing page)
Tuomas Borman
git_last_commit: 53c2191
git_last_commit_date: 2025-10-29 11:30:56 -0400
nebbiolo1Linux (Ubuntu 24.04.3 LTS) / x86_64  OK    OK    OK  NO, package depends on 'TreeSummarizedExperiment' which is not available
Package 25/60HostnameOS / ArchINSTALLBUILDCHECKBUILD BIN
InTAD 1.31.0  (landing page)
Konstantin Okonechnikov
git_last_commit: c1355bb
git_last_commit_date: 2025-10-29 10:44:46 -0400
nebbiolo1Linux (Ubuntu 24.04.3 LTS) / x86_64  OK    OK    OK  NO, package depends on 'rtracklayer' which is not available
Package 26/60HostnameOS / ArchINSTALLBUILDCHECKBUILD BIN
Lheuristic 1.3.0  (landing page)
Sanchez Pla Alex
git_last_commit: 9435958
git_last_commit_date: 2025-10-29 11:35:38 -0400
nebbiolo1Linux (Ubuntu 24.04.3 LTS) / x86_64  OK    OK    OK  YES
Package 27/60HostnameOS / ArchINSTALLBUILDCHECKBUILD BIN
LinkHD 1.25.0  (landing page)
"Laura M Zingaretti"
git_last_commit: ceb49e3
git_last_commit_date: 2025-10-29 10:55:08 -0400
nebbiolo1Linux (Ubuntu 24.04.3 LTS) / x86_64  OK    OK    OK  YES
Package 28/60HostnameOS / ArchINSTALLBUILDCHECKBUILD BIN
metabolomicsWorkbenchR 1.21.0  (landing page)
Gavin Rhys Lloyd
git_last_commit: d4ae095
git_last_commit_date: 2025-10-29 11:01:47 -0400
nebbiolo1Linux (Ubuntu 24.04.3 LTS) / x86_64  OK    OK    OK  NO, package depends on 'struct' which is not available
Package 29/60HostnameOS / ArchINSTALLBUILDCHECKBUILD BIN
MGnifyR 1.7.0  (landing page)
Tuomas Borman
git_last_commit: d6f3e14
git_last_commit_date: 2025-10-29 11:28:57 -0400
nebbiolo1Linux (Ubuntu 24.04.3 LTS) / x86_64  OK    OK    OK  NO, package depends on 'TreeSummarizedExperiment' which is not available
Package 30/60HostnameOS / ArchINSTALLBUILDCHECKBUILD BIN
mia 1.19.0  (landing page)
Tuomas Borman
git_last_commit: ba530f5
git_last_commit_date: 2025-10-29 11:07:20 -0400
nebbiolo1Linux (Ubuntu 24.04.3 LTS) / x86_64  OK    OK    OK  NO, package depends on 'SingleCellExperiment' which is not available
Package 31/60HostnameOS / ArchINSTALLBUILDCHECKBUILD BIN
midasHLA 1.19.0  (landing page)
Maciej Migdał
git_last_commit: f95a648
git_last_commit_date: 2025-10-29 11:06:38 -0400
nebbiolo1Linux (Ubuntu 24.04.3 LTS) / x86_64  OK    OK    WARNINGS  YES
Package 32/60HostnameOS / ArchINSTALLBUILDCHECKBUILD BIN
MIRit 1.7.0  (landing page)
Jacopo Ronchi
git_last_commit: 624060e
git_last_commit_date: 2025-10-29 11:27:39 -0400
nebbiolo1Linux (Ubuntu 24.04.3 LTS) / x86_64  OK    OK    ERROR  
Package 33/60HostnameOS / ArchINSTALLBUILDCHECKBUILD BIN
missRows 1.31.0  (landing page)
Gonzalez Ignacio
git_last_commit: b3e59a2
git_last_commit_date: 2025-10-29 10:44:35 -0400
nebbiolo1Linux (Ubuntu 24.04.3 LTS) / x86_64  OK    OK    OK  YES
Package 34/60HostnameOS / ArchINSTALLBUILDCHECKBUILD BIN
MOMA 1.23.0  (landing page)
Sunny Jones
git_last_commit: 099cb9e
git_last_commit_date: 2025-10-29 10:59:02 -0400
nebbiolo1Linux (Ubuntu 24.04.3 LTS) / x86_64  OK    OK    OK  YES
Package 35/60HostnameOS / ArchINSTALLBUILDCHECKBUILD BIN
MOSClip 1.5.0  (landing page)
Paolo Martini
git_last_commit: feb3c8b
git_last_commit_date: 2025-10-29 11:32:56 -0400
nebbiolo1Linux (Ubuntu 24.04.3 LTS) / x86_64  OK    OK    OK  NO, package depends on 'qpgraph' which is not available
Package 36/60HostnameOS / ArchINSTALLBUILDCHECKBUILD BIN
msqrob2 1.19.0  (landing page)
Lieven Clement
git_last_commit: 1fe284d
git_last_commit_date: 2025-10-29 11:09:38 -0400
nebbiolo1Linux (Ubuntu 24.04.3 LTS) / x86_64  OK    OK    OK  YES
Package 37/60HostnameOS / ArchINSTALLBUILDCHECKBUILD BIN
MuData 1.15.0  (landing page)
Ilia Kats
git_last_commit: 186e639
git_last_commit_date: 2025-10-29 11:15:11 -0400
nebbiolo1Linux (Ubuntu 24.04.3 LTS) / x86_64  OK    OK    OK  NO, package depends on 'SingleCellExperiment' which is not available
Package 38/60HostnameOS / ArchINSTALLBUILDCHECKBUILD BIN
MultiBaC 1.21.0  (landing page)
The package maintainer
git_last_commit: 75d22ea
git_last_commit_date: 2025-10-29 11:00:41 -0400
nebbiolo1Linux (Ubuntu 24.04.3 LTS) / x86_64  OK    OK    OK  NO, package depends on 'ropls' which is not available
Package 39/60HostnameOS / ArchINSTALLBUILDCHECKBUILD BIN
MultimodalExperiment 1.11.0  (landing page)
Lucas Schiffer
git_last_commit: 14f0df6
git_last_commit_date: 2025-10-29 11:23:19 -0400
nebbiolo1Linux (Ubuntu 24.04.3 LTS) / x86_64  OK    OK    OK  YES
Package 40/60HostnameOS / ArchINSTALLBUILDCHECKBUILD BIN
nipalsMCIA 1.9.0  (landing page)
Maximilian Mattessich
git_last_commit: 9adbe20
git_last_commit_date: 2025-10-29 11:25:22 -0400
nebbiolo1Linux (Ubuntu 24.04.3 LTS) / x86_64  OK    OK    OK  YES
Package 41/60HostnameOS / ArchINSTALLBUILDCHECKBUILD BIN
OMICsPCA 1.29.0  (landing page)
Subhadeep Das
git_last_commit: 3ed273e
git_last_commit_date: 2025-10-29 10:47:49 -0400
nebbiolo1Linux (Ubuntu 24.04.3 LTS) / x86_64  OK    OK    OK  NO, package depends on 'HelloRanges' which is not available
Package 42/60HostnameOS / ArchINSTALLBUILDCHECKBUILD BIN
omicsPrint 1.31.0  (landing page)
Davy Cats
git_last_commit: a7fe1fa
git_last_commit_date: 2025-10-29 10:42:25 -0400
nebbiolo1Linux (Ubuntu 24.04.3 LTS) / x86_64  OK    OK    WARNINGS  YES
Package 43/60HostnameOS / ArchINSTALLBUILDCHECKBUILD BIN
omXplore 1.5.0  (landing page)
Samuel Wieczorek
git_last_commit: dd3714f
git_last_commit_date: 2025-10-29 11:32:10 -0400
nebbiolo1Linux (Ubuntu 24.04.3 LTS) / x86_64  OK    OK    ERROR  
Package 44/60HostnameOS / ArchINSTALLBUILDCHECKBUILD BIN
padma 1.21.0  (landing page)
Andrea Rau
git_last_commit: 79cd1b2
git_last_commit_date: 2025-10-29 11:00:30 -0400
nebbiolo1Linux (Ubuntu 24.04.3 LTS) / x86_64  OK    OK    OK  YES
Package 45/60HostnameOS / ArchINSTALLBUILDCHECKBUILD BIN
PDATK 1.19.0  (landing page)
Benjamin Haibe-Kains
git_last_commit: 16dbbfe
git_last_commit_date: 2025-10-29 11:06:36 -0400
nebbiolo1Linux (Ubuntu 24.04.3 LTS) / x86_64  OK    OK    WARNINGS  YES
Package 46/60HostnameOS / ArchINSTALLBUILDCHECKBUILD BIN
PharmacoGx 3.15.0  (landing page)
Benjamin Haibe-Kains
git_last_commit: a1fade5
git_last_commit_date: 2025-10-29 10:33:56 -0400
nebbiolo1Linux (Ubuntu 24.04.3 LTS) / x86_64  OK    OK    OK  YES
Package 47/60HostnameOS / ArchINSTALLBUILDCHECKBUILD BIN
phenomis 1.13.0  (landing page)
Etienne A. Thevenot
git_last_commit: 2244e33
git_last_commit_date: 2025-10-29 11:18:33 -0400
nebbiolo1Linux (Ubuntu 24.04.3 LTS) / x86_64  OK    OK    OK  NO, package depends on 'biodbChebi' which is not available
Package 48/60HostnameOS / ArchINSTALLBUILDCHECKBUILD BIN
QFeatures 1.21.0  (landing page)
Laurent Gatto
git_last_commit: 9863a56
git_last_commit_date: 2025-10-29 11:01:30 -0400
nebbiolo1Linux (Ubuntu 24.04.3 LTS) / x86_64  OK    OK    OK  YES
Package 49/60HostnameOS / ArchINSTALLBUILDCHECKBUILD BIN
RFLOMICS 1.3.0  (landing page)
Nadia Bessoltane
git_last_commit: a7a98e3
git_last_commit_date: 2025-10-29 11:35:35 -0400
nebbiolo1Linux (Ubuntu 24.04.3 LTS) / x86_64  OK    OK    OK  YES
Package 50/60HostnameOS / ArchINSTALLBUILDCHECKBUILD BIN
ropls 1.43.0  (landing page)
Etienne A. Thevenot
git_last_commit: 3b278e8
git_last_commit_date: 2025-10-29 10:26:49 -0400
nebbiolo1Linux (Ubuntu 24.04.3 LTS) / x86_64  OK    OK    OK  NO, package depends on 'MultiDataSet' which is not available
Package 51/60HostnameOS / ArchINSTALLBUILDCHECKBUILD BIN
scGraphVerse 1.1.0  (landing page)
Francesco Cecere
git_last_commit: 1e63abe
git_last_commit_date: 2025-10-29 11:38:49 -0400
nebbiolo1Linux (Ubuntu 24.04.3 LTS) / x86_64  OK    ERROR  skipped
Package 52/60HostnameOS / ArchINSTALLBUILDCHECKBUILD BIN
scp 1.21.0  (landing page)
Christophe Vanderaa
git_last_commit: c32536b
git_last_commit_date: 2025-10-29 11:03:14 -0400
nebbiolo1Linux (Ubuntu 24.04.3 LTS) / x86_64  OK    OK    WARNINGS  NO, package depends on 'SingleCellExperiment' which is not available
Package 53/60HostnameOS / ArchINSTALLBUILDCHECKBUILD BIN
scPipe 2.11.0  (landing page)
Shian Su
git_last_commit: fbfb464
git_last_commit_date: 2025-10-29 10:41:32 -0400
nebbiolo1Linux (Ubuntu 24.04.3 LTS) / x86_64  OK    OK    OK  NO, package depends on 'SingleCellExperiment' which is not available
Package 54/60HostnameOS / ArchINSTALLBUILDCHECKBUILD BIN
SmartPhos 1.1.0  (landing page)
Shubham Agrawal
git_last_commit: 9abaf07
git_last_commit_date: 2025-10-29 11:38:54 -0400
nebbiolo1Linux (Ubuntu 24.04.3 LTS) / x86_64  OK    OK    OK  NO, package depends on 'proDA' which is not available
Package 55/60HostnameOS / ArchINSTALLBUILDCHECKBUILD BIN
survClust 1.5.0  (landing page)
Arshi Arora
git_last_commit: eb66f82
git_last_commit_date: 2025-10-29 11:30:24 -0400
nebbiolo1Linux (Ubuntu 24.04.3 LTS) / x86_64  OK    OK    WARNINGS  YES
Package 56/60HostnameOS / ArchINSTALLBUILDCHECKBUILD BIN
TCGAutils 1.31.0  (landing page)
Marcel Ramos
git_last_commit: 4b0da87
git_last_commit_date: 2025-10-29 10:45:09 -0400
nebbiolo1Linux (Ubuntu 24.04.3 LTS) / x86_64  ERROR    ERROR  skipped
Package 57/60HostnameOS / ArchINSTALLBUILDCHECKBUILD BIN
TENET 1.3.0  (landing page)
Rhie Lab at the University of Southern California
git_last_commit: 135855c
git_last_commit_date: 2025-10-29 11:34:59 -0400
nebbiolo1Linux (Ubuntu 24.04.3 LTS) / x86_64  OK    OK    OK  NO, package depends on 'rtracklayer' which is not available
Package 58/60HostnameOS / ArchINSTALLBUILDCHECKBUILD BIN
terraTCGAdata 1.15.0  (landing page)
Marcel Ramos
git_last_commit: 752f735
git_last_commit_date: 2025-10-29 11:16:25 -0400
nebbiolo1Linux (Ubuntu 24.04.3 LTS) / x86_64  OK    OK    OK  NO, package depends on 'TCGAutils' which is not available
Package 59/60HostnameOS / ArchINSTALLBUILDCHECKBUILD BIN
vsclust 1.13.0  (landing page)
Veit Schwammle
git_last_commit: 72e8c77
git_last_commit_date: 2025-10-29 11:19:19 -0400
nebbiolo1Linux (Ubuntu 24.04.3 LTS) / x86_64  OK    OK    OK  YES
Package 60/60HostnameOS / ArchINSTALLBUILDCHECKBUILD BIN
xcore 1.15.0  (landing page)
Maciej Migdał
git_last_commit: a7dbfb4
git_last_commit_date: 2025-10-29 11:15:21 -0400
nebbiolo1Linux (Ubuntu 24.04.3 LTS) / x86_64  OK    OK    OK  YES