Back to Build/check report for BioC 3.23:   simplified   long
ABCDEFGHIJKL[M]NOPQRSTUVWXYZ

This page was generated on 2025-11-04 11:32 -0500 (Tue, 04 Nov 2025).

HostnameOSArch (*)R versionInstalled pkgs
nebbiolo1Linux (Ubuntu 24.04.3 LTS)x86_64R Under development (unstable) (2025-10-20 r88955) -- "Unsuffered Consequences" 4788
Click on any hostname to see more info about the system (e.g. compilers)      (*) as reported by 'uname -p', except on Windows and Mac OS X

Package 1357/2323HostnameOS / ArchINSTALLBUILDCHECKBUILD BIN
MsBackendRawFileReader 1.17.0  (landing page)
Christian Panse
Snapshot Date: 2025-11-03 13:40 -0500 (Mon, 03 Nov 2025)
git_url: https://git.bioconductor.org/packages/MsBackendRawFileReader
git_branch: devel
git_last_commit: c509d56
git_last_commit_date: 2025-10-29 11:12:57 -0500 (Wed, 29 Oct 2025)
nebbiolo1Linux (Ubuntu 24.04.3 LTS) / x86_64  OK    OK    OK  UNNEEDED, same version is already published


CHECK results for MsBackendRawFileReader on nebbiolo1

To the developers/maintainers of the MsBackendRawFileReader package:
- Allow up to 24 hours (and sometimes 48 hours) for your latest push to git@git.bioconductor.org:packages/MsBackendRawFileReader.git to reflect on this report. See Troubleshooting Build Report for more information.
- Use the following Renviron settings to reproduce errors and warnings.
- If 'R CMD check' started to fail recently on the Linux builder(s) over a missing dependency, add the missing dependency to 'Suggests:' in your DESCRIPTION file. See Renviron.bioc for more information.

raw results


Summary

Package: MsBackendRawFileReader
Version: 1.17.0
Command: /home/biocbuild/bbs-3.23-bioc/R/bin/R CMD check --install=check:MsBackendRawFileReader.install-out.txt --library=/home/biocbuild/bbs-3.23-bioc/R/site-library --timings MsBackendRawFileReader_1.17.0.tar.gz
StartedAt: 2025-11-04 01:17:55 -0500 (Tue, 04 Nov 2025)
EndedAt: 2025-11-04 01:22:38 -0500 (Tue, 04 Nov 2025)
EllapsedTime: 282.4 seconds
RetCode: 0
Status:   OK  
CheckDir: MsBackendRawFileReader.Rcheck
Warnings: 0

Command output

##############################################################################
##############################################################################
###
### Running command:
###
###   /home/biocbuild/bbs-3.23-bioc/R/bin/R CMD check --install=check:MsBackendRawFileReader.install-out.txt --library=/home/biocbuild/bbs-3.23-bioc/R/site-library --timings MsBackendRawFileReader_1.17.0.tar.gz
###
##############################################################################
##############################################################################


* using log directory ‘/home/biocbuild/bbs-3.23-bioc/meat/MsBackendRawFileReader.Rcheck’
* using R Under development (unstable) (2025-10-20 r88955)
* using platform: x86_64-pc-linux-gnu
* R was compiled by
    gcc (Ubuntu 13.3.0-6ubuntu2~24.04) 13.3.0
    GNU Fortran (Ubuntu 13.3.0-6ubuntu2~24.04) 13.3.0
* running under: Ubuntu 24.04.3 LTS
* using session charset: UTF-8
* checking for file ‘MsBackendRawFileReader/DESCRIPTION’ ... OK
* checking extension type ... Package
* this is package ‘MsBackendRawFileReader’ version ‘1.17.0’
* package encoding: UTF-8
* checking package namespace information ... OK
* checking package dependencies ... OK
* checking if this is a source package ... OK
* checking if there is a namespace ... OK
* checking for hidden files and directories ... OK
* checking for portable file names ... OK
* checking for sufficient/correct file permissions ... OK
* checking whether package ‘MsBackendRawFileReader’ can be installed ... OK
* checking installed package size ... OK
* checking package directory ... OK
* checking ‘build’ directory ... OK
* checking DESCRIPTION meta-information ... OK
* checking top-level files ... OK
* checking for left-over files ... OK
* checking index information ... OK
* checking package subdirectories ... OK
* checking code files for non-ASCII characters ... OK
* checking R files for syntax errors ... OK
* checking whether the package can be loaded ... OK
* checking whether the package can be loaded with stated dependencies ... OK
* checking whether the package can be unloaded cleanly ... OK
* checking whether the namespace can be loaded with stated dependencies ... OK
* checking whether the namespace can be unloaded cleanly ... OK
* checking loading without being on the library search path ... OK
* checking whether startup messages can be suppressed ... OK
* checking dependencies in R code ... OK
* checking S3 generic/method consistency ... OK
* checking replacement functions ... OK
* checking foreign function calls ... OK
* checking R code for possible problems ... OK
* checking Rd files ... OK
* checking Rd metadata ... OK
* checking Rd cross-references ... OK
* checking for missing documentation entries ... OK
* checking for code/documentation mismatches ... OK
* checking Rd \usage sections ... OK
* checking Rd contents ... OK
* checking for unstated dependencies in examples ... OK
* checking files in ‘vignettes’ ... OK
* checking examples ... OK
Examples with CPU (user + system) or elapsed time > 5s
                         user system elapsed
ioBenchmark            30.237  6.267  11.458
MsBackendRawFileReader  6.436  2.108   9.191
* checking for unstated dependencies in ‘tests’ ... OK
* checking tests ...
  Running ‘testthat.R’
 OK
* checking for unstated dependencies in vignettes ... OK
* checking package vignettes ... OK
* checking re-building of vignette outputs ... OK
* checking PDF version of manual ... OK
* DONE

Status: OK


Installation output

MsBackendRawFileReader.Rcheck/00install.out

##############################################################################
##############################################################################
###
### Running command:
###
###   /home/biocbuild/bbs-3.23-bioc/R/bin/R CMD INSTALL MsBackendRawFileReader
###
##############################################################################
##############################################################################


* installing to library ‘/home/biocbuild/bbs-3.23-bioc/R/site-library’
* installing *source* package ‘MsBackendRawFileReader’ ...
** this is package ‘MsBackendRawFileReader’ version ‘1.17.0’
** using staged installation
** R
** inst
** byte-compile and prepare package for lazy loading
** help
*** installing help indices
** building package indices
** installing vignettes
** testing if installed package can be loaded from temporary location
** testing if installed package can be loaded from final location
** testing if installed package keeps a record of temporary installation path
* DONE (MsBackendRawFileReader)

Tests output

MsBackendRawFileReader.Rcheck/tests/testthat.Rout


R Under development (unstable) (2025-10-20 r88955) -- "Unsuffered Consequences"
Copyright (C) 2025 The R Foundation for Statistical Computing
Platform: x86_64-pc-linux-gnu

R is free software and comes with ABSOLUTELY NO WARRANTY.
You are welcome to redistribute it under certain conditions.
Type 'license()' or 'licence()' for distribution details.

R is a collaborative project with many contributors.
Type 'contributors()' for more information and
'citation()' on how to cite R or R packages in publications.

Type 'demo()' for some demos, 'help()' for on-line help, or
'help.start()' for an HTML browser interface to help.
Type 'q()' to quit R.

> library("testthat")
> library("MsBackendRawFileReader")
Loading required package: Spectra
Loading required package: S4Vectors
Loading required package: stats4
Loading required package: BiocGenerics
Loading required package: generics

Attaching package: 'generics'

The following objects are masked from 'package:base':

    as.difftime, as.factor, as.ordered, intersect, is.element, setdiff,
    setequal, union


Attaching package: 'BiocGenerics'

The following objects are masked from 'package:stats':

    IQR, mad, sd, var, xtabs

The following objects are masked from 'package:base':

    Filter, Find, Map, Position, Reduce, anyDuplicated, aperm, append,
    as.data.frame, basename, cbind, colnames, dirname, do.call,
    duplicated, eval, evalq, get, grep, grepl, is.unsorted, lapply,
    mapply, match, mget, order, paste, pmax, pmax.int, pmin, pmin.int,
    rank, rbind, rownames, sapply, saveRDS, table, tapply, unique,
    unsplit, which.max, which.min


Attaching package: 'S4Vectors'

The following object is masked from 'package:utils':

    findMatches

The following objects are masked from 'package:base':

    I, expand.grid, unname

Loading required package: BiocParallel
> library("Spectra")
> 
> 
> sample_raw_file <- file.path(system.file(package = "rawrr"),
+                                 'extdata', 'sample.raw')
> 
> sample_mzXML_file <- file.path(path.package(package = 'MsBackendRawFileReader'),
+                                 'extdata', 'sample.mzXML')
> 
> 
> sample_raw <-  backendInitialize(MsBackendRawFileReader::MsBackendRawFileReader(), files = sample_raw_file)
> 
> 
> #sample_mzr <-  backendInitialize(MsBackendMzR(), files = sample_mzXML_file)
> 
> 
> mgf_file <- file.path(system.file(package = "MsBackendRawFileReader"),
+                              'extdata', '3159619b11ed_4590_9594.mgf')
> 
> 
> rv <- lapply(1:2, function(x){
+   file.copy(from = sample_raw_file, to = tempfile(fileext='.raw'))})
> 
> 
> register(SnowParam(workers = 1, type = "SOCK") , default = TRUE); 
> sample_raw_2 <- backendInitialize(MsBackendRawFileReader(),
+     files = file.path(tempdir(),
+          list.files(path = tempdir(), pattern = 'raw$')))
> 
> 
> test_check("MsBackendRawFileReader")
[ FAIL 0 | WARN 1 | SKIP 2 | PASS 21 ]

══ Skipped tests (2) ═══════════════════════════════════════════════════════════
• isFALSE(file.exists(sample_mzXML_file)) is TRUE (1):
  'test_MsBackendMzR_MsBackendRawFileReader.R:1:1'
• isFALSE(require(MsBackendRawMgf)) is TRUE (1): 'test_top_n_mgf.R:1:1'

[ FAIL 0 | WARN 1 | SKIP 2 | PASS 21 ]
> 
> 
> be <- Spectra::backendInitialize(MsBackendRawFileReader::MsBackendRawFileReader(),
+                                  files = c(sample_raw_file))
> 
> ## Run the MsBackend spectra variable test suite
> 
> test_suite <- system.file("test_backends", "test_MsBackend",
+                           package = "Spectra")
> 
> #res <- test_file(paste0(test_suite, "/test_spectra_variables.R"),
> #                 reporter = check_reporter(), stop_on_failure = TRUE)
> 
> 
> ## Run the whole suite.
> res <- test_dir(test_suite, stop_on_failure = TRUE)
✔ | F W  S  OK | Context

⠏ |          0 | peaks_variables                                                
⠙ |          2 | peaks_variables                                                
⠸ |          4 | peaks_variables                                                
✔ |          4 | peaks_variables [3.8s]

⠏ |          0 | spectra_subsetting                                             
⠋ |          1 | spectra_subsetting                                             
⠴ |         16 | spectra_subsetting                                             
⠏ |         30 | spectra_subsetting                                             
⠋ |         41 | spectra_subsetting                                             
⠸ |         54 | spectra_subsetting                                             
⠋ |         61 | spectra_subsetting                                             
⠴ |         76 | spectra_subsetting                                             
⠋ |         91 | spectra_subsetting                                             
⠸ |        104 | spectra_subsetting                                             
⠇ |        119 | spectra_subsetting                                             
⠹ |        133 | spectra_subsetting                                             
⠴ |        146 | spectra_subsetting                                             
⠏ |        160 | spectra_subsetting                                             
⠼ |        175 | spectra_subsetting                                             
⠏ |        190 | spectra_subsetting                                             
⠼ |        205 | spectra_subsetting                                             
⠏ |        220 | spectra_subsetting                                             
⠼ |        235 | spectra_subsetting                                             
⠏ |        250 | spectra_subsetting                                             
⠼ |        265 | spectra_subsetting                                             
⠋ |        281 | spectra_subsetting                                             
⠼ |        295 | spectra_subsetting                                             
⠏ |        310 | spectra_subsetting                                             
⠼ |        325 | spectra_subsetting                                             
⠋ |        341 | spectra_subsetting                                             
⠼ |        355 | spectra_subsetting                                             
⠏ |        370 | spectra_subsetting                                             
⠼ |        385 | spectra_subsetting                                             
⠦ |        397 | spectra_subsetting                                             
⠙ |        412 | spectra_subsetting                                             
⠦ |        427 | spectra_subsetting                                             
⠙ |        442 | spectra_subsetting                                             
⠦ |        457 | spectra_subsetting                                             
⠙ |        472 | spectra_subsetting                                             
⠧ |        488 | spectra_subsetting                                             
⠙ |        502 | spectra_subsetting                                             
⠦ |        517 | spectra_subsetting                                             
⠙ |        532 | spectra_subsetting                                             
⠦ |        547 | spectra_subsetting                                             
⠸ |        564 | spectra_subsetting                                             
⠦ |        577 | spectra_subsetting                                             
⠙ |        592 | spectra_subsetting                                             
⠧ |        608 | spectra_subsetting                                             
⠙ |        622 | spectra_subsetting                                             
⠦ |        637 | spectra_subsetting                                             
⠙ |        652 | spectra_subsetting                                             
⠦ |        667 | spectra_subsetting                                             
⠙ |        682 | spectra_subsetting                                             
⠸ |        694 | spectra_subsetting                                             
⠇ |        709 | spectra_subsetting                                             
⠸ |        724 | spectra_subsetting                                             
⠇ |        739 | spectra_subsetting                                             
⠸ |        754 | spectra_subsetting                                             
⠦ |        767 | spectra_subsetting                                             
⠙ |        782 | spectra_subsetting                                             
⠴ |        796 | spectra_subsetting                                             
⠋ |        811 | spectra_subsetting                                             
⠴ |        826 | spectra_subsetting                                             
⠋ |        841 | spectra_subsetting                                             
⠦ |        857 | spectra_subsetting                                             
⠋ |        871 | spectra_subsetting                                             
⠴ |        886 | spectra_subsetting                                             
⠋ |        901 | spectra_subsetting                                             
⠸ |        914 | spectra_subsetting                                             
⠇ |        929 | spectra_subsetting                                             
⠹ |        943 | spectra_subsetting                                             
⠧ |        958 | spectra_subsetting                                             
⠹ |        973 | spectra_subsetting                                             
⠴ |        986 | spectra_subsetting                                             
⠏ |        1000 | spectra_subsetting                                            
⠼ |        1015 | spectra_subsetting                                            
⠦ |        1027 | spectra_subsetting                                            
⠹ |        1043 | spectra_subsetting                                            
⠦ |        1057 | spectra_subsetting                                            
⠙ |        1072 | spectra_subsetting                                            
⠦ |        1087 | spectra_subsetting                                            
⠙ |        1102 | spectra_subsetting                                            
⠧ |        1118 | spectra_subsetting                                            
⠙ |        1132 | spectra_subsetting                                            
⠼ |        1145 | spectra_subsetting                                            
⠧ |        1158 | spectra_subsetting                                            
⠇ |        1169 | spectra_subsetting                                            
⠸ |        1184 | spectra_subsetting                                            
⠇ |        1199 | spectra_subsetting                                            
⠹ |        1213 | spectra_subsetting                                            
⠧ |        1228 | spectra_subsetting                                            
⠹ |        1243 | spectra_subsetting                                            
⠇ |        1259 | spectra_subsetting                                            
⠹ |        1273 | spectra_subsetting                                            
⠧ |        1288 | spectra_subsetting                                            
⠹ |        1303 | spectra_subsetting                                            
⠴ |        1316 | spectra_subsetting                                            
⠏ |        1330 | spectra_subsetting                                            
⠼ |        1345 | spectra_subsetting                                            
⠧ |        1358 | spectra_subsetting                                            
⠹ |        1373 | spectra_subsetting                                            
⠦ |        1387 | spectra_subsetting                                            
⠙ |        1402 | spectra_subsetting                                            
⠦ |        1417 | spectra_subsetting                                            
⠇ |        1429 | spectra_subsetting                                            
⠸ |        1444 | spectra_subsetting                                            
⠇ |        1459 | spectra_subsetting                                            
⠸ |        1474 | spectra_subsetting                                            
⠇ |        1489 | spectra_subsetting                                            
⠋ |        1501 | spectra_subsetting                                            
⠴ |        1516 | spectra_subsetting                                            
⠋ |        1531 | spectra_subsetting                                            
⠴ |        1546 | spectra_subsetting                                            
⠋ |        1561 | spectra_subsetting                                            
⠸ |        1574 | spectra_subsetting                                            
⠇ |        1589 | spectra_subsetting                                            
⠹ |        1603 | spectra_subsetting                                            
⠧ |        1618 | spectra_subsetting                                            
⠹ |        1633 | spectra_subsetting                                            
⠧ |        1648 | spectra_subsetting                                            
⠹ |        1663 | spectra_subsetting                                            
⠧ |        1678 | spectra_subsetting                                            
⠹ |        1693 | spectra_subsetting                                            
⠧ |        1708 | spectra_subsetting                                            
⠋ |        1721 | spectra_subsetting                                            
⠧ |        1728 | spectra_subsetting                                            
⠏ |        1730 | spectra_subsetting                                            
⠹ |        1733 | spectra_subsetting                                            
⠴ |        1736 | spectra_subsetting                                            
⠧ |        1738 | spectra_subsetting                                            
⠋ |        1741 | spectra_subsetting                                            
⠹ |        1743 | spectra_subsetting                                            
⠴ |        1746 | spectra_subsetting                                            
⠧ |        1748 | spectra_subsetting                                            
⠋ |        1751 | spectra_subsetting                                            
⠸ |        1754 | spectra_subsetting                                            
⠴ |        1756 | spectra_subsetting                                            
⠇ |        1759 | spectra_subsetting                                            
⠋ |        1761 | spectra_subsetting                                            
⠸ |        1764 | spectra_subsetting                                            
⠦ |        1767 | spectra_subsetting                                            
⠇ |        1769 | spectra_subsetting                                            
⠙ |        1772 | spectra_subsetting                                            
⠸ |        1774 | spectra_subsetting                                            
⠦ |        1777 | spectra_subsetting                                            
⠇ |        1779 | spectra_subsetting                                            
⠙ |        1782 | spectra_subsetting                                            
⠼ |        1785 | spectra_subsetting                                            
⠦ |        1787 | spectra_subsetting                                            
⠏ |        1790 | spectra_subsetting                                            
⠙ |        1792 | spectra_subsetting                                            
⠼ |        1795 | spectra_subsetting                                            
⠧ |        1798 | spectra_subsetting                                            
⠏ |        1800 | spectra_subsetting                                            
⠹ |        1803 | spectra_subsetting                                            
⠼ |        1805 | spectra_subsetting                                            
⠧ |        1808 | spectra_subsetting                                            
⠋ |        1811 | spectra_subsetting                                            
⠸ |        1814 | spectra_subsetting                                            
⠦ |        1817 | spectra_subsetting                                            
⠏ |        1820 | spectra_subsetting                                            
⠙ |        1822 | spectra_subsetting                                            
⠼ |        1825 | spectra_subsetting                                            
⠦ |        1827 | spectra_subsetting                                            
⠏ |        1830 | spectra_subsetting                                            
⠙ |        1832 | spectra_subsetting                                            
⠼ |        1835 | spectra_subsetting                                            
⠦ |        1837 | spectra_subsetting                                            
⠏ |        1840 | spectra_subsetting                                            
⠙ |        1842 | spectra_subsetting                                            
⠸ |        1844 | spectra_subsetting                                            
⠴ |        1846 | spectra_subsetting                                            
⠇ |        1849 | spectra_subsetting                                            
⠙ |        1852 | spectra_subsetting                                            
⠸ |        1854 | spectra_subsetting                                            
⠦ |        1857 | spectra_subsetting                                            
⠏ |        1860 | spectra_subsetting                                            
⠙ |        1862 | spectra_subsetting                                            
⠼ |        1865 | spectra_subsetting                                            
⠦ |        1867 | spectra_subsetting                                            
⠏ |        1870 | spectra_subsetting                                            
⠹ |        1873 | spectra_subsetting                                            
⠼ |        1875 | spectra_subsetting                                            
⠧ |        1878 | spectra_subsetting                                            
⠏ |        1880 | spectra_subsetting                                            
⠹ |        1883 | spectra_subsetting                                            
⠼ |        1885 | spectra_subsetting                                            
⠧ |        1888 | spectra_subsetting                                            
⠏ |        1890 | spectra_subsetting                                            
⠹ |        1893 | spectra_subsetting                                            
⠴ |        1896 | spectra_subsetting                                            
⠦ |        1897 | spectra_subsetting                                            
⠏ |        1900 | spectra_subsetting                                            
⠹ |        1903 | spectra_subsetting                                            
⠴ |        1906 | spectra_subsetting                                            
⠇ |        1909 | spectra_subsetting                                            
⠙ |        1912 | spectra_subsetting                                            
⠼ |        1915 | spectra_subsetting                                            
⠧ |        1918 | spectra_subsetting                                            
⠋ |        1921 | spectra_subsetting                                            
⠸ |        1924 | spectra_subsetting                                            
⠦ |        1927 | spectra_subsetting                                            
⠏ |        1930 | spectra_subsetting                                            
⠹ |        1933 | spectra_subsetting                                            
⠴ |        1936 | spectra_subsetting                                            
⠧ |        1938 | spectra_subsetting                                            
⠋ |        1941 | spectra_subsetting                                            
⠸ |        1944 | spectra_subsetting                                            
⠦ |        1947 | spectra_subsetting                                            
⠏ |        1950 | spectra_subsetting                                            
⠹ |        1953 | spectra_subsetting                                            
⠴ |        1956 | spectra_subsetting                                            
⠇ |        1959 | spectra_subsetting                                            
⠙ |        1962 | spectra_subsetting                                            
⠼ |        1965 | spectra_subsetting                                            
⠧ |        1968 | spectra_subsetting                                            
⠋ |        1971 | spectra_subsetting                                            
⠸ |        1974 | spectra_subsetting                                            
⠦ |        1977 | spectra_subsetting                                            
⠏ |        1980 | spectra_subsetting                                            
⠹ |        1983 | spectra_subsetting                                            
⠴ |        1986 | spectra_subsetting                                            
⠇ |        1989 | spectra_subsetting                                            
⠋ |        1991 | spectra_subsetting                                            
⠹ |        1993 | spectra_subsetting                                            
⠼ |        1995 | spectra_subsetting                                            
⠧ |        1998 | spectra_subsetting                                            
⠋ |        2001 | spectra_subsetting                                            
⠸ |        2004 | spectra_subsetting                                            
⠦ |        2007 | spectra_subsetting                                            
⠏ |        2010 | spectra_subsetting                                            
⠹ |        2013 | spectra_subsetting                                            
⠴ |        2016 | spectra_subsetting                                            
⠇ |        2019 | spectra_subsetting                                            
⠙ |        2022 | spectra_subsetting                                            
⠼ |        2025 | spectra_subsetting                                            
⠧ |        2028 | spectra_subsetting                                            
⠋ |        2031 | spectra_subsetting                                            
⠹ |        2033 | spectra_subsetting                                            
⠴ |        2036 | spectra_subsetting                                            
⠇ |        2039 | spectra_subsetting                                            
⠙ |        2042 | spectra_subsetting                                            
⠸ |        2044 | spectra_subsetting                                            
⠦ |        2047 | spectra_subsetting                                            
⠏ |        2050 | spectra_subsetting                                            
⠹ |        2053 | spectra_subsetting                                            
⠴ |        2056 | spectra_subsetting                                            
⠇ |        2059 | spectra_subsetting                                            
⠙ |        2062 | spectra_subsetting                                            
⠼ |        2065 | spectra_subsetting                                            
⠧ |        2068 | spectra_subsetting                                            
⠋ |        2071 | spectra_subsetting                                            
⠸ |        2074 | spectra_subsetting                                            
⠦ |        2077 | spectra_subsetting                                            
⠇ |        2079 | spectra_subsetting                                            
⠙ |        2082 | spectra_subsetting                                            
⠼ |        2085 | spectra_subsetting                                            
⠧ |        2088 | spectra_subsetting                                            
⠋ |        2091 | spectra_subsetting                                            
⠸ |        2094 | spectra_subsetting                                            
⠦ |        2097 | spectra_subsetting                                            
⠏ |        2100 | spectra_subsetting                                            
⠹ |        2103 | spectra_subsetting                                            
⠴ |        2106 | spectra_subsetting                                            
⠇ |        2109 | spectra_subsetting                                            
⠙ |        2112 | spectra_subsetting                                            
⠼ |        2115 | spectra_subsetting                                            
⠧ |        2118 | spectra_subsetting                                            
⠋ |        2121 | spectra_subsetting                                            
⠸ |        2124 | spectra_subsetting                                            
⠦ |        2127 | spectra_subsetting                                            
⠇ |        2129 | spectra_subsetting                                            
⠙ |        2132 | spectra_subsetting                                            
⠼ |        2135 | spectra_subsetting                                            
⠧ |        2138 | spectra_subsetting                                            
⠋ |        2141 | spectra_subsetting                                            
⠸ |        2144 | spectra_subsetting                                            
⠦ |        2147 | spectra_subsetting                                            
⠏ |        2150 | spectra_subsetting                                            
⠹ |        2153 | spectra_subsetting                                            
⠴ |        2156 | spectra_subsetting                                            
⠇ |        2159 | spectra_subsetting                                            
⠋ |        2161 | spectra_subsetting                                            
⠸ |        2164 | spectra_subsetting                                            
⠦ |        2167 | spectra_subsetting                                            
⠏ |        2170 | spectra_subsetting                                            
⠹ |        2173 | spectra_subsetting                                            
⠴ |        2176 | spectra_subsetting                                            
⠇ |        2179 | spectra_subsetting                                            
⠙ |        2182 | spectra_subsetting                                            
⠼ |        2185 | spectra_subsetting                                            
⠧ |        2188 | spectra_subsetting                                            
⠋ |        2191 | spectra_subsetting                                            
⠸ |        2194 | spectra_subsetting                                            
⠦ |        2197 | spectra_subsetting                                            
⠏ |        2200 | spectra_subsetting                                            
⠹ |        2203 | spectra_subsetting                                            
⠴ |        2206 | spectra_subsetting                                            
⠇ |        2209 | spectra_subsetting                                            
⠙ |        2212 | spectra_subsetting                                            
⠼ |        2215 | spectra_subsetting                                            
⠧ |        2218 | spectra_subsetting                                            
⠋ |        2221 | spectra_subsetting                                            
⠸ |        2224 | spectra_subsetting                                            
⠦ |        2227 | spectra_subsetting                                            
⠏ |        2230 | spectra_subsetting                                            
⠹ |        2233 | spectra_subsetting                                            
⠴ |        2236 | spectra_subsetting                                            
⠇ |        2239 | spectra_subsetting                                            
⠙ |        2242 | spectra_subsetting                                            
⠼ |        2245 | spectra_subsetting                                            
⠦ |        2247 | spectra_subsetting                                            
⠏ |        2250 | spectra_subsetting                                            
⠹ |        2253 | spectra_subsetting                                            
⠴ |        2256 | spectra_subsetting                                            
⠇ |        2259 | spectra_subsetting                                            
⠋ |        2261 | spectra_subsetting                                            
⠹ |        2263 | spectra_subsetting                                            
⠼ |        2265 | spectra_subsetting                                            
⠧ |        2268 | spectra_subsetting                                            
⠋ |        2271 | spectra_subsetting                                            
⠸ |        2274 | spectra_subsetting                                            
⠦ |        2277 | spectra_subsetting                                            
⠇ |        2279 | spectra_subsetting                                            
⠙ |        2282 | spectra_subsetting                                            
⠼ |        2285 | spectra_subsetting                                            
⠧ |        2288 | spectra_subsetting                                            
⠋ |        2291 | spectra_subsetting                                            
⠹ |        2293 | spectra_subsetting                                            
⠴ |        2296 | spectra_subsetting                                            
⠇ |        2299 | spectra_subsetting                                            
⠹ |        2303 | spectra_subsetting                                            
⠙ |        2312 | spectra_subsetting                                            
⠇ |        2319 | spectra_subsetting                                            
⠇ |        2329 | spectra_subsetting                                            
⠸ |        2334 | spectra_subsetting                                            
✔ |        2342 | spectra_subsetting [42.1s]

⠏ |          0 | spectra_variables                                              
⠙ |         12 | spectra_variables                                              
⠸ |         14 | spectra_variables                                              
⠴ |         16 | spectra_variables                                              
⠦ |         27 | spectra_variables                                              
⠇ |         29 | spectra_variables                                              
⠋ |         31 | spectra_variables                                              
⠹ |         43 | spectra_variables                                              
⠋ |      1  60 | spectra_variables                                              
✔ |      1  62 | spectra_variables [14.5s]

══ Results ═════════════════════════════════════════════════════════════════════
Duration: 60.4 s

── Skipped tests (1) ───────────────────────────────────────────────────────────
• empty test (1): 'test_spectra_variables.R:262:1'

[ FAIL 0 | WARN 0 | SKIP 1 | PASS 2408 ]
> 
> proc.time()
   user  system elapsed 
 82.519   7.880  92.618 

Example timings

MsBackendRawFileReader.Rcheck/MsBackendRawFileReader-Ex.timings

nameusersystemelapsed
MsBackendRawFileReader-class3.1640.7694.246
MsBackendRawFileReader6.4362.1089.191
hidden_aliases2.0790.6792.883
ioBenchmark30.237 6.26711.458