Back to Multiple platform build/check report for BioC 3.23:   simplified   long
ABCDEFGHIJKL[M]NOPQRSTUVWXYZ

This page was generated on 2025-11-21 11:38 -0500 (Fri, 21 Nov 2025).

HostnameOSArch (*)R versionInstalled pkgs
nebbiolo1Linux (Ubuntu 24.04.3 LTS)x86_64R Under development (unstable) (2025-10-20 r88955) -- "Unsuffered Consequences" 4829
lconwaymacOS 12.7.6 Montereyx86_64R Under development (unstable) (2025-10-21 r88958) -- "Unsuffered Consequences" 4602
kjohnson3macOS 13.7.7 Venturaarm64R Under development (unstable) (2025-11-04 r88984) -- "Unsuffered Consequences" 4566
Click on any hostname to see more info about the system (e.g. compilers)      (*) as reported by 'uname -p', except on Windows and Mac OS X

Package 1347/2327HostnameOS / ArchINSTALLBUILDCHECKBUILD BIN
MotifPeeker 1.3.1  (landing page)
Hiranyamaya Dash
Snapshot Date: 2025-11-20 13:40 -0500 (Thu, 20 Nov 2025)
git_url: https://git.bioconductor.org/packages/MotifPeeker
git_branch: devel
git_last_commit: d02958e
git_last_commit_date: 2025-11-20 07:15:08 -0500 (Thu, 20 Nov 2025)
nebbiolo1Linux (Ubuntu 24.04.3 LTS) / x86_64  OK    OK    OK  YES
lconwaymacOS 12.7.6 Monterey / x86_64  OK    OK    OK    OK  NO, package depends on 'GenomicRanges' which is only available as a source package that needs compilation
kjohnson3macOS 13.7.7 Ventura / arm64  OK    OK    OK    OK  NO, package depends on 'GenomicRanges' which is only available as a source package that needs compilation


CHECK results for MotifPeeker on lconway

To the developers/maintainers of the MotifPeeker package:
- Allow up to 24 hours (and sometimes 48 hours) for your latest push to git@git.bioconductor.org:packages/MotifPeeker.git to reflect on this report. See Troubleshooting Build Report for more information.
- Use the following Renviron settings to reproduce errors and warnings.
- If 'R CMD check' started to fail recently on the Linux builder(s) over a missing dependency, add the missing dependency to 'Suggests:' in your DESCRIPTION file. See Renviron.bioc for more information.

raw results


Summary

Package: MotifPeeker
Version: 1.3.1
Command: /Library/Frameworks/R.framework/Resources/bin/R CMD check --install=check:MotifPeeker.install-out.txt --library=/Library/Frameworks/R.framework/Resources/library --no-vignettes --timings MotifPeeker_1.3.1.tar.gz
StartedAt: 2025-11-20 22:33:22 -0500 (Thu, 20 Nov 2025)
EndedAt: 2025-11-20 22:50:10 -0500 (Thu, 20 Nov 2025)
EllapsedTime: 1008.9 seconds
RetCode: 0
Status:   OK  
CheckDir: MotifPeeker.Rcheck
Warnings: 0

Command output

##############################################################################
##############################################################################
###
### Running command:
###
###   /Library/Frameworks/R.framework/Resources/bin/R CMD check --install=check:MotifPeeker.install-out.txt --library=/Library/Frameworks/R.framework/Resources/library --no-vignettes --timings MotifPeeker_1.3.1.tar.gz
###
##############################################################################
##############################################################################


* using log directory ‘/Users/biocbuild/bbs-3.23-bioc/meat/MotifPeeker.Rcheck’
* using R Under development (unstable) (2025-10-21 r88958)
* using platform: x86_64-apple-darwin20
* R was compiled by
    Apple clang version 14.0.0 (clang-1400.0.29.202)
    GNU Fortran (GCC) 14.2.0
* running under: macOS Ventura 13.7.8
* using session charset: UTF-8
* using option ‘--no-vignettes’
* checking for file ‘MotifPeeker/DESCRIPTION’ ... OK
* checking extension type ... Package
* this is package ‘MotifPeeker’ version ‘1.3.1’
* package encoding: UTF-8
* checking package namespace information ... OK
* checking package dependencies ... INFO
Imports includes 25 non-default packages.
Importing from so many packages makes the package vulnerable to any of
them becoming unavailable.  Move as many as possible to Suggests and
use conditionally.
* checking if this is a source package ... OK
* checking if there is a namespace ... OK
* checking for hidden files and directories ... OK
* checking for portable file names ... OK
* checking for sufficient/correct file permissions ... OK
* checking whether package ‘MotifPeeker’ can be installed ... OK
* checking installed package size ... OK
* checking package directory ... OK
* checking ‘build’ directory ... OK
* checking DESCRIPTION meta-information ... OK
* checking top-level files ... OK
* checking for left-over files ... OK
* checking index information ... OK
* checking package subdirectories ... OK
* checking code files for non-ASCII characters ... OK
* checking R files for syntax errors ... OK
* checking whether the package can be loaded ... OK
* checking whether the package can be loaded with stated dependencies ... OK
* checking whether the package can be unloaded cleanly ... OK
* checking whether the namespace can be loaded with stated dependencies ... OK
* checking whether the namespace can be unloaded cleanly ... OK
* checking dependencies in R code ... OK
* checking S3 generic/method consistency ... OK
* checking replacement functions ... OK
* checking foreign function calls ... OK
* checking R code for possible problems ... OK
* checking Rd files ... OK
* checking Rd metadata ... OK
* checking Rd cross-references ... NOTE
Non-topic package-anchored link(s) in Rd file 'pipe.Rd':
  ‘[magrittr:pipe]{%>%}’

See section 'Cross-references' in the 'Writing R Extensions' manual.
* checking for missing documentation entries ... OK
* checking for code/documentation mismatches ... OK
* checking Rd \usage sections ... OK
* checking Rd contents ... OK
* checking for unstated dependencies in examples ... OK
* checking contents of ‘data’ directory ... OK
* checking data for non-ASCII characters ... OK
* checking data for ASCII and uncompressed saves ... OK
* checking files in ‘vignettes’ ... OK
* checking examples ... OK
Examples with CPU (user + system) or elapsed time > 5s
                                 user system elapsed
MotifPeeker                   121.306 62.313 183.674
motif_enrichment                5.360  6.514  11.948
motif_similarity                6.125  0.795   6.406
find_motifs                     1.834  0.354   6.043
get_df_enrichment               0.247  0.341  35.402
check_ENCODE                    0.350  0.067   7.140
get_df_distances_bootstrapped   0.172  0.158  63.153
* checking for unstated dependencies in ‘tests’ ... OK
* checking tests ...
  Running ‘testthat.R’
 OK
* checking for unstated dependencies in vignettes ... OK
* checking package vignettes ... OK
* checking running R code from vignettes ... SKIPPED
* checking re-building of vignette outputs ... SKIPPED
* checking PDF version of manual ... OK
* DONE

Status: 1 NOTE
See
  ‘/Users/biocbuild/bbs-3.23-bioc/meat/MotifPeeker.Rcheck/00check.log’
for details.


Installation output

MotifPeeker.Rcheck/00install.out

##############################################################################
##############################################################################
###
### Running command:
###
###   /Library/Frameworks/R.framework/Resources/bin/R CMD INSTALL MotifPeeker
###
##############################################################################
##############################################################################


* installing to library ‘/Library/Frameworks/R.framework/Versions/4.6-x86_64/Resources/library’
* installing *source* package ‘MotifPeeker’ ...
** this is package ‘MotifPeeker’ version ‘1.3.1’
** using staged installation
** R
** data
** inst
** byte-compile and prepare package for lazy loading
** help
*** installing help indices
** building package indices
** installing vignettes
** testing if installed package can be loaded from temporary location
** testing if installed package can be loaded from final location
** testing if installed package keeps a record of temporary installation path
* DONE (MotifPeeker)

Tests output

MotifPeeker.Rcheck/tests/testthat.Rout


R Under development (unstable) (2025-10-21 r88958) -- "Unsuffered Consequences"
Copyright (C) 2025 The R Foundation for Statistical Computing
Platform: x86_64-apple-darwin20

R is free software and comes with ABSOLUTELY NO WARRANTY.
You are welcome to redistribute it under certain conditions.
Type 'license()' or 'licence()' for distribution details.

R is a collaborative project with many contributors.
Type 'contributors()' for more information and
'citation()' on how to cite R or R packages in publications.

Type 'demo()' for some demos, 'help()' for on-line help, or
'help.start()' for an HTML browser interface to help.
Type 'q()' to quit R.

> desc_path <- list.files("../","^DESCRIPTION$",
+                         full.names = TRUE, recursive = TRUE)[1]
> pkg <- read.dcf(desc_path, fields = "Package")[1]
> library(testthat)
> library(pkg, character.only = TRUE)
> 
> test_check(pkg)
[WARNING] This document format requires a nonempty <title> element.
  Please specify either 'title' or 'pagetitle' in the metadata,
  e.g. by using --metadata pagetitle="..." on the command line.
  Falling back to 'MotifPeeker.knit'
[WARNING] This document format requires a nonempty <title> element.
  Please specify either 'title' or 'pagetitle' in the metadata,
  e.g. by using --metadata pagetitle="..." on the command line.
  Falling back to 'MotifPeeker.knit'
[WARNING] This document format requires a nonempty <title> element.
  Please specify either 'title' or 'pagetitle' in the metadata,
  e.g. by using --metadata pagetitle="..." on the command line.
  Falling back to 'MotifPeeker.knit'
No matches were detected
No matches were detected
No matches were detected
No matches were detected
Warning: p-values will be inaccurate if primary and control

Warning: p-values will be inaccurate if primary and control

The output directory '/tmp/RtmpXab2TQ/tomtom/2/1' already exists.
Its contents will be overwritten.
Processing query 1 out of 1 
# Computing q-values.
#   Estimating pi_0 from all 4692 observed p-values.
#   Estimating pi_0.
# Minimal pi_zero = 1.00096
#   Estimated pi_0=1


The output directory '/tmp/RtmpXab2TQ/tomtom/1/1' already exists.
Its contents will be overwritten.
Processing query 1 out of 1 
# Computing q-values.
#   Estimating pi_0 from all 4692 observed p-values.
#   Estimating pi_0.
# Minimal pi_zero = 0.999884
#   Estimated pi_0=0.999884

The output directory '/tmp/RtmpXab2TQ/tomtom/1/2' already exists.
Its contents will be overwritten.
Processing query 1 out of 1 
# Computing q-values.
#   Estimating pi_0 from all 4692 observed p-values.
#   Estimating pi_0.
# Minimal pi_zero = 1.00417
#   Estimated pi_0=1


The output directory '/tmp/RtmpXab2TQ/tomtom/3/1' already exists.
Its contents will be overwritten.
Processing query 1 out of 1 
# Computing q-values.
#   Estimating pi_0 from all 4692 observed p-values.
#   Estimating pi_0.
# Minimal pi_zero = 1.00288
#   Estimated pi_0=1

The output directory '/tmp/RtmpXab2TQ/tomtom/3/2' already exists.
Its contents will be overwritten.
Processing query 1 out of 1 
# Computing q-values.
#   Estimating pi_0 from all 4692 observed p-values.
#   Estimating pi_0.
# Minimal pi_zero = 0.99046
#   Estimated pi_0=0.99046


The output directory '/tmp/RtmpXab2TQ/tomtom/4/1' already exists.
Its contents will be overwritten.
Processing query 1 out of 1 
# Computing q-values.
#   Estimating pi_0 from all 4692 observed p-values.
#   Estimating pi_0.
# Minimal pi_zero = 0.989961
#   Estimated pi_0=0.99008

The output directory '/tmp/RtmpXab2TQ/tomtom/4/2' already exists.
Its contents will be overwritten.
Processing query 1 out of 1 
# Computing q-values.
#   Estimating pi_0 from all 4692 observed p-values.
#   Estimating pi_0.
# Minimal pi_zero = 0.999983
#   Estimated pi_0=1


No matches were detected
No matches were detected
No matches were detected
No matches were detected

Hello world
Hello world

### Exp2 {- .unlisted}  
**Reference Experiment Label**: Exp1 (Total Reads: 100)  
**Comparison Experiment Label**: Exp2 (Total Reads: 200)  

## Exp2 {- .unlisted .tabset .tabset-fade .tabset-pills}  
**Reference Experiment Label**: Exp1  
**Comparison Experiment Label**: Exp2  
[ FAIL 0 | WARN 0 | SKIP 2 | PASS 927 ]

══ Skipped tests (2) ═══════════════════════════════════════════════════════════
• On CRAN (2): 'test-check_ENCODE.R:1:1', 'test-check_JASPAR.R:1:1'

[ FAIL 0 | WARN 0 | SKIP 2 | PASS 927 ]
> 
> proc.time()
   user  system elapsed 
206.892  80.095 368.067 
Error while shutting down parallel: unable to terminate some child processes

Example timings

MotifPeeker.Rcheck/MotifPeeker-Ex.timings

nameusersystemelapsed
MotifPeeker121.306 62.313183.674
bootstrap_distances1.0050.2051.218
bpapply0.0300.0660.110
calc_frip0.1320.1660.685
check_ENCODE0.3500.0677.140
check_JASPAR0.3040.0440.352
check_genome_build0.0040.0010.005
denovo_motifs1.8350.2261.976
find_motifs1.8340.3546.043
format_exptype0.0000.0010.002
get_JASPARCORE0.3080.0640.374
get_df_distances0.0900.0441.288
get_df_distances_bootstrapped 0.172 0.15863.153
get_df_enrichment 0.247 0.34135.402
motif_enrichment 5.360 6.51411.948
motif_similarity6.1250.7956.406
pipe0.0000.0010.001
pretty_number000
read_motif_file0.0030.0030.006
read_peak_file0.0670.0100.077
read_peak_file_macs0.0600.0080.067
report_command0.0010.0000.001
report_header0.0030.0010.003
save_peak_file0.0280.0050.033
segregate_seqs0.1170.0170.136
summit_to_motif0.5080.1100.604
to_plotly0.2820.0520.337
trim_seqs0.0240.0040.028