Back to Build/check report for BioC 3.23:   simplified   long
ABCDEFGHIJKL[M]NOPQRSTUVWXYZ

This page was generated on 2025-11-01 11:32 -0400 (Sat, 01 Nov 2025).

HostnameOSArch (*)R versionInstalled pkgs
nebbiolo1Linux (Ubuntu 24.04.3 LTS)x86_64R Under development (unstable) (2025-10-20 r88955) -- "Unsuffered Consequences" 4774
Click on any hostname to see more info about the system (e.g. compilers)      (*) as reported by 'uname -p', except on Windows and Mac OS X

Package 1337/2321HostnameOS / ArchINSTALLBUILDCHECKBUILD BIN
Motif2Site 1.15.0  (landing page)
Peyman Zarrineh
Snapshot Date: 2025-10-31 13:40 -0400 (Fri, 31 Oct 2025)
git_url: https://git.bioconductor.org/packages/Motif2Site
git_branch: devel
git_last_commit: c1fd6d7
git_last_commit_date: 2025-10-29 11:15:00 -0400 (Wed, 29 Oct 2025)
nebbiolo1Linux (Ubuntu 24.04.3 LTS) / x86_64  OK    OK    OK  NO, package depends on 'BSgenome' which is not available


CHECK results for Motif2Site on nebbiolo1

To the developers/maintainers of the Motif2Site package:
- Allow up to 24 hours (and sometimes 48 hours) for your latest push to git@git.bioconductor.org:packages/Motif2Site.git to reflect on this report. See Troubleshooting Build Report for more information.
- Use the following Renviron settings to reproduce errors and warnings.
- If 'R CMD check' started to fail recently on the Linux builder(s) over a missing dependency, add the missing dependency to 'Suggests:' in your DESCRIPTION file. See Renviron.bioc for more information.

raw results


Summary

Package: Motif2Site
Version: 1.15.0
Command: /home/biocbuild/bbs-3.23-bioc/R/bin/R CMD check --install=check:Motif2Site.install-out.txt --library=/home/biocbuild/bbs-3.23-bioc/R/site-library --timings Motif2Site_1.15.0.tar.gz
StartedAt: 2025-11-01 01:19:49 -0400 (Sat, 01 Nov 2025)
EndedAt: 2025-11-01 01:33:00 -0400 (Sat, 01 Nov 2025)
EllapsedTime: 791.1 seconds
RetCode: 0
Status:   OK  
CheckDir: Motif2Site.Rcheck
Warnings: 0

Command output

##############################################################################
##############################################################################
###
### Running command:
###
###   /home/biocbuild/bbs-3.23-bioc/R/bin/R CMD check --install=check:Motif2Site.install-out.txt --library=/home/biocbuild/bbs-3.23-bioc/R/site-library --timings Motif2Site_1.15.0.tar.gz
###
##############################################################################
##############################################################################


* using log directory ‘/home/biocbuild/bbs-3.23-bioc/meat/Motif2Site.Rcheck’
* using R Under development (unstable) (2025-10-20 r88955)
* using platform: x86_64-pc-linux-gnu
* R was compiled by
    gcc (Ubuntu 13.3.0-6ubuntu2~24.04) 13.3.0
    GNU Fortran (Ubuntu 13.3.0-6ubuntu2~24.04) 13.3.0
* running under: Ubuntu 24.04.3 LTS
* using session charset: UTF-8
* checking for file ‘Motif2Site/DESCRIPTION’ ... OK
* checking extension type ... Package
* this is package ‘Motif2Site’ version ‘1.15.0’
* package encoding: UTF-8
* checking package namespace information ... OK
* checking package dependencies ... OK
* checking if this is a source package ... OK
* checking if there is a namespace ... OK
* checking for hidden files and directories ... NOTE
Found the following hidden files and directories:
  .gitignoreommit
These were most likely included in error. See section ‘Package
structure’ in the ‘Writing R Extensions’ manual.
* checking for portable file names ... OK
* checking for sufficient/correct file permissions ... OK
* checking whether package ‘Motif2Site’ can be installed ... OK
* checking installed package size ... OK
* checking package directory ... OK
* checking ‘build’ directory ... OK
* checking DESCRIPTION meta-information ... OK
* checking top-level files ... OK
* checking for left-over files ... OK
* checking index information ... OK
* checking package subdirectories ... OK
* checking code files for non-ASCII characters ... OK
* checking R files for syntax errors ... OK
* checking whether the package can be loaded ... OK
* checking whether the package can be loaded with stated dependencies ... OK
* checking whether the package can be unloaded cleanly ... OK
* checking whether the namespace can be loaded with stated dependencies ... OK
* checking whether the namespace can be unloaded cleanly ... OK
* checking loading without being on the library search path ... OK
* checking dependencies in R code ... OK
* checking S3 generic/method consistency ... OK
* checking replacement functions ... OK
* checking foreign function calls ... OK
* checking R code for possible problems ... OK
* checking Rd files ... OK
* checking Rd metadata ... OK
* checking Rd cross-references ... OK
* checking for missing documentation entries ... OK
* checking for code/documentation mismatches ... OK
* checking Rd \usage sections ... OK
* checking Rd contents ... OK
* checking for unstated dependencies in examples ... OK
* checking files in ‘vignettes’ ... OK
* checking examples ... OK
Examples with CPU (user + system) or elapsed time > 5s
                                         user system elapsed
recenterBindingSitesAcrossExperiments 130.598  0.840 131.450
Motif2Site                            127.762  0.987 128.776
pairwisDifferential                   126.431  0.687 127.132
DetectBindingSitesBed                  60.587  0.903  61.509
DetectBindingSitesMotif                53.942  0.574  54.535
compareMotifs2UserProvidedRegions      16.491  0.099  16.591
compareBedFiless2UserProvidedRegions    6.776  0.064   6.842
* checking for unstated dependencies in vignettes ... OK
* checking package vignettes ... OK
* checking re-building of vignette outputs ... OK
* checking PDF version of manual ... OK
* DONE

Status: 1 NOTE
See
  ‘/home/biocbuild/bbs-3.23-bioc/meat/Motif2Site.Rcheck/00check.log’
for details.


Installation output

Motif2Site.Rcheck/00install.out

##############################################################################
##############################################################################
###
### Running command:
###
###   /home/biocbuild/bbs-3.23-bioc/R/bin/R CMD INSTALL Motif2Site
###
##############################################################################
##############################################################################


* installing to library ‘/home/biocbuild/bbs-3.23-bioc/R/site-library’
* installing *source* package ‘Motif2Site’ ...
** this is package ‘Motif2Site’ version ‘1.15.0’
** using staged installation
** R
** inst
** byte-compile and prepare package for lazy loading
** help
*** installing help indices
** building package indices
** installing vignettes
** testing if installed package can be loaded from temporary location
** testing if installed package can be loaded from final location
** testing if installed package keeps a record of temporary installation path
* DONE (Motif2Site)

Tests output


Example timings

Motif2Site.Rcheck/Motif2Site-Ex.timings

nameusersystemelapsed
Bed2Granges2.1110.0992.209
DetectBindingSitesBed60.587 0.90361.509
DetectBindingSitesMotif53.942 0.57454.535
Motif2Site127.762 0.987128.776
compareBedFiless2UserProvidedRegions6.7760.0646.842
compareMotifs2UserProvidedRegions16.491 0.09916.591
data0.8400.0020.842
pairwisDifferential126.431 0.687127.132
recenterBindingSitesAcrossExperiments130.598 0.840131.450