Back to Multiple platform build/check report for BioC 3.22:   simplified   long
ABCDEFGHIJKL[M]NOPQRSTUVWXYZ

This page was generated on 2025-10-13 12:05 -0400 (Mon, 13 Oct 2025).

HostnameOSArch (*)R versionInstalled pkgs
nebbiolo2Linux (Ubuntu 24.04.3 LTS)x86_644.5.1 Patched (2025-08-23 r88802) -- "Great Square Root" 4864
lconwaymacOS 12.7.1 Montereyx86_644.5.1 Patched (2025-09-10 r88807) -- "Great Square Root" 4652
kjohnson3macOS 13.7.7 Venturaarm644.5.1 Patched (2025-09-10 r88807) -- "Great Square Root" 4597
taishanLinux (openEuler 24.03 LTS)aarch644.5.0 (2025-04-11) -- "How About a Twenty-Six" 4586
Click on any hostname to see more info about the system (e.g. compilers)      (*) as reported by 'uname -p', except on Windows and Mac OS X

Package 1326/2346HostnameOS / ArchINSTALLBUILDCHECKBUILD BIN
MLP 1.57.0  (landing page)
Tobias Verbeke
Snapshot Date: 2025-10-12 13:45 -0400 (Sun, 12 Oct 2025)
git_url: https://git.bioconductor.org/packages/MLP
git_branch: devel
git_last_commit: ad675f0
git_last_commit_date: 2025-04-15 10:01:18 -0400 (Tue, 15 Apr 2025)
nebbiolo2Linux (Ubuntu 24.04.3 LTS) / x86_64  OK    OK    OK  UNNEEDED, same version is already published
lconwaymacOS 12.7.1 Monterey / x86_64  OK    OK    OK    OK  UNNEEDED, same version is already published
kjohnson3macOS 13.7.7 Ventura / arm64  OK    OK    ERROR    OK  
taishanLinux (openEuler 24.03 LTS) / aarch64  OK    OK    OK  


CHECK results for MLP on lconway

To the developers/maintainers of the MLP package:
- Allow up to 24 hours (and sometimes 48 hours) for your latest push to git@git.bioconductor.org:packages/MLP.git to reflect on this report. See Troubleshooting Build Report for more information.
- Use the following Renviron settings to reproduce errors and warnings.
- If 'R CMD check' started to fail recently on the Linux builder(s) over a missing dependency, add the missing dependency to 'Suggests:' in your DESCRIPTION file. See Renviron.bioc for more information.

raw results


Summary

Package: MLP
Version: 1.57.0
Command: /Library/Frameworks/R.framework/Resources/bin/R CMD check --install=check:MLP.install-out.txt --library=/Library/Frameworks/R.framework/Resources/library --no-vignettes --timings MLP_1.57.0.tar.gz
StartedAt: 2025-10-12 23:22:10 -0400 (Sun, 12 Oct 2025)
EndedAt: 2025-10-12 23:34:18 -0400 (Sun, 12 Oct 2025)
EllapsedTime: 727.8 seconds
RetCode: 0
Status:   OK  
CheckDir: MLP.Rcheck
Warnings: 0

Command output

##############################################################################
##############################################################################
###
### Running command:
###
###   /Library/Frameworks/R.framework/Resources/bin/R CMD check --install=check:MLP.install-out.txt --library=/Library/Frameworks/R.framework/Resources/library --no-vignettes --timings MLP_1.57.0.tar.gz
###
##############################################################################
##############################################################################


* using log directory ‘/Users/biocbuild/bbs-3.22-bioc/meat/MLP.Rcheck’
* using R version 4.5.1 Patched (2025-09-10 r88807)
* using platform: x86_64-apple-darwin20
* R was compiled by
    Apple clang version 14.0.0 (clang-1400.0.29.202)
    GNU Fortran (GCC) 14.2.0
* running under: macOS Monterey 12.7.6
* using session charset: UTF-8
* using option ‘--no-vignettes’
* checking for file ‘MLP/DESCRIPTION’ ... OK
* checking extension type ... Package
* this is package ‘MLP’ version ‘1.57.0’
* checking package namespace information ... OK
* checking package dependencies ... OK
* checking if this is a source package ... OK
* checking if there is a namespace ... OK
* checking for hidden files and directories ... OK
* checking for portable file names ... OK
* checking for sufficient/correct file permissions ... OK
* checking whether package ‘MLP’ can be installed ... OK
* checking installed package size ... OK
* checking package directory ... OK
* checking ‘build’ directory ... OK
* checking DESCRIPTION meta-information ... OK
* checking top-level files ... OK
* checking for left-over files ... OK
* checking index information ... OK
* checking package subdirectories ... OK
* checking code files for non-ASCII characters ... OK
* checking R files for syntax errors ... OK
* checking whether the package can be loaded ... OK
* checking whether the package can be loaded with stated dependencies ... OK
* checking whether the package can be unloaded cleanly ... OK
* checking whether the namespace can be loaded with stated dependencies ... OK
* checking whether the namespace can be unloaded cleanly ... OK
* checking dependencies in R code ... OK
* checking S3 generic/method consistency ... OK
* checking replacement functions ... OK
* checking foreign function calls ... OK
* checking R code for possible problems ... OK
* checking Rd files ... OK
* checking Rd metadata ... OK
* checking Rd cross-references ... OK
* checking for missing documentation entries ... OK
* checking for code/documentation mismatches ... OK
* checking Rd \usage sections ... OK
* checking Rd contents ... OK
* checking for unstated dependencies in examples ... OK
* checking sizes of PDF files under ‘inst/doc’ ... OK
* checking files in ‘vignettes’ ... OK
* checking examples ... OK
Examples with CPU (user + system) or elapsed time > 5s
                        user system elapsed
getGeneSets           70.847  2.939 198.442
addGeneSetDescription 61.808  8.389  71.262
MLP                   20.832  2.032  23.146
* checking for unstated dependencies in ‘tests’ ... OK
* checking tests ...
  Running ‘test.KEGG.R’
  Running ‘test.MLP.R’
 OK
* checking for unstated dependencies in vignettes ... OK
* checking package vignettes ... OK
* checking running R code from vignettes ... SKIPPED
* checking re-building of vignette outputs ... SKIPPED
* checking PDF version of manual ... OK
* DONE

Status: OK


Installation output

MLP.Rcheck/00install.out

##############################################################################
##############################################################################
###
### Running command:
###
###   /Library/Frameworks/R.framework/Resources/bin/R CMD INSTALL MLP
###
##############################################################################
##############################################################################


* installing to library ‘/Library/Frameworks/R.framework/Versions/4.5-x86_64/Resources/library’
* installing *source* package ‘MLP’ ...
** this is package ‘MLP’ version ‘1.57.0’
** using staged installation
** R
** inst
** byte-compile and prepare package for lazy loading
** help
*** installing help indices
** building package indices
** installing vignettes
** testing if installed package can be loaded from temporary location
** testing if installed package can be loaded from final location
** testing if installed package keeps a record of temporary installation path
* DONE (MLP)

Tests output

MLP.Rcheck/tests/test.KEGG.Rout


R version 4.5.1 Patched (2025-09-10 r88807) -- "Great Square Root"
Copyright (C) 2025 The R Foundation for Statistical Computing
Platform: x86_64-apple-darwin20

R is free software and comes with ABSOLUTELY NO WARRANTY.
You are welcome to redistribute it under certain conditions.
Type 'license()' or 'licence()' for distribution details.

R is a collaborative project with many contributors.
Type 'contributors()' for more information and
'citation()' on how to cite R or R packages in publications.

Type 'demo()' for some demos, 'help()' for on-line help, or
'help.start()' for an HTML browser interface to help.
Type 'q()' to quit R.

> library(MLP)
> 
> pathPValues <- system.file("exampleFiles", "examplePValues.rda", package = "MLP")
> load(pathPValues)
> 
> pvalues <- examplePValues[seq.int(1000)]
> 
> system.time(geneSet <- getGeneSets(
+ 	species = "Mouse", 
+ 	geneSetSource = "KEGG", 
+ 	entrezIdentifiers = names(pvalues)
+ ))
   user  system elapsed 
 44.229   0.381 169.825 
> 
> set.seed(111)
> mlpOut <- MLP(
+ 	geneSet = geneSet, 
+ 	geneStatistic = pvalues
+ ) 	
> 
> mlpOutWithGeneSetDescr <- addGeneSetDescription(object = mlpOut, geneSetSource = "KEGG")
Warning message:
In addGeneSetDescription(object = mlpOut, geneSetSource = "KEGG") :
  The MLP object already contains a column 'geneSetDescription'
> 
> 	
> 
> proc.time()
   user  system elapsed 
 73.760   0.850 255.683 

MLP.Rcheck/tests/test.MLP.Rout


R version 4.5.1 Patched (2025-09-10 r88807) -- "Great Square Root"
Copyright (C) 2025 The R Foundation for Statistical Computing
Platform: x86_64-apple-darwin20

R is free software and comes with ABSOLUTELY NO WARRANTY.
You are welcome to redistribute it under certain conditions.
Type 'license()' or 'licence()' for distribution details.

R is a collaborative project with many contributors.
Type 'contributors()' for more information and
'citation()' on how to cite R or R packages in publications.

Type 'demo()' for some demos, 'help()' for on-line help, or
'help.start()' for an HTML browser interface to help.
Type 'q()' to quit R.

> require(MLP)	
Loading required package: MLP
> set.seed(479)
> 
> # This is just the expressionset for this experiment.
> 
> pathExampleData <- system.file("exampleFiles", "expressionSetGcrma.rda", package = "MLP")
> load(pathExampleData)
> 
> # Libraries needed
> library(limma)
> library(org.Mm.eg.db) # for mouse
Loading required package: AnnotationDbi
Loading required package: stats4
Loading required package: BiocGenerics
Loading required package: generics

Attaching package: 'generics'

The following objects are masked from 'package:base':

    as.difftime, as.factor, as.ordered, intersect, is.element, setdiff,
    setequal, union


Attaching package: 'BiocGenerics'

The following object is masked from 'package:limma':

    plotMA

The following objects are masked from 'package:stats':

    IQR, mad, sd, var, xtabs

The following objects are masked from 'package:base':

    Filter, Find, Map, Position, Reduce, anyDuplicated, aperm, append,
    as.data.frame, basename, cbind, colnames, dirname, do.call,
    duplicated, eval, evalq, get, grep, grepl, is.unsorted, lapply,
    mapply, match, mget, order, paste, pmax, pmax.int, pmin, pmin.int,
    rank, rbind, rownames, sapply, saveRDS, table, tapply, unique,
    unsplit, which.max, which.min

Loading required package: Biobase
Welcome to Bioconductor

    Vignettes contain introductory material; view with
    'browseVignettes()'. To cite Bioconductor, see
    'citation("Biobase")', and for packages 'citation("pkgname")'.

Loading required package: IRanges
Loading required package: S4Vectors

Attaching package: 'S4Vectors'

The following object is masked from 'package:utils':

    findMatches

The following objects are masked from 'package:base':

    I, expand.grid, unname


> 
> exprs(expressionSetGcrma)[1:2,]
              2760     2763     2765     2766     2768     2769     2761
100009600 2.371111 2.170060 2.233383 2.180717 2.325886 2.239441 2.297301
100012    2.176163 2.318876 2.419263 2.223307 2.585125 2.346060 2.292061
              2762    2764     2767     2770     2771
100009600 2.409001 2.49458 2.115814 2.371262 2.267459
100012    2.336415 2.47979 2.361981 2.330418 2.520918
> #              2760     2763     2765     2766     2768     2769     2761     2762    2764     2767
> #100009600 2.371111 2.170060 2.233383 2.180717 2.325886 2.239441 2.297301 2.409001 2.49458 2.115814
> #100012    2.176163 2.318876 2.419263 2.223307 2.585125 2.346060 2.292061 2.336415 2.47979 2.361981
> #              2770     2771
> #100009600 2.371262 2.267459
> #100012    2.330418 2.520918
> 
> pData(expressionSetGcrma)
     sample subGroup sampleColor subGroup1
2760      1        1     #FF0000        WT
2763      4        1     #FF0000        WT
2765      6        1     #FF0000        WT
2766      7        1     #FF0000        WT
2768      9        1     #FF0000        WT
2769     10        1     #FF0000        WT
2761      2        2     #0000FF        KO
2762      3        2     #0000FF        KO
2764      5        2     #0000FF        KO
2767      8        2     #0000FF        KO
2770     11        2     #0000FF        KO
2771     12        2     #0000FF        KO
> #     sample subGroup sampleColor
> #2760      1        1     #FF0000
> #2763      4        1     #FF0000
> #2765      6        1     #FF0000
> #2766      7        1     #FF0000
> #2768      9        1     #FF0000
> #2769     10        1     #FF0000
> #2761      2        2     #0000FF
> #2762      3        2     #0000FF
> #2764      5        2     #0000FF
> #2767      8        2     #0000FF
> #2770     11        2     #0000FF
> #2771     12        2     #0000FF
> 
> pData(expressionSetGcrma)$subGroup1 <- ifelse(pData(expressionSetGcrma)$subGroup==1,"WT","KO")
> 
> ###==============================================GENERATING LIMMA p-VALUES=================================
> 
> # boxplot(data.frame(exprs(expressionSetGcrma))
> normDat  <- normalizeQuantiles(exprs(expressionSetGcrma), ties=TRUE)
> subGroup <- pData(expressionSetGcrma)$subGroup
> design <- model.matrix(~ -1 +factor(subGroup ))
> 
> colnames(design) <- c("group1", "group2")
> contrast.matrix <- makeContrasts(group1-group2, levels=design)
> fit <- lmFit(normDat,design)
> fit2 <- contrasts.fit(fit, contrast.matrix)
> fit2 <- eBayes(fit2)
> normDat.p <- fit2$p.value
> 
> normDat.p[1:5]
[1] 0.4328583 0.7448996 0.6088859 0.1845008 0.2312761
> #[1] 0.4328583 0.7448996 0.6088859 0.1845008 0.2312761
> 
> system.time(goGeneSet <- getGeneSets(species = "Mouse", geneSetSource = "GOBP", entrezIdentifiers = featureNames(expressionSetGcrma)))
Loading required namespace: GO.db

   user  system elapsed 
 34.949   4.567  40.219 
> goGeneSet[1:3]
$`GO:0000012`
 [1] "11545"  "14211"  "21958"  "22064"  "22594"  "54402"  "66408"  "70099" 
 [9] "71991"  "72103"  "93759"  "104884" "234258" "319583" "319955"

$`GO:0000017`
[1] "20537"  "246787"

$`GO:0000018`
  [1] "11350"     "11461"     "11545"     "11920"     "12053"     "12144"    
  [7] "12261"     "12487"     "12649"     "12914"     "12995"     "13831"    
 [13] "13871"     "13990"     "14581"     "14957"     "14958"     "15193"    
 [19] "15270"     "15469"     "15978"     "16183"     "16189"     "16882"    
 [25] "17350"     "17685"     "17686"     "17688"     "18817"     "18861"    
 [31] "19264"     "19360"     "19361"     "19362"     "19891"     "20174"    
 [37] "20371"     "20852"     "20926"     "21427"     "21750"     "21761"    
 [43] "21803"     "21853"     "21939"     "22042"     "22164"     "22210"    
 [49] "22376"     "27223"     "27401"     "50708"     "50709"     "50721"    
 [55] "50755"     "50931"     "51869"     "54388"     "55982"     "56397"    
 [61] "56420"     "56456"     "56505"     "56702"     "56708"     "57321"    
 [67] "57765"     "58186"     "58230"     "59004"     "60530"     "64050"    
 [73] "65113"     "66233"     "66362"     "66713"     "66991"     "67245"    
 [79] "67278"     "67561"     "67956"     "67968"     "68067"     "69583"    
 [85] "70088"     "70294"     "71777"     "71890"     "72103"     "72544"    
 [91] "72836"     "73247"     "73747"     "74355"     "75317"     "75560"    
 [97] "75698"     "77044"     "77782"     "78656"     "80838"     "80886"    
[103] "81601"     "94232"     "99982"     "100561"    "100683"    "102871"   
[109] "103537"    "104271"    "107823"    "107970"    "117599"    "170472"   
[115] "171506"    "191578"    "213389"    "214763"    "216049"    "216853"   
[121] "223970"    "224008"    "225888"    "227867"    "232210"    "232314"   
[127] "232811"    "233908"    "234396"    "235587"    "235626"    "236904"   
[133] "237211"    "237877"    "240087"    "243529"    "245109"    "269400"   
[139] "319955"    "381678"    "635253"    "723890"    "723903"    "113002583"

> # output changes with annotation version !
> 
> y <- normDat.p[,1]
> names(y) <- featureNames(expressionSetGcrma)
> 
> y[1:10]
100009600    100012    100017    100019 100034251 100036521 100037258 100037278 
0.4328583 0.7448996 0.6088859 0.1845008 0.2312761 0.7865153 0.7772888 0.1037431 
100038570 100038635 
0.1368744 0.3272610 
> # 100009600    100012    100017    100019 100034251 100036521 100037258 100037278 
> # 0.4328583 0.7448996 0.6088859 0.1845008 0.2312761 0.7865153 0.7772888 0.1037431 
> # 100038570 100038635 
> # 0.1368744 0.3272610 
> 
> mlpObject <- MLP(geneSet = goGeneSet, geneStatistic = y, minGenes = 5, maxGenes = 100, rowPermutations = TRUE, 
+     nPermutations = 6, smoothPValues = TRUE)
> 
> 
> 
> mlpObject[1:10, ]
           totalGeneSetSize testedGeneSetSize geneSetStatistic geneSetPValue
GO:0098700               11                 9        1.6077152  2.681021e-06
GO:0002478               34                30        0.9732313  2.076466e-05
GO:0002468               18                12        1.2692571  5.568521e-05
GO:0019884               41                35        0.8938430  6.274540e-05
GO:1905146               25                25        0.9817612  6.797171e-05
GO:0019886               21                19        1.0530544  8.099496e-05
GO:0140089                5                 5        1.6875148  1.006984e-04
GO:0007039               27                27        0.9329045  1.432658e-04
GO:0002495               25                23        0.9693229  1.500456e-04
GO:0002282                5                 5        1.6379883  1.546878e-04
                                                                          geneSetDescription
GO:0098700                                    neurotransmitter loading into synaptic vesicle
GO:0002478                  antigen processing and presentation of exogenous peptide antigen
GO:0002468                                dendritic cell antigen processing and presentation
GO:0019884                          antigen processing and presentation of exogenous antigen
GO:1905146                                               lysosomal protein catabolic process
GO:0019886 antigen processing and presentation of exogenous peptide antigen via MHC class II
GO:0140089                                                                   protein storage
GO:0007039                                          protein catabolic process in the vacuole
GO:0002495           antigen processing and presentation of peptide antigen via MHC class II
GO:0002282                            microglial cell activation involved in immune response
> # output changes with annotation version !
> 
> plotGOgraph(object = mlpObject, main = "test of main")
Loading required namespace: Rgraphviz
Loading required namespace: GOstats
Loading required namespace: gplots
> 
> pdf(file = "test10.pdf", width = 10, height = 10)
> # x11(width = 10, height = 10)
> plot(mlpObject, nRow = 10) # by default:  type = "barplot"
> dev.off()
pdf 
  2 
> 
> unlink("test10.pdf")
> 
> if (FALSE){
+   pdf(file = "test5.pdf", width =10, height = 10)
+   mlpBarplot(object = mlpObject, geneSetSource = "GOBP", nRow = 10, descriptionLength = 5)
+   dev.off()
+   
+   unlink("test5.pdf")
+   
+   pdf(file = "test100.pdf", width =10, height = 20)
+   mlpBarplot(object = mlpObject, geneSetSource = "GOBP", nRow = 10, descriptionLength = 100)
+   dev.off()
+   
+   unlink("test100.pdf")
+ }
> 
> plot(mlpObject, type = "quantileCurves")
> plot(mlpObject, type = "GOgraph")
> 
> proc.time()
   user  system elapsed 
 58.179   9.718  69.844 

Example timings

MLP.Rcheck/MLP-Ex.timings

nameusersystemelapsed
MLP20.832 2.03223.146
addGeneSetDescription61.808 8.38971.262
getGeneSets 70.847 2.939198.442
mlpBarplot0.0180.0030.022
plot.MLP3.1740.1233.354
plotGOgraph0.6200.0230.650
plotGeneSetSignificance0.7610.0410.814