| Back to Build/check report for BioC 3.23: simplified long |
|
This page was generated on 2025-10-31 08:34 -0400 (Fri, 31 Oct 2025).
| Hostname | OS | Arch (*) | R version | Installed pkgs |
|---|---|---|---|---|
| nebbiolo1 | Linux (Ubuntu 24.04.3 LTS) | x86_64 | R Under development (unstable) (2025-10-20 r88955) -- "Unsuffered Consequences" | 4428 |
| Click on any hostname to see more info about the system (e.g. compilers) (*) as reported by 'uname -p', except on Windows and Mac OS X | ||||
| Package 1063/2321 | Hostname | OS / Arch | INSTALL | BUILD | CHECK | BUILD BIN | ||||||||
| ISAnalytics 1.21.0 (landing page) Francesco Gazzo
| nebbiolo1 | Linux (Ubuntu 24.04.3 LTS) / x86_64 | OK | OK | OK | |||||||||
|
To the developers/maintainers of the ISAnalytics package: - Allow up to 24 hours (and sometimes 48 hours) for your latest push to git@git.bioconductor.org:packages/ISAnalytics.git to reflect on this report. See Troubleshooting Build Report for more information. - Use the following Renviron settings to reproduce errors and warnings. - If 'R CMD check' started to fail recently on the Linux builder(s) over a missing dependency, add the missing dependency to 'Suggests:' in your DESCRIPTION file. See Renviron.bioc for more information. |
| Package: ISAnalytics |
| Version: 1.21.0 |
| Command: /home/biocbuild/bbs-3.23-bioc/R/bin/R CMD check --install=check:ISAnalytics.install-out.txt --library=/home/biocbuild/bbs-3.23-bioc/R/site-library --timings ISAnalytics_1.21.0.tar.gz |
| StartedAt: 2025-10-30 22:04:00 -0400 (Thu, 30 Oct 2025) |
| EndedAt: 2025-10-30 22:13:10 -0400 (Thu, 30 Oct 2025) |
| EllapsedTime: 549.8 seconds |
| RetCode: 0 |
| Status: OK |
| CheckDir: ISAnalytics.Rcheck |
| Warnings: 0 |
##############################################################################
##############################################################################
###
### Running command:
###
### /home/biocbuild/bbs-3.23-bioc/R/bin/R CMD check --install=check:ISAnalytics.install-out.txt --library=/home/biocbuild/bbs-3.23-bioc/R/site-library --timings ISAnalytics_1.21.0.tar.gz
###
##############################################################################
##############################################################################
* using log directory ‘/home/biocbuild/bbs-3.23-bioc/meat/ISAnalytics.Rcheck’
* using R Under development (unstable) (2025-10-20 r88955)
* using platform: x86_64-pc-linux-gnu
* R was compiled by
gcc (Ubuntu 13.3.0-6ubuntu2~24.04) 13.3.0
GNU Fortran (Ubuntu 13.3.0-6ubuntu2~24.04) 13.3.0
* running under: Ubuntu 24.04.3 LTS
* using session charset: UTF-8
* checking for file ‘ISAnalytics/DESCRIPTION’ ... OK
* this is package ‘ISAnalytics’ version ‘1.21.0’
* package encoding: UTF-8
* checking package namespace information ... OK
* checking package dependencies ... INFO
Imports includes 22 non-default packages.
Importing from so many packages makes the package vulnerable to any of
them becoming unavailable. Move as many as possible to Suggests and
use conditionally.
* checking if this is a source package ... OK
* checking if there is a namespace ... OK
* checking for hidden files and directories ... OK
* checking for portable file names ... OK
* checking for sufficient/correct file permissions ... OK
* checking whether package ‘ISAnalytics’ can be installed ... OK
* checking installed package size ... INFO
installed size is 8.3Mb
sub-directories of 1Mb or more:
data 5.9Mb
* checking package directory ... OK
* checking ‘build’ directory ... OK
* checking DESCRIPTION meta-information ... OK
* checking top-level files ... OK
* checking for left-over files ... OK
* checking index information ... OK
* checking package subdirectories ... OK
* checking code files for non-ASCII characters ... OK
* checking R files for syntax errors ... OK
* checking whether the package can be loaded ... OK
* checking whether the package can be loaded with stated dependencies ... OK
* checking whether the package can be unloaded cleanly ... OK
* checking whether the namespace can be loaded with stated dependencies ... OK
* checking whether the namespace can be unloaded cleanly ... OK
* checking loading without being on the library search path ... OK
* checking whether startup messages can be suppressed ... OK
* checking dependencies in R code ... OK
* checking S3 generic/method consistency ... OK
* checking replacement functions ... OK
* checking foreign function calls ... OK
* checking R code for possible problems ... OK
* checking Rd files ... NOTE
checkRd: (-1) refGenes_hg19.Rd:21: Lost braces; missing escapes or markup?
21 | \item Download from {http://hgdownload.soe.ucsc.edu/goldenPath/hg19/database/}
| ^
* checking Rd metadata ... OK
* checking Rd cross-references ... OK
* checking for missing documentation entries ... OK
* checking for code/documentation mismatches ... OK
* checking Rd \usage sections ... OK
* checking Rd contents ... OK
* checking for unstated dependencies in examples ... OK
* checking contents of ‘data’ directory ... OK
* checking data for non-ASCII characters ... OK
* checking data for ASCII and uncompressed saves ... OK
* checking files in ‘vignettes’ ... OK
* checking examples ... OK
Examples with CPU (user + system) or elapsed time > 5s
user system elapsed
integration_alluvial_plot 7.082 0.413 30.326
sharing_venn 4.201 0.513 33.046
import_parallel_Vispa2Matrices 4.195 0.371 16.906
is_sharing 3.591 0.044 12.284
sharing_heatmap 2.715 0.141 9.402
import_Vispa2_stats 1.902 0.233 5.600
HSC_population_plot 1.726 0.264 5.049
CIS_grubbs_overtime 1.831 0.114 7.667
iss_source 1.775 0.026 9.841
top_cis_overtime_heatmap 1.732 0.044 8.360
realign_after_collisions 1.562 0.143 6.038
remove_collisions 1.642 0.019 5.407
* checking for unstated dependencies in ‘tests’ ... OK
* checking tests ...
Running ‘testthat.R’
OK
* checking for unstated dependencies in vignettes ... OK
* checking package vignettes ... OK
* checking re-building of vignette outputs ... OK
* checking PDF version of manual ... OK
* DONE
Status: 1 NOTE
See
‘/home/biocbuild/bbs-3.23-bioc/meat/ISAnalytics.Rcheck/00check.log’
for details.
ISAnalytics.Rcheck/00install.out
############################################################################## ############################################################################## ### ### Running command: ### ### /home/biocbuild/bbs-3.23-bioc/R/bin/R CMD INSTALL ISAnalytics ### ############################################################################## ############################################################################## * installing to library ‘/home/biocbuild/bbs-3.23-bioc/R/site-library’ * installing *source* package ‘ISAnalytics’ ... ** this is package ‘ISAnalytics’ version ‘1.21.0’ ** using staged installation ** R ** data ** inst ** byte-compile and prepare package for lazy loading ** help *** installing help indices *** copying figures ** building package indices ** installing vignettes ** testing if installed package can be loaded from temporary location ** testing if installed package can be loaded from final location ** testing if installed package keeps a record of temporary installation path * DONE (ISAnalytics)
ISAnalytics.Rcheck/tests/testthat.Rout
R Under development (unstable) (2025-10-20 r88955) -- "Unsuffered Consequences"
Copyright (C) 2025 The R Foundation for Statistical Computing
Platform: x86_64-pc-linux-gnu
R is free software and comes with ABSOLUTELY NO WARRANTY.
You are welcome to redistribute it under certain conditions.
Type 'license()' or 'licence()' for distribution details.
R is a collaborative project with many contributors.
Type 'contributors()' for more information and
'citation()' on how to cite R or R packages in publications.
Type 'demo()' for some demos, 'help()' for on-line help, or
'help.start()' for an HTML browser interface to help.
Type 'q()' to quit R.
> library(testthat)
> library(ISAnalytics)
>
> test_check("ISAnalytics")
Loading required namespace: plotly
Loading required namespace: rmarkdown
Report correctly saved
i Report saved to: /tmp/RtmpjdhyBI/fileefb761eebc0ac/2025-10-30_collision_removal_report.html
Report correctly saved
i Report saved to: /tmp/RtmpjdhyBI/fileefb76476240e5/2025-10-30_outlier_test_pool_fragments_report.html
[ FAIL 0 | WARN 0 | SKIP 0 | PASS 834 ]
>
> proc.time()
user system elapsed
102.043 6.578 226.763
ISAnalytics.Rcheck/ISAnalytics-Ex.timings
| name | user | system | elapsed | |
| CIS_grubbs | 0.835 | 0.031 | 0.866 | |
| CIS_grubbs_overtime | 1.831 | 0.114 | 7.667 | |
| CIS_volcano_plot | 1.554 | 0.082 | 1.636 | |
| HSC_population_plot | 1.726 | 0.264 | 5.049 | |
| HSC_population_size_estimate | 1.062 | 0.057 | 3.964 | |
| NGSdataExplorer | 0 | 0 | 0 | |
| aggregate_metadata | 0.092 | 0.002 | 0.095 | |
| aggregate_values_by_key | 0.061 | 0.002 | 0.063 | |
| annotation_issues | 0.030 | 0.011 | 0.041 | |
| as_sparse_matrix | 0.054 | 0.006 | 0.060 | |
| available_outlier_tests | 0.001 | 0.000 | 0.000 | |
| available_tags | 0.020 | 0.006 | 0.026 | |
| blood_lineages_default | 0.029 | 0.011 | 0.040 | |
| circos_genomic_density | 0 | 0 | 0 | |
| clinical_relevant_suspicious_genes | 0.010 | 0.001 | 0.013 | |
| comparison_matrix | 0.027 | 0.003 | 0.029 | |
| compute_abundance | 0.032 | 0.004 | 0.036 | |
| compute_near_integrations | 1.088 | 0.027 | 4.144 | |
| cumulative_count_union | 0.000 | 0.000 | 0.001 | |
| cumulative_is | 0.148 | 0.000 | 0.149 | |
| date_formats | 0.000 | 0.000 | 0.001 | |
| default_af_transform | 0.000 | 0.000 | 0.001 | |
| default_iss_file_prefixes | 0 | 0 | 0 | |
| default_meta_agg | 0.014 | 0.002 | 0.015 | |
| default_rec_agg_lambdas | 0 | 0 | 0 | |
| default_report_path | 0.006 | 0.000 | 0.007 | |
| default_stats | 1.045 | 0.075 | 1.120 | |
| enable_progress_bars | 0.012 | 0.004 | 0.015 | |
| export_ISA_settings | 0.062 | 0.013 | 0.075 | |
| fisher_scatterplot | 1.077 | 0.087 | 1.164 | |
| gene_frequency_fisher | 0.845 | 0.043 | 0.888 | |
| generate_Vispa2_launch_AF | 0.178 | 0.013 | 0.189 | |
| generate_blank_association_file | 0.013 | 0.006 | 0.019 | |
| generate_default_folder_structure | 0.345 | 0.110 | 0.429 | |
| import_ISA_settings | 0.062 | 0.004 | 0.067 | |
| import_Vispa2_stats | 1.902 | 0.233 | 5.600 | |
| import_association_file | 0.556 | 0.105 | 0.624 | |
| import_parallel_Vispa2Matrices | 4.195 | 0.371 | 16.906 | |
| import_single_Vispa2Matrix | 1.979 | 0.271 | 2.988 | |
| inspect_tags | 0.031 | 0.000 | 0.034 | |
| integration_alluvial_plot | 7.082 | 0.413 | 30.326 | |
| is_sharing | 3.591 | 0.044 | 12.284 | |
| iss_source | 1.775 | 0.026 | 9.841 | |
| known_clinical_oncogenes | 0.012 | 0.000 | 0.011 | |
| mandatory_IS_vars | 0.095 | 0.000 | 0.095 | |
| matching_options | 0 | 0 | 0 | |
| outlier_filter | 0.148 | 0.004 | 0.151 | |
| outliers_by_pool_fragments | 0.163 | 0.001 | 0.164 | |
| pcr_id_column | 0.019 | 0.000 | 0.019 | |
| purity_filter | 0.320 | 0.001 | 0.321 | |
| quantification_types | 0 | 0 | 0 | |
| realign_after_collisions | 1.562 | 0.143 | 6.038 | |
| reduced_AF_columns | 0.041 | 0.001 | 0.041 | |
| refGene_table_cols | 0 | 0 | 0 | |
| remove_collisions | 1.642 | 0.019 | 5.407 | |
| reset_mandatory_IS_vars | 0.005 | 0.001 | 0.005 | |
| sample_statistics | 0.311 | 0.044 | 0.356 | |
| separate_quant_matrices | 0.015 | 0.003 | 0.018 | |
| set_mandatory_IS_vars | 0.099 | 0.015 | 0.115 | |
| set_matrix_file_suffixes | 0.021 | 0.005 | 0.027 | |
| sharing_heatmap | 2.715 | 0.141 | 9.402 | |
| sharing_venn | 4.201 | 0.513 | 33.046 | |
| threshold_filter | 0.000 | 0.000 | 0.001 | |
| top_abund_tableGrob | 0.562 | 0.007 | 0.571 | |
| top_cis_overtime_heatmap | 1.732 | 0.044 | 8.360 | |
| top_integrations | 0.028 | 0.000 | 0.027 | |
| top_targeted_genes | 0.439 | 0.007 | 0.446 | |
| transform_columns | 0.018 | 0.000 | 0.019 | |