Back to Multiple platform build/check report for BioC 3.22:   simplified   long
ABCDEFGH[I]JKLMNOPQRSTUVWXYZ

This page was generated on 2025-10-11 12:06 -0400 (Sat, 11 Oct 2025).

HostnameOSArch (*)R versionInstalled pkgs
nebbiolo2Linux (Ubuntu 24.04.3 LTS)x86_644.5.1 Patched (2025-08-23 r88802) -- "Great Square Root" 4864
lconwaymacOS 12.7.1 Montereyx86_644.5.1 Patched (2025-09-10 r88807) -- "Great Square Root" 4652
kjohnson3macOS 13.7.7 Venturaarm644.5.1 Patched (2025-09-10 r88807) -- "Great Square Root" 4597
taishanLinux (openEuler 24.03 LTS)aarch644.5.0 (2025-04-11) -- "How About a Twenty-Six" 4586
Click on any hostname to see more info about the system (e.g. compilers)      (*) as reported by 'uname -p', except on Windows and Mac OS X

Package 1056/2346HostnameOS / ArchINSTALLBUILDCHECKBUILD BIN
INSPEcT 1.39.1  (landing page)
Stefano de Pretis
Snapshot Date: 2025-10-10 13:45 -0400 (Fri, 10 Oct 2025)
git_url: https://git.bioconductor.org/packages/INSPEcT
git_branch: devel
git_last_commit: 9163233
git_last_commit_date: 2025-07-22 21:29:21 -0400 (Tue, 22 Jul 2025)
nebbiolo2Linux (Ubuntu 24.04.3 LTS) / x86_64  OK    OK    OK  UNNEEDED, same version is already published
lconwaymacOS 12.7.1 Monterey / x86_64  OK    OK    OK    OK  UNNEEDED, same version is already published
kjohnson3macOS 13.7.7 Ventura / arm64  OK    OK    OK    OK  UNNEEDED, same version is already published
taishanLinux (openEuler 24.03 LTS) / aarch64  OK    OK    OK  


CHECK results for INSPEcT on taishan

To the developers/maintainers of the INSPEcT package:
- Allow up to 24 hours (and sometimes 48 hours) for your latest push to git@git.bioconductor.org:packages/INSPEcT.git to reflect on this report. See Troubleshooting Build Report for more information.
- Use the following Renviron settings to reproduce errors and warnings.
- If 'R CMD check' started to fail recently on the Linux builder(s) over a missing dependency, add the missing dependency to 'Suggests:' in your DESCRIPTION file. See Renviron.bioc for more information.
- See Martin Grigorov's blog post for how to debug Linux ARM64 related issues on a x86_64 host.

raw results


Summary

Package: INSPEcT
Version: 1.39.1
Command: /home/biocbuild/R/R/bin/R CMD check --install=check:INSPEcT.install-out.txt --library=/home/biocbuild/R/R/site-library --no-vignettes --timings INSPEcT_1.39.1.tar.gz
StartedAt: 2025-10-10 10:02:22 -0000 (Fri, 10 Oct 2025)
EndedAt: 2025-10-10 10:18:38 -0000 (Fri, 10 Oct 2025)
EllapsedTime: 975.8 seconds
RetCode: 0
Status:   OK  
CheckDir: INSPEcT.Rcheck
Warnings: 0

Command output

##############################################################################
##############################################################################
###
### Running command:
###
###   /home/biocbuild/R/R/bin/R CMD check --install=check:INSPEcT.install-out.txt --library=/home/biocbuild/R/R/site-library --no-vignettes --timings INSPEcT_1.39.1.tar.gz
###
##############################################################################
##############################################################################


* using log directory ‘/home/biocbuild/bbs-3.22-bioc/meat/INSPEcT.Rcheck’
* using R version 4.5.0 (2025-04-11)
* using platform: aarch64-unknown-linux-gnu
* R was compiled by
    aarch64-unknown-linux-gnu-gcc (GCC) 14.2.0
    GNU Fortran (GCC) 14.2.0
* running under: openEuler 24.03 (LTS)
* using session charset: UTF-8
* using option ‘--no-vignettes’
* checking for file ‘INSPEcT/DESCRIPTION’ ... OK
* checking extension type ... Package
* this is package ‘INSPEcT’ version ‘1.39.1’
* checking package namespace information ... OK
* checking package dependencies ... OK
* checking if this is a source package ... OK
* checking if there is a namespace ... OK
* checking for hidden files and directories ... OK
* checking for portable file names ... OK
* checking for sufficient/correct file permissions ... OK
* checking whether package ‘INSPEcT’ can be installed ... OK
* checking installed package size ... INFO
  installed size is  7.1Mb
  sub-directories of 1Mb or more:
    R      1.8Mb
    data   2.8Mb
* checking package directory ... OK
* checking ‘build’ directory ... OK
* checking DESCRIPTION meta-information ... OK
* checking top-level files ... OK
* checking for left-over files ... OK
* checking index information ... OK
* checking package subdirectories ... OK
* checking code files for non-ASCII characters ... OK
* checking R files for syntax errors ... OK
* checking whether the package can be loaded ... OK
* checking whether the package can be loaded with stated dependencies ... OK
* checking whether the package can be unloaded cleanly ... OK
* checking whether the namespace can be loaded with stated dependencies ... OK
* checking whether the namespace can be unloaded cleanly ... OK
* checking loading without being on the library search path ... OK
* checking dependencies in R code ... OK
* checking S3 generic/method consistency ... OK
* checking replacement functions ... OK
* checking foreign function calls ... OK
* checking R code for possible problems ... NOTE
output_pars: no visible global function definition for ‘plot.new’
plotSingleRNADynamic: no visible global function definition for ‘lines’
Undefined global functions or variables:
  lines plot.new
Consider adding
  importFrom("graphics", "lines", "plot.new")
to your NAMESPACE file.
* checking Rd files ... OK
* checking Rd metadata ... OK
* checking Rd cross-references ... NOTE
Found the following Rd file(s) with Rd \link{} targets missing package
anchors:
  INSPEcT-class.Rd: featureNames
Please provide package anchors for all Rd \link{} targets not in the
package itself and the base packages.
* checking for missing documentation entries ... OK
* checking for code/documentation mismatches ... OK
* checking Rd \usage sections ... OK
* checking Rd contents ... OK
* checking for unstated dependencies in examples ... OK
* checking contents of ‘data’ directory ... OK
* checking data for non-ASCII characters ... OK
* checking data for ASCII and uncompressed saves ... OK
* checking files in ‘vignettes’ ... OK
* checking examples ... OK
Examples with CPU (user + system) or elapsed time > 5s
                                   user system elapsed
makeSimDataset                  117.234  0.319 117.898
quantifyExpressionsFromBAMs      44.244  0.885  46.126
makeSimModel                     40.525  0.132  40.776
rocCurve                         39.796  0.398  40.312
INSPEcT_diffsteady-class         39.080  0.351  39.541
rocThresholds                    38.814  0.200  39.150
plotMA                           35.258  0.092  35.456
compareSteady                    34.534  0.200  34.836
modelRates                       22.716  0.104  22.889
quantifyExpressionsFromTrCounts  21.056  0.371  21.485
newINSPEcT                       21.146  0.092  21.305
processingDelay                  19.549  0.064  19.671
makeOscillatorySimModel           9.182  0.076   9.289
compareSteadyNoNascent            7.659  0.024   7.705
* checking for unstated dependencies in vignettes ... OK
* checking package vignettes ... OK
* checking running R code from vignettes ... SKIPPED
* checking re-building of vignette outputs ... SKIPPED
* checking PDF version of manual ... OK
* DONE

Status: 2 NOTEs
See
  ‘/home/biocbuild/bbs-3.22-bioc/meat/INSPEcT.Rcheck/00check.log’
for details.


Installation output

INSPEcT.Rcheck/00install.out

##############################################################################
##############################################################################
###
### Running command:
###
###   /home/biocbuild/R/R/bin/R CMD INSTALL INSPEcT
###
##############################################################################
##############################################################################


* installing to library ‘/home/biocbuild/R/R-4.5.0/site-library’
* installing *source* package ‘INSPEcT’ ...
** this is package ‘INSPEcT’ version ‘1.39.1’
** using staged installation
** R
** data
** inst
** byte-compile and prepare package for lazy loading
** help
*** installing help indices
** building package indices
** installing vignettes
** testing if installed package can be loaded from temporary location
** testing if installed package can be loaded from final location
** testing if installed package keeps a record of temporary installation path
* DONE (INSPEcT)

Tests output


Example timings

INSPEcT.Rcheck/INSPEcT-Ex.timings

nameusersystemelapsed
AIC-INSPEcT-method0.1880.0040.194
Extract0.4340.0040.439
INSPEcT_diffsteady-class39.080 0.35139.541
calculateRatePvals0.2480.0040.251
chisqmodel0.1910.0000.192
chisqtest0.1890.0000.190
combine0.4460.0000.447
compareSteady34.534 0.20034.836
compareSteadyNoNascent7.6590.0247.705
convergence0.1870.0040.192
geneClass0.2520.0000.253
inHeatmap0.2310.0120.244
inspectFromPCR4.8540.0594.929
labeledSF0.1870.0040.191
logLik0.1860.0040.191
makeModelRates0.2480.0040.253
makeOscillatorySimModel9.1820.0769.289
makeSimDataset117.234 0.319117.898
makeSimModel40.525 0.13240.776
modelRates22.716 0.10422.889
modelRatesNF1.8790.0081.893
modelSelection0.1810.0070.189
modelingParams0.1890.0000.189
nGenes0.1890.0000.190
nTpts0.190.000.19
newINSPEcT21.146 0.09221.305
plotGene0.2500.0040.255
plotMA35.258 0.09235.456
processingDelay19.549 0.06419.671
quantifyExpressionsFromBAMs44.244 0.88546.126
quantifyExpressionsFromTrCounts21.056 0.37121.485
ratePvals0.1910.0000.191
ratesFirstGuess0.1890.0000.190
ratesFirstGuessVar0.1860.0120.199
removeModel0.3430.0040.348
rocCurve39.796 0.39840.312
rocThresholds38.814 0.20039.150
split0.3470.0120.360
tpts0.1860.0000.187
viewConfidenceIntervals0.1880.0000.188
viewModelRates0.1870.0000.187