Back to Multiple platform build/check report for BioC 3.23:   simplified   long
ABCDEFGH[I]JKLMNOPQRSTUVWXYZ

This page was generated on 2025-11-27 11:37 -0500 (Thu, 27 Nov 2025).

HostnameOSArch (*)R versionInstalled pkgs
nebbiolo1Linux (Ubuntu 24.04.3 LTS)x86_64R Under development (unstable) (2025-10-20 r88955) -- "Unsuffered Consequences" 4865
lconwaymacOS 12.7.6 Montereyx86_64R Under development (unstable) (2025-10-21 r88958) -- "Unsuffered Consequences" 4614
kjohnson3macOS 13.7.7 Venturaarm64R Under development (unstable) (2025-11-04 r88984) -- "Unsuffered Consequences" 4571
Click on any hostname to see more info about the system (e.g. compilers)      (*) as reported by 'uname -p', except on Windows and Mac OS X

Package 1052/2328HostnameOS / ArchINSTALLBUILDCHECKBUILD BIN
INSPEcT 1.41.0  (landing page)
Stefano de Pretis
Snapshot Date: 2025-11-26 13:40 -0500 (Wed, 26 Nov 2025)
git_url: https://git.bioconductor.org/packages/INSPEcT
git_branch: devel
git_last_commit: 54a4fbd
git_last_commit_date: 2025-10-29 10:26:37 -0500 (Wed, 29 Oct 2025)
nebbiolo1Linux (Ubuntu 24.04.3 LTS) / x86_64  OK    OK    OK  UNNEEDED, same version is already published
lconwaymacOS 12.7.6 Monterey / x86_64  OK    OK    OK    OK  NO, package depends on 'GenomicRanges' which is only available as a source package that needs compilation
kjohnson3macOS 13.7.7 Ventura / arm64  OK    OK    OK    OK  NO, package depends on 'GenomicRanges' which is only available as a source package that needs compilation


CHECK results for INSPEcT on nebbiolo1

To the developers/maintainers of the INSPEcT package:
- Allow up to 24 hours (and sometimes 48 hours) for your latest push to git@git.bioconductor.org:packages/INSPEcT.git to reflect on this report. See Troubleshooting Build Report for more information.
- Use the following Renviron settings to reproduce errors and warnings.
- If 'R CMD check' started to fail recently on the Linux builder(s) over a missing dependency, add the missing dependency to 'Suggests:' in your DESCRIPTION file. See Renviron.bioc for more information.

raw results


Summary

Package: INSPEcT
Version: 1.41.0
Command: /home/biocbuild/bbs-3.23-bioc/R/bin/R CMD check --install=check:INSPEcT.install-out.txt --library=/home/biocbuild/bbs-3.23-bioc/R/site-library --timings INSPEcT_1.41.0.tar.gz
StartedAt: 2025-11-27 00:36:34 -0500 (Thu, 27 Nov 2025)
EndedAt: 2025-11-27 00:55:35 -0500 (Thu, 27 Nov 2025)
EllapsedTime: 1141.1 seconds
RetCode: 0
Status:   OK  
CheckDir: INSPEcT.Rcheck
Warnings: 0

Command output

##############################################################################
##############################################################################
###
### Running command:
###
###   /home/biocbuild/bbs-3.23-bioc/R/bin/R CMD check --install=check:INSPEcT.install-out.txt --library=/home/biocbuild/bbs-3.23-bioc/R/site-library --timings INSPEcT_1.41.0.tar.gz
###
##############################################################################
##############################################################################


* using log directory ‘/home/biocbuild/bbs-3.23-bioc/meat/INSPEcT.Rcheck’
* using R Under development (unstable) (2025-10-20 r88955)
* using platform: x86_64-pc-linux-gnu
* R was compiled by
    gcc (Ubuntu 13.3.0-6ubuntu2~24.04) 13.3.0
    GNU Fortran (Ubuntu 13.3.0-6ubuntu2~24.04) 13.3.0
* running under: Ubuntu 24.04.3 LTS
* using session charset: UTF-8
* checking for file ‘INSPEcT/DESCRIPTION’ ... OK
* checking extension type ... Package
* this is package ‘INSPEcT’ version ‘1.41.0’
* checking package namespace information ... OK
* checking package dependencies ... OK
* checking if this is a source package ... OK
* checking if there is a namespace ... OK
* checking for hidden files and directories ... OK
* checking for portable file names ... OK
* checking for sufficient/correct file permissions ... OK
* checking whether package ‘INSPEcT’ can be installed ... OK
* checking installed package size ... INFO
  installed size is  6.9Mb
  sub-directories of 1Mb or more:
    R      1.5Mb
    data   2.9Mb
* checking package directory ... OK
* checking ‘build’ directory ... OK
* checking DESCRIPTION meta-information ... OK
* checking top-level files ... OK
* checking for left-over files ... OK
* checking index information ... OK
* checking package subdirectories ... OK
* checking code files for non-ASCII characters ... OK
* checking R files for syntax errors ... OK
* checking whether the package can be loaded ... OK
* checking whether the package can be loaded with stated dependencies ... OK
* checking whether the package can be unloaded cleanly ... OK
* checking whether the namespace can be loaded with stated dependencies ... OK
* checking whether the namespace can be unloaded cleanly ... OK
* checking loading without being on the library search path ... OK
* checking dependencies in R code ... OK
* checking S3 generic/method consistency ... OK
* checking replacement functions ... OK
* checking foreign function calls ... OK
* checking R code for possible problems ... NOTE
output_pars: no visible global function definition for ‘plot.new’
plotSingleRNADynamic: no visible global function definition for ‘lines’
Undefined global functions or variables:
  lines plot.new
Consider adding
  importFrom("graphics", "lines", "plot.new")
to your NAMESPACE file.
* checking Rd files ... OK
* checking Rd metadata ... OK
* checking Rd cross-references ... NOTE
Found the following Rd file(s) with Rd \link{} targets missing package
anchors:
  INSPEcT-class.Rd: featureNames
Please provide package anchors for all Rd \link{} targets not in the
package itself and the base packages.
* checking for missing documentation entries ... OK
* checking for code/documentation mismatches ... OK
* checking Rd \usage sections ... OK
* checking Rd contents ... OK
* checking for unstated dependencies in examples ... OK
* checking contents of ‘data’ directory ... OK
* checking data for non-ASCII characters ... OK
* checking data for ASCII and uncompressed saves ... OK
* checking files in ‘vignettes’ ... OK
* checking examples ... OK
Examples with CPU (user + system) or elapsed time > 5s
                                  user system elapsed
makeSimDataset                  76.426  0.556  76.982
modelRates                      38.907  0.136  39.044
quantifyExpressionsFromBAMs     32.843  0.155  33.108
INSPEcT_diffsteady-class        28.157  1.140  29.300
rocThresholds                   25.334  0.032  25.367
makeSimModel                    25.097  0.050  25.147
plotMA                          24.840  0.208  25.048
rocCurve                        24.822  0.130  24.952
compareSteady                   23.564  0.410  23.975
quantifyExpressionsFromTrCounts 15.680  0.116  15.796
newINSPEcT                      14.051  0.030  14.082
processingDelay                 13.104  0.038  13.142
inspectFromPCR                   6.602  0.059   6.661
makeOscillatorySimModel          5.931  0.060   5.998
compareSteadyNoNascent           5.367  0.079   5.446
* checking for unstated dependencies in vignettes ... OK
* checking package vignettes ... OK
* checking re-building of vignette outputs ... OK
* checking PDF version of manual ... OK
* DONE

Status: 2 NOTEs
See
  ‘/home/biocbuild/bbs-3.23-bioc/meat/INSPEcT.Rcheck/00check.log’
for details.


Installation output

INSPEcT.Rcheck/00install.out

##############################################################################
##############################################################################
###
### Running command:
###
###   /home/biocbuild/bbs-3.23-bioc/R/bin/R CMD INSTALL INSPEcT
###
##############################################################################
##############################################################################


* installing to library ‘/home/biocbuild/bbs-3.23-bioc/R/site-library’
* installing *source* package ‘INSPEcT’ ...
** this is package ‘INSPEcT’ version ‘1.41.0’
** using staged installation
** R
** data
** inst
** byte-compile and prepare package for lazy loading
** help
*** installing help indices
** building package indices
** installing vignettes
** testing if installed package can be loaded from temporary location
** testing if installed package can be loaded from final location
** testing if installed package keeps a record of temporary installation path
* DONE (INSPEcT)

Tests output


Example timings

INSPEcT.Rcheck/INSPEcT-Ex.timings

nameusersystemelapsed
AIC-INSPEcT-method0.2140.0060.221
Extract0.3680.0250.393
INSPEcT_diffsteady-class28.157 1.14029.300
calculateRatePvals0.2260.0030.228
chisqmodel0.1860.0100.196
chisqtest0.1860.0020.188
combine0.3720.0180.390
compareSteady23.564 0.41023.975
compareSteadyNoNascent5.3670.0795.446
convergence0.1860.0080.194
geneClass0.2210.0120.234
inHeatmap0.2160.0070.223
inspectFromPCR6.6020.0596.661
labeledSF0.1870.0060.193
logLik0.1840.0060.190
makeModelRates0.2240.0050.230
makeOscillatorySimModel5.9310.0605.998
makeSimDataset76.426 0.55676.982
makeSimModel25.097 0.05025.147
modelRates38.907 0.13639.044
modelRatesNF4.1170.0154.132
modelSelection0.1810.0070.187
modelingParams0.1870.0010.188
nGenes0.1880.0000.188
nTpts0.1870.0000.188
newINSPEcT14.051 0.03014.082
plotGene0.2300.0030.232
plotMA24.840 0.20825.048
processingDelay13.104 0.03813.142
quantifyExpressionsFromBAMs32.843 0.15533.108
quantifyExpressionsFromTrCounts15.680 0.11615.796
ratePvals0.1850.0010.186
ratesFirstGuess0.1850.0020.188
ratesFirstGuessVar0.1860.0020.188
removeModel0.2820.0000.282
rocCurve24.822 0.13024.952
rocThresholds25.334 0.03225.367
split0.2780.0040.281
tpts0.1870.0000.187
viewConfidenceIntervals0.1860.0030.191
viewModelRates0.1860.0030.189