Back to Multiple platform build/check report for BioC 3.22:   simplified   long
ABCDEFGH[I]JKLMNOPQRSTUVWXYZ

This page was generated on 2025-10-17 12:07 -0400 (Fri, 17 Oct 2025).

HostnameOSArch (*)R versionInstalled pkgs
nebbiolo2Linux (Ubuntu 24.04.3 LTS)x86_644.5.1 Patched (2025-08-23 r88802) -- "Great Square Root" 4887
lconwaymacOS 12.7.6 Montereyx86_644.5.1 Patched (2025-09-10 r88807) -- "Great Square Root" 4677
kjohnson3macOS 13.7.7 Venturaarm644.5.1 Patched (2025-09-10 r88807) -- "Great Square Root" 4622
taishanLinux (openEuler 24.03 LTS)aarch644.5.0 (2025-04-11) -- "How About a Twenty-Six" 4632
Click on any hostname to see more info about the system (e.g. compilers)      (*) as reported by 'uname -p', except on Windows and Mac OS X

Package 1050/2353HostnameOS / ArchINSTALLBUILDCHECKBUILD BIN
IMPCdata 1.45.0  (landing page)
Jeremy Mason
Snapshot Date: 2025-10-16 13:45 -0400 (Thu, 16 Oct 2025)
git_url: https://git.bioconductor.org/packages/IMPCdata
git_branch: devel
git_last_commit: 2514e51
git_last_commit_date: 2025-04-15 10:35:54 -0400 (Tue, 15 Apr 2025)
nebbiolo2Linux (Ubuntu 24.04.3 LTS) / x86_64  OK    OK    OK  UNNEEDED, same version is already published
lconwaymacOS 12.7.6 Monterey / x86_64  OK    OK    OK    OK  UNNEEDED, same version is already published
kjohnson3macOS 13.7.7 Ventura / arm64  OK    OK    OK    OK  UNNEEDED, same version is already published
taishanLinux (openEuler 24.03 LTS) / aarch64  OK    OK    OK  


CHECK results for IMPCdata on taishan

To the developers/maintainers of the IMPCdata package:
- Allow up to 24 hours (and sometimes 48 hours) for your latest push to git@git.bioconductor.org:packages/IMPCdata.git to reflect on this report. See Troubleshooting Build Report for more information.
- Use the following Renviron settings to reproduce errors and warnings.
- If 'R CMD check' started to fail recently on the Linux builder(s) over a missing dependency, add the missing dependency to 'Suggests:' in your DESCRIPTION file. See Renviron.bioc for more information.
- See Martin Grigorov's blog post for how to debug Linux ARM64 related issues on a x86_64 host.

raw results


Summary

Package: IMPCdata
Version: 1.45.0
Command: /home/biocbuild/R/R/bin/R CMD check --install=check:IMPCdata.install-out.txt --library=/home/biocbuild/R/R/site-library --no-vignettes --timings IMPCdata_1.45.0.tar.gz
StartedAt: 2025-10-17 10:14:16 -0000 (Fri, 17 Oct 2025)
EndedAt: 2025-10-17 10:16:12 -0000 (Fri, 17 Oct 2025)
EllapsedTime: 116.1 seconds
RetCode: 0
Status:   OK  
CheckDir: IMPCdata.Rcheck
Warnings: 0

Command output

##############################################################################
##############################################################################
###
### Running command:
###
###   /home/biocbuild/R/R/bin/R CMD check --install=check:IMPCdata.install-out.txt --library=/home/biocbuild/R/R/site-library --no-vignettes --timings IMPCdata_1.45.0.tar.gz
###
##############################################################################
##############################################################################


* using log directory ‘/home/biocbuild/bbs-3.22-bioc/meat/IMPCdata.Rcheck’
* using R version 4.5.0 (2025-04-11)
* using platform: aarch64-unknown-linux-gnu
* R was compiled by
    aarch64-unknown-linux-gnu-gcc (GCC) 14.2.0
    GNU Fortran (GCC) 14.2.0
* running under: openEuler 24.03 (LTS)
* using session charset: UTF-8
* using option ‘--no-vignettes’
* checking for file ‘IMPCdata/DESCRIPTION’ ... OK
* checking extension type ... Package
* this is package ‘IMPCdata’ version ‘1.45.0’
* checking package namespace information ... OK
* checking package dependencies ... OK
* checking if this is a source package ... OK
* checking if there is a namespace ... OK
* checking for hidden files and directories ... OK
* checking for portable file names ... OK
* checking for sufficient/correct file permissions ... OK
* checking whether package ‘IMPCdata’ can be installed ... OK
* checking installed package size ... OK
* checking package directory ... OK
* checking ‘build’ directory ... OK
* checking DESCRIPTION meta-information ... OK
* checking top-level files ... OK
* checking for left-over files ... OK
* checking index information ... OK
* checking package subdirectories ... OK
* checking code files for non-ASCII characters ... OK
* checking R files for syntax errors ... OK
* checking whether the package can be loaded ... OK
* checking whether the package can be loaded with stated dependencies ... OK
* checking whether the package can be unloaded cleanly ... OK
* checking whether the namespace can be loaded with stated dependencies ... OK
* checking whether the namespace can be unloaded cleanly ... OK
* checking loading without being on the library search path ... OK
* checking dependencies in R code ... OK
* checking S3 generic/method consistency ... OK
* checking replacement functions ... OK
* checking foreign function calls ... OK
* checking R code for possible problems ... OK
* checking Rd files ... OK
* checking Rd metadata ... OK
* checking Rd cross-references ... OK
* checking for missing documentation entries ... OK
* checking for code/documentation mismatches ... OK
* checking Rd \usage sections ... OK
* checking Rd contents ... OK
* checking for unstated dependencies in examples ... OK
* checking files in ‘vignettes’ ... OK
* checking examples ... OK
Examples with CPU (user + system) or elapsed time > 5s
                  user system elapsed
getPhenCenters   0.253  0.026  16.257
getAlleles       0.137  0.016  11.274
getGenes         0.122  0.003   5.537
getParameters    0.117  0.008   5.919
getProcedures    0.117  0.008   6.695
getPipelines     0.112  0.012   6.162
printParameters  0.111  0.007   5.752
printAlleles     0.106  0.012   5.529
printProcedures  0.102  0.016   6.048
printGenes       0.117  0.000   5.562
printPipelines   0.106  0.011   6.158
printPhenCenters 0.039  0.001   5.080
* checking for unstated dependencies in vignettes ... OK
* checking package vignettes ... OK
* checking running R code from vignettes ... SKIPPED
* checking re-building of vignette outputs ... SKIPPED
* checking PDF version of manual ... OK
* DONE

Status: OK


Installation output

IMPCdata.Rcheck/00install.out

##############################################################################
##############################################################################
###
### Running command:
###
###   /home/biocbuild/R/R/bin/R CMD INSTALL IMPCdata
###
##############################################################################
##############################################################################


* installing to library ‘/home/biocbuild/R/R-4.5.0/site-library’
* installing *source* package ‘IMPCdata’ ...
** this is package ‘IMPCdata’ version ‘1.45.0’
** using staged installation
** R
** inst
** byte-compile and prepare package for lazy loading
** help
*** installing help indices
** building package indices
** installing vignettes
** testing if installed package can be loaded from temporary location
** testing if installed package can be loaded from final location
** testing if installed package keeps a record of temporary installation path
* DONE (IMPCdata)

Tests output


Example timings

IMPCdata.Rcheck/IMPCdata-Ex.timings

nameusersystemelapsed
getAlleles 0.137 0.01611.274
getGenes0.1220.0035.537
getIMPCDataset0.0180.0041.246
getIMPCTable0.0680.0133.908
getName0.0200.0001.121
getParameters0.1170.0085.919
getPhenCenters 0.253 0.02616.257
getPipelines0.1120.0126.162
getProcedures0.1170.0086.695
getStrains0.0640.0003.171
getZygosities0.0240.0000.926
printAlleles0.1060.0125.529
printGenes0.1170.0005.562
printParameters0.1110.0075.752
printPhenCenters0.0390.0015.080
printPipelines0.1060.0116.158
printProcedures0.1020.0166.048
printStrains0.0480.0112.989