| Back to Build/check report for BioC 3.23: simplified long |
|
This page was generated on 2025-11-07 11:32 -0500 (Fri, 07 Nov 2025).
| Hostname | OS | Arch (*) | R version | Installed pkgs |
|---|---|---|---|---|
| nebbiolo1 | Linux (Ubuntu 24.04.3 LTS) | x86_64 | R Under development (unstable) (2025-10-20 r88955) -- "Unsuffered Consequences" | 4818 |
| Click on any hostname to see more info about the system (e.g. compilers) (*) as reported by 'uname -p', except on Windows and Mac OS X | ||||
| Package 977/2323 | Hostname | OS / Arch | INSTALL | BUILD | CHECK | BUILD BIN | ||||||||
| HilbertCurve 2.5.0 (landing page) Zuguang Gu
| nebbiolo1 | Linux (Ubuntu 24.04.3 LTS) / x86_64 | OK | OK | OK | |||||||||
|
To the developers/maintainers of the HilbertCurve package: - Allow up to 24 hours (and sometimes 48 hours) for your latest push to git@git.bioconductor.org:packages/HilbertCurve.git to reflect on this report. See Troubleshooting Build Report for more information. - Use the following Renviron settings to reproduce errors and warnings. - If 'R CMD check' started to fail recently on the Linux builder(s) over a missing dependency, add the missing dependency to 'Suggests:' in your DESCRIPTION file. See Renviron.bioc for more information. |
| Package: HilbertCurve |
| Version: 2.5.0 |
| Command: /home/biocbuild/bbs-3.23-bioc/R/bin/R CMD check --install=check:HilbertCurve.install-out.txt --library=/home/biocbuild/bbs-3.23-bioc/R/site-library --timings HilbertCurve_2.5.0.tar.gz |
| StartedAt: 2025-11-07 00:12:19 -0500 (Fri, 07 Nov 2025) |
| EndedAt: 2025-11-07 00:14:12 -0500 (Fri, 07 Nov 2025) |
| EllapsedTime: 112.2 seconds |
| RetCode: 0 |
| Status: OK |
| CheckDir: HilbertCurve.Rcheck |
| Warnings: 0 |
##############################################################################
##############################################################################
###
### Running command:
###
### /home/biocbuild/bbs-3.23-bioc/R/bin/R CMD check --install=check:HilbertCurve.install-out.txt --library=/home/biocbuild/bbs-3.23-bioc/R/site-library --timings HilbertCurve_2.5.0.tar.gz
###
##############################################################################
##############################################################################
* using log directory ‘/home/biocbuild/bbs-3.23-bioc/meat/HilbertCurve.Rcheck’
* using R Under development (unstable) (2025-10-20 r88955)
* using platform: x86_64-pc-linux-gnu
* R was compiled by
gcc (Ubuntu 13.3.0-6ubuntu2~24.04) 13.3.0
GNU Fortran (Ubuntu 13.3.0-6ubuntu2~24.04) 13.3.0
* running under: Ubuntu 24.04.3 LTS
* using session charset: UTF-8
* checking for file ‘HilbertCurve/DESCRIPTION’ ... OK
* checking extension type ... Package
* this is package ‘HilbertCurve’ version ‘2.5.0’
* checking package namespace information ... OK
* checking package dependencies ... OK
* checking if this is a source package ... OK
* checking if there is a namespace ... OK
* checking for hidden files and directories ... OK
* checking for portable file names ... OK
* checking for sufficient/correct file permissions ... OK
* checking whether package ‘HilbertCurve’ can be installed ... OK
* used C++ compiler: ‘g++ (Ubuntu 13.3.0-6ubuntu2~24.04) 13.3.0’
* checking installed package size ... OK
* checking package directory ... OK
* checking ‘build’ directory ... OK
* checking DESCRIPTION meta-information ... OK
* checking top-level files ... OK
* checking for left-over files ... OK
* checking index information ... OK
* checking package subdirectories ... OK
* checking code files for non-ASCII characters ... OK
* checking R files for syntax errors ... OK
* checking whether the package can be loaded ... OK
* checking whether the package can be loaded with stated dependencies ... OK
* checking whether the package can be unloaded cleanly ... OK
* checking whether the namespace can be loaded with stated dependencies ... OK
* checking whether the namespace can be unloaded cleanly ... OK
* checking loading without being on the library search path ... OK
* checking whether startup messages can be suppressed ... OK
* checking dependencies in R code ... OK
* checking S3 generic/method consistency ... OK
* checking replacement functions ... OK
* checking foreign function calls ... OK
* checking R code for possible problems ... OK
* checking Rd files ... OK
* checking Rd metadata ... OK
* checking Rd cross-references ... OK
* checking for missing documentation entries ... OK
* checking for code/documentation mismatches ... OK
* checking Rd \usage sections ... OK
* checking Rd contents ... OK
* checking for unstated dependencies in examples ... OK
* checking line endings in C/C++/Fortran sources/headers ... OK
* checking compiled code ... INFO
Note: information on .o files is not available
* checking files in ‘vignettes’ ... OK
* checking examples ... OK
Examples with CPU (user + system) or elapsed time > 5s
user system elapsed
hc_layer-HilbertCurve-method 8.993 0.085 9.081
hc_layer-GenomicHilbertCurve-method 7.184 0.073 7.257
GenomicHilbertCurve 6.472 0.094 7.153
* checking for unstated dependencies in ‘tests’ ... OK
* checking tests ...
Running ‘test-all.R’
OK
* checking for unstated dependencies in vignettes ... OK
* checking package vignettes ... OK
* checking re-building of vignette outputs ... OK
* checking PDF version of manual ... OK
* DONE
Status: OK
HilbertCurve.Rcheck/00install.out
############################################################################## ############################################################################## ### ### Running command: ### ### /home/biocbuild/bbs-3.23-bioc/R/bin/R CMD INSTALL HilbertCurve ### ############################################################################## ############################################################################## * installing to library ‘/home/biocbuild/bbs-3.23-bioc/R/site-library’ * installing *source* package ‘HilbertCurve’ ... ** this is package ‘HilbertCurve’ version ‘2.5.0’ ** using staged installation ** libs using C++ compiler: ‘g++ (Ubuntu 13.3.0-6ubuntu2~24.04) 13.3.0’ g++ -std=gnu++17 -I"/home/biocbuild/bbs-3.23-bioc/R/include" -DNDEBUG -I'/home/biocbuild/bbs-3.23-bioc/R/site-library/Rcpp/include' -I/usr/local/include -fpic -g -O2 -Wall -Werror=format-security -c RcppExports.cpp -o RcppExports.o g++ -std=gnu++17 -I"/home/biocbuild/bbs-3.23-bioc/R/include" -DNDEBUG -I'/home/biocbuild/bbs-3.23-bioc/R/site-library/Rcpp/include' -I/usr/local/include -fpic -g -O2 -Wall -Werror=format-security -c std_hilbert_curve.cpp -o std_hilbert_curve.o g++ -std=gnu++17 -I"/home/biocbuild/bbs-3.23-bioc/R/include" -DNDEBUG -I'/home/biocbuild/bbs-3.23-bioc/R/site-library/Rcpp/include' -I/usr/local/include -fpic -g -O2 -Wall -Werror=format-security -c std_utils.cpp -o std_utils.o g++ -std=gnu++17 -shared -L/home/biocbuild/bbs-3.23-bioc/R/lib -L/usr/local/lib -o HilbertCurve.so RcppExports.o std_hilbert_curve.o std_utils.o -L/home/biocbuild/bbs-3.23-bioc/R/lib -lR installing to /home/biocbuild/bbs-3.23-bioc/R/site-library/00LOCK-HilbertCurve/00new/HilbertCurve/libs ** R ** inst ** byte-compile and prepare package for lazy loading ** help *** installing help indices ** building package indices ** installing vignettes ** testing if installed package can be loaded from temporary location ** checking absolute paths in shared objects and dynamic libraries ** testing if installed package can be loaded from final location ** testing if installed package keeps a record of temporary installation path * DONE (HilbertCurve)
HilbertCurve.Rcheck/tests/test-all.Rout
R Under development (unstable) (2025-10-20 r88955) -- "Unsuffered Consequences"
Copyright (C) 2025 The R Foundation for Statistical Computing
Platform: x86_64-pc-linux-gnu
R is free software and comes with ABSOLUTELY NO WARRANTY.
You are welcome to redistribute it under certain conditions.
Type 'license()' or 'licence()' for distribution details.
R is a collaborative project with many contributors.
Type 'contributors()' for more information and
'citation()' on how to cite R or R packages in publications.
Type 'demo()' for some demos, 'help()' for on-line help, or
'help.start()' for an HTML browser interface to help.
Type 'q()' to quit R.
> library(testthat)
> suppressWarnings(suppressPackageStartupMessages(library(HilbertCurve)))
>
> test_check("HilbertCurve")
[ FAIL 0 | WARN 0 | SKIP 0 | PASS 8 ]
>
> proc.time()
user system elapsed
2.935 0.223 3.145
HilbertCurve.Rcheck/HilbertCurve-Ex.timings
| name | user | system | elapsed | |
| GenomicHilbertCurve-class | 0.000 | 0.000 | 0.001 | |
| GenomicHilbertCurve | 6.472 | 0.094 | 7.153 | |
| HilbertCurve-class | 0 | 0 | 0 | |
| HilbertCurve | 0.513 | 0.021 | 0.535 | |
| default_overlay | 0.000 | 0.000 | 0.001 | |
| hc_centered_text-HilbertCurve-method | 0.108 | 0.000 | 0.109 | |
| hc_layer-GenomicHilbertCurve-method | 7.184 | 0.073 | 7.257 | |
| hc_layer-HilbertCurve-method | 8.993 | 0.085 | 9.081 | |
| hc_layer-dispatch | 0 | 0 | 0 | |
| hc_level-HilbertCurve-method | 0.042 | 0.000 | 0.042 | |
| hc_map-GenomicHilbertCurve-method | 3.054 | 0.004 | 3.060 | |
| hc_normal_points-HilbertCurve-method | 0 | 0 | 0 | |
| hc_offset-HilbertCurve-method | 0.016 | 0.001 | 0.018 | |
| hc_png-HilbertCurve-method | 2.920 | 0.030 | 2.951 | |
| hc_points-GenomicHilbertCurve-method | 0.306 | 0.005 | 0.311 | |
| hc_points-HilbertCurve-method | 0.511 | 0.005 | 0.515 | |
| hc_points-dispatch | 0.000 | 0.000 | 0.001 | |
| hc_polygon-GenomicHilbertCurve-method | 0.364 | 0.000 | 0.364 | |
| hc_polygon-HilbertCurve-method | 0.094 | 0.003 | 0.097 | |
| hc_polygon-dispatch | 0 | 0 | 0 | |
| hc_rect-GenomicHilbertCurve-method | 0.277 | 0.003 | 0.280 | |
| hc_rect-HilbertCurve-method | 0.093 | 0.000 | 0.093 | |
| hc_rect-dispatch | 0 | 0 | 0 | |
| hc_segmented_points-HilbertCurve-method | 0 | 0 | 0 | |
| hc_segments-GenomicHilbertCurve-method | 0.443 | 0.003 | 0.446 | |
| hc_segments-HilbertCurve-method | 0.092 | 0.004 | 0.096 | |
| hc_segments-dispatch | 0 | 0 | 0 | |
| hc_text-GenomicHilbertCurve-method | 0.208 | 0.008 | 0.216 | |
| hc_text-HilbertCurve-method | 0.066 | 0.002 | 0.068 | |
| hc_text-dispatch | 0 | 0 | 0 | |
| hc_which-GenomicHilbertCurve-method | 0.001 | 0.000 | 0.000 | |
| hc_which-HilbertCurve-method | 0 | 0 | 0 | |
| hc_which-dispatch | 0 | 0 | 0 | |
| is_white | 0.000 | 0.001 | 0.001 | |
| show-HilbertCurve-method | 0.013 | 0.000 | 0.013 | |
| unzoom-HilbertCurve-method | 0.012 | 0.001 | 0.013 | |
| zoom-HilbertCurve-method | 0.023 | 0.000 | 0.023 | |