Back to Build/check report for BioC 3.23:   simplified   long
ABCDEFG[H]IJKLMNOPQRSTUVWXYZ

This page was generated on 2025-11-07 11:32 -0500 (Fri, 07 Nov 2025).

HostnameOSArch (*)R versionInstalled pkgs
nebbiolo1Linux (Ubuntu 24.04.3 LTS)x86_64R Under development (unstable) (2025-10-20 r88955) -- "Unsuffered Consequences" 4818
Click on any hostname to see more info about the system (e.g. compilers)      (*) as reported by 'uname -p', except on Windows and Mac OS X

Package 990/2323HostnameOS / ArchINSTALLBUILDCHECKBUILD BIN
HPAanalyze 1.29.0  (landing page)
Anh Nhat Tran
Snapshot Date: 2025-11-06 13:40 -0500 (Thu, 06 Nov 2025)
git_url: https://git.bioconductor.org/packages/HPAanalyze
git_branch: devel
git_last_commit: db79491
git_last_commit_date: 2025-10-29 10:47:08 -0500 (Wed, 29 Oct 2025)
nebbiolo1Linux (Ubuntu 24.04.3 LTS) / x86_64  OK    OK    OK  UNNEEDED, same version is already published


CHECK results for HPAanalyze on nebbiolo1

To the developers/maintainers of the HPAanalyze package:
- Allow up to 24 hours (and sometimes 48 hours) for your latest push to git@git.bioconductor.org:packages/HPAanalyze.git to reflect on this report. See Troubleshooting Build Report for more information.
- Use the following Renviron settings to reproduce errors and warnings.
- If 'R CMD check' started to fail recently on the Linux builder(s) over a missing dependency, add the missing dependency to 'Suggests:' in your DESCRIPTION file. See Renviron.bioc for more information.

raw results


Summary

Package: HPAanalyze
Version: 1.29.0
Command: /home/biocbuild/bbs-3.23-bioc/R/bin/R CMD check --install=check:HPAanalyze.install-out.txt --library=/home/biocbuild/bbs-3.23-bioc/R/site-library --timings HPAanalyze_1.29.0.tar.gz
StartedAt: 2025-11-07 00:14:12 -0500 (Fri, 07 Nov 2025)
EndedAt: 2025-11-07 00:16:20 -0500 (Fri, 07 Nov 2025)
EllapsedTime: 128.2 seconds
RetCode: 0
Status:   OK  
CheckDir: HPAanalyze.Rcheck
Warnings: 0

Command output

##############################################################################
##############################################################################
###
### Running command:
###
###   /home/biocbuild/bbs-3.23-bioc/R/bin/R CMD check --install=check:HPAanalyze.install-out.txt --library=/home/biocbuild/bbs-3.23-bioc/R/site-library --timings HPAanalyze_1.29.0.tar.gz
###
##############################################################################
##############################################################################


* using log directory ‘/home/biocbuild/bbs-3.23-bioc/meat/HPAanalyze.Rcheck’
* using R Under development (unstable) (2025-10-20 r88955)
* using platform: x86_64-pc-linux-gnu
* R was compiled by
    gcc (Ubuntu 13.3.0-6ubuntu2~24.04) 13.3.0
    GNU Fortran (Ubuntu 13.3.0-6ubuntu2~24.04) 13.3.0
* running under: Ubuntu 24.04.3 LTS
* using session charset: UTF-8
* checking for file ‘HPAanalyze/DESCRIPTION’ ... OK
* checking extension type ... Package
* this is package ‘HPAanalyze’ version ‘1.29.0’
* package encoding: UTF-8
* checking package namespace information ... OK
* checking package dependencies ... OK
* checking if this is a source package ... OK
* checking if there is a namespace ... OK
* checking for hidden files and directories ... OK
* checking for portable file names ... OK
* checking for sufficient/correct file permissions ... OK
* checking whether package ‘HPAanalyze’ can be installed ... OK
* checking installed package size ... OK
* checking package directory ... OK
* checking ‘build’ directory ... OK
* checking DESCRIPTION meta-information ... OK
* checking top-level files ... OK
* checking for left-over files ... OK
* checking index information ... OK
* checking package subdirectories ... OK
* checking code files for non-ASCII characters ... OK
* checking R files for syntax errors ... OK
* checking whether the package can be loaded ... OK
* checking whether the package can be loaded with stated dependencies ... OK
* checking whether the package can be unloaded cleanly ... OK
* checking whether the namespace can be loaded with stated dependencies ... OK
* checking whether the namespace can be unloaded cleanly ... OK
* checking loading without being on the library search path ... OK
* checking dependencies in R code ... OK
* checking S3 generic/method consistency ... OK
* checking replacement functions ... OK
* checking foreign function calls ... OK
* checking R code for possible problems ... NOTE
gene_ensembl_convert: no visible binding for global variable
  ‘lookup_df’
hpaDownload: no visible binding for global variable
  ‘hpa_histology_data’
hpaDownload: no visible binding for global variable ‘Gene’
hpaDownload: no visible binding for global variable ‘Gene name’
hpaDownload: no visible binding for global variable ‘Tissue’
hpaDownload: no visible binding for global variable ‘Cell type’
hpaDownload: no visible binding for global variable ‘Level’
hpaDownload: no visible binding for global variable ‘Reliability’
hpaDownload: no visible binding for global variable ‘Cancer’
hpaDownload: no visible binding for global variable ‘High’
hpaDownload: no visible binding for global variable ‘Medium’
hpaDownload: no visible binding for global variable ‘Low’
hpaDownload: no visible binding for global variable ‘Not detected’
hpaDownload: no visible binding for global variable ‘Main location’
hpaDownload: no visible binding for global variable ‘Additional
  location’
hpaDownload: no visible binding for global variable ‘Extracellular
  location’
hpaDownload: no visible binding for global variable ‘Enhanced’
hpaDownload: no visible binding for global variable ‘Supported’
hpaDownload: no visible binding for global variable ‘Approved’
hpaDownload: no visible binding for global variable ‘Uncertain’
hpaDownload: no visible binding for global variable ‘Single-cell
  variation intensity’
hpaDownload: no visible binding for global variable ‘Single-cell
  variation spatial’
hpaDownload: no visible binding for global variable ‘Cell cycle
  dependency’
hpaDownload: no visible binding for global variable ‘GO id’
hpaSubset : subsetting: no visible binding for global variable ‘gene’
hpaSubset : subsetting: no visible binding for global variable ‘tissue’
hpaSubset : subsetting: no visible binding for global variable
  ‘cell_type’
hpaSubset : subsetting: no visible binding for global variable ‘cancer’
hpaSubset : subsetting: no visible binding for global variable
  ‘cell_line’
hpaVis: no visible binding for global variable ‘hpa_histology_data’
hpaVisPatho: no visible binding for global variable ‘gene’
hpaVisPatho: no visible binding for global variable ‘cancer’
hpaVisPatho: no visible binding for global variable ‘high’
hpaVisPatho: no visible binding for global variable ‘medium’
hpaVisPatho: no visible binding for global variable ‘low’
hpaVisPatho: no visible binding for global variable ‘not_detected’
hpaVisPatho: no visible binding for global variable ‘patient_count’
hpaVisPatho: no visible binding for global variable ‘level’
hpaVisSubcell: no visible binding for global variable ‘gene’
hpaVisSubcell: no visible binding for global variable ‘sub_location’
hpaVisTissue: no visible binding for global variable ‘gene’
hpaVisTissue: no visible binding for global variable ‘.’
hpaVisTissue: no visible binding for global variable ‘tissue’
hpaVisTissue: no visible binding for global variable ‘cell_type’
hpaVisTissue: no visible binding for global variable ‘level’
hpaVisTissue: no visible binding for global variable ‘tissue_cell’
hpaXmlTissueExpr : <anonymous>: no visible binding for global variable
  ‘patientId’
hpaXmlTissueExpr : <anonymous>: no visible binding for global variable
  ‘age’
hpaXmlTissueExpr : <anonymous>: no visible binding for global variable
  ‘sex’
hpaXmlTissueExpr : <anonymous>: no visible binding for global variable
  ‘staining’
hpaXmlTissueExpr : <anonymous>: no visible binding for global variable
  ‘intensity’
hpaXmlTissueExpr : <anonymous>: no visible binding for global variable
  ‘quantity’
hpaXmlTissueExpr : <anonymous>: no visible binding for global variable
  ‘imageUrl’
hpaXmlTissueExprSum: no visible binding for global variable ‘tissue’
hpaXmlTissueExprSum: no visible binding for global variable ‘imageUrl’
is_null_data: no visible binding for global variable
  ‘hpa_histology_data’
named_vector_list_to_tibble: no visible binding for global variable
  ‘index’
Undefined global functions or variables:
  . Additional location Approved Cancer Cell cycle dependency Cell type
  Enhanced Extracellular location GO id Gene Gene name High Level Low
  Main location Medium Not detected Reliability Single-cell variation
  intensity Single-cell variation spatial Supported Tissue Uncertain
  age cancer cell_line cell_type gene high hpa_histology_data imageUrl
  index intensity level lookup_df low medium not_detected patientId
  patient_count quantity sex staining sub_location tissue tissue_cell
Consider adding
  importFrom("stats", "cycle")
to your NAMESPACE file.
* checking Rd files ... OK
* checking Rd metadata ... OK
* checking Rd cross-references ... OK
* checking for missing documentation entries ... OK
* checking for code/documentation mismatches ... OK
* checking Rd \usage sections ... OK
* checking Rd contents ... OK
* checking for unstated dependencies in examples ... OK
* checking contents of ‘data’ directory ... OK
* checking data for non-ASCII characters ... OK
* checking LazyData ... OK
* checking data for ASCII and uncompressed saves ... OK
* checking R/sysdata.rda ... OK
* checking files in ‘vignettes’ ... OK
* checking examples ... OK
* checking for unstated dependencies in vignettes ... OK
* checking package vignettes ... OK
* checking re-building of vignette outputs ... OK
* checking PDF version of manual ... OK
* DONE

Status: 1 NOTE
See
  ‘/home/biocbuild/bbs-3.23-bioc/meat/HPAanalyze.Rcheck/00check.log’
for details.


Installation output

HPAanalyze.Rcheck/00install.out

##############################################################################
##############################################################################
###
### Running command:
###
###   /home/biocbuild/bbs-3.23-bioc/R/bin/R CMD INSTALL HPAanalyze
###
##############################################################################
##############################################################################


* installing to library ‘/home/biocbuild/bbs-3.23-bioc/R/site-library’
* installing *source* package ‘HPAanalyze’ ...
** this is package ‘HPAanalyze’ version ‘1.29.0’
** using staged installation
** R
** data
*** moving datasets to lazyload DB
** inst
** byte-compile and prepare package for lazy loading
** help
*** installing help indices
** building package indices
** installing vignettes
** testing if installed package can be loaded from temporary location
** testing if installed package can be loaded from final location
** testing if installed package keeps a record of temporary installation path
* DONE (HPAanalyze)

Tests output


Example timings

HPAanalyze.Rcheck/HPAanalyze-Ex.timings

nameusersystemelapsed
hpaDownload1.4490.2461.695
hpaExport0.4350.0600.495
hpaListParam0.1140.0330.147
hpaVis1.3180.0291.347
hpaVisPatho2.9340.2303.166
hpaVisSubcell1.6630.2401.903
hpaVisTissue1.6110.2071.818
hpaXml0.2050.0203.131
hpaXmlAntibody0.1100.0122.886
hpaXmlGet0.0870.0102.102
hpaXmlProtClass0.1660.0152.492
hpaXmlTissueExpr0.0000.0010.000
hpaXmlTissueExprSum0.1220.0172.485
hpa_histology_data1.1450.1931.338