Back to Build/check report for BioC 3.23:   simplified   long
ABCDEF[G]HIJKLMNOPQRSTUVWXYZ

This page was generated on 2025-11-04 11:32 -0500 (Tue, 04 Nov 2025).

HostnameOSArch (*)R versionInstalled pkgs
nebbiolo1Linux (Ubuntu 24.04.3 LTS)x86_64R Under development (unstable) (2025-10-20 r88955) -- "Unsuffered Consequences" 4788
Click on any hostname to see more info about the system (e.g. compilers)      (*) as reported by 'uname -p', except on Windows and Mac OS X

Package 821/2323HostnameOS / ArchINSTALLBUILDCHECKBUILD BIN
GeneStructureTools 1.31.0  (landing page)
Beth Signal
Snapshot Date: 2025-11-03 13:40 -0500 (Mon, 03 Nov 2025)
git_url: https://git.bioconductor.org/packages/GeneStructureTools
git_branch: devel
git_last_commit: 995a387
git_last_commit_date: 2025-10-29 10:43:43 -0500 (Wed, 29 Oct 2025)
nebbiolo1Linux (Ubuntu 24.04.3 LTS) / x86_64  OK    OK    OK  NO, package depends on 'Gviz' which is not available


CHECK results for GeneStructureTools on nebbiolo1

To the developers/maintainers of the GeneStructureTools package:
- Allow up to 24 hours (and sometimes 48 hours) for your latest push to git@git.bioconductor.org:packages/GeneStructureTools.git to reflect on this report. See Troubleshooting Build Report for more information.
- Use the following Renviron settings to reproduce errors and warnings.
- If 'R CMD check' started to fail recently on the Linux builder(s) over a missing dependency, add the missing dependency to 'Suggests:' in your DESCRIPTION file. See Renviron.bioc for more information.

raw results


Summary

Package: GeneStructureTools
Version: 1.31.0
Command: /home/biocbuild/bbs-3.23-bioc/R/bin/R CMD check --install=check:GeneStructureTools.install-out.txt --library=/home/biocbuild/bbs-3.23-bioc/R/site-library --timings GeneStructureTools_1.31.0.tar.gz
StartedAt: 2025-11-03 23:29:07 -0500 (Mon, 03 Nov 2025)
EndedAt: 2025-11-03 23:37:31 -0500 (Mon, 03 Nov 2025)
EllapsedTime: 503.6 seconds
RetCode: 0
Status:   OK  
CheckDir: GeneStructureTools.Rcheck
Warnings: 0

Command output

##############################################################################
##############################################################################
###
### Running command:
###
###   /home/biocbuild/bbs-3.23-bioc/R/bin/R CMD check --install=check:GeneStructureTools.install-out.txt --library=/home/biocbuild/bbs-3.23-bioc/R/site-library --timings GeneStructureTools_1.31.0.tar.gz
###
##############################################################################
##############################################################################


* using log directory ‘/home/biocbuild/bbs-3.23-bioc/meat/GeneStructureTools.Rcheck’
* using R Under development (unstable) (2025-10-20 r88955)
* using platform: x86_64-pc-linux-gnu
* R was compiled by
    gcc (Ubuntu 13.3.0-6ubuntu2~24.04) 13.3.0
    GNU Fortran (Ubuntu 13.3.0-6ubuntu2~24.04) 13.3.0
* running under: Ubuntu 24.04.3 LTS
* using session charset: UTF-8
* checking for file ‘GeneStructureTools/DESCRIPTION’ ... OK
* checking extension type ... Package
* this is package ‘GeneStructureTools’ version ‘1.31.0’
* package encoding: UTF-8
* checking package namespace information ... OK
* checking package dependencies ... OK
* checking if this is a source package ... OK
* checking if there is a namespace ... OK
* checking for hidden files and directories ... OK
* checking for portable file names ... OK
* checking for sufficient/correct file permissions ... OK
* checking whether package ‘GeneStructureTools’ can be installed ... OK
* checking installed package size ... OK
* checking package directory ... OK
* checking ‘build’ directory ... OK
* checking DESCRIPTION meta-information ... OK
* checking top-level files ... OK
* checking for left-over files ... OK
* checking index information ... OK
* checking package subdirectories ... OK
* checking code files for non-ASCII characters ... OK
* checking R files for syntax errors ... OK
* checking whether the package can be loaded ... OK
* checking whether the package can be loaded with stated dependencies ... OK
* checking whether the package can be unloaded cleanly ... OK
* checking whether the namespace can be loaded with stated dependencies ... OK
* checking whether the namespace can be unloaded cleanly ... OK
* checking loading without being on the library search path ... OK
* checking dependencies in R code ... OK
* checking S3 generic/method consistency ... OK
* checking replacement functions ... OK
* checking foreign function calls ... OK
* checking R code for possible problems ... OK
* checking Rd files ... OK
* checking Rd metadata ... OK
* checking Rd cross-references ... OK
* checking for missing documentation entries ... OK
* checking for code/documentation mismatches ... OK
* checking Rd \usage sections ... OK
* checking Rd contents ... OK
* checking for unstated dependencies in examples ... OK
* checking files in ‘vignettes’ ... OK
* checking examples ... OK
Examples with CPU (user + system) or elapsed time > 5s
                                    user system elapsed
leafcutterTranscriptChangeSummary 21.513  0.359  21.872
whippetTranscriptChangeSummary    17.162  0.326  17.489
replaceJunction                    4.937  0.178   5.117
* checking for unstated dependencies in vignettes ... OK
* checking package vignettes ... OK
* checking re-building of vignette outputs ... OK
* checking PDF version of manual ... OK
* DONE

Status: OK


Installation output

GeneStructureTools.Rcheck/00install.out

##############################################################################
##############################################################################
###
### Running command:
###
###   /home/biocbuild/bbs-3.23-bioc/R/bin/R CMD INSTALL GeneStructureTools
###
##############################################################################
##############################################################################


* installing to library ‘/home/biocbuild/bbs-3.23-bioc/R/site-library’
* installing *source* package ‘GeneStructureTools’ ...
** this is package ‘GeneStructureTools’ version ‘1.31.0’
** using staged installation
** R
** inst
** byte-compile and prepare package for lazy loading
** help
*** installing help indices
** building package indices
** installing vignettes
** testing if installed package can be loaded from temporary location
** testing if installed package can be loaded from final location
** testing if installed package keeps a record of temporary installation path
* DONE (GeneStructureTools)

Tests output


Example timings

GeneStructureTools.Rcheck/GeneStructureTools-Ex.timings

nameusersystemelapsed
DEXSeqIdsToGeneIds0.0020.0010.004
UTR2UTR532.2910.1672.460
addBroadTypes0.1570.0080.166
addIntronInTranscript2.9690.1383.107
alternativeIntronUsage4.2240.0424.267
annotateGeneModel0.8070.0460.854
attrChangeAltSpliced1.2530.0691.322
coordinates-methods0.0440.0280.071
diffSplicingResults-methods0.0650.0230.088
exonsToTranscripts0.2390.0090.248
filterGtfOverlap0.2330.0080.241
filterWhippetEvents0.0540.0240.077
findDEXexonType2.5100.0732.584
findExonContainingTranscripts0.4100.0290.437
findIntronContainingTranscripts0.5890.0320.623
findJunctionPairs1.3320.0241.355
formatWhippetEvents0.0110.0050.016
getOrfs0.6670.0240.690
getUOrfs0.5530.0110.565
junctions-methods0.0370.0270.066
leafcutterTranscriptChangeSummary21.513 0.35921.872
makeGeneModel0.1360.0100.146
maxLocation0.0030.0000.003
orfDiff1.4920.0521.544
orfSimilarity0.0010.0000.001
overlapTypes2.2140.0112.226
readCounts-methods0.0440.0200.064
readWhippetDIFFfiles0.0040.0020.006
readWhippetDataSet0.0450.0200.063
readWhippetJNCfiles0.0240.0060.031
readWhippetPSIfiles0.0100.0080.018
removeDuplicateTranscripts0.2370.0040.242
removeSameExon0.2010.0130.214
removeVersion0.0000.0000.001
reorderExonNumbers0.1540.0050.160
replaceJunction4.9370.1785.117
skipExonInTranscript1.2940.0281.322
summariseExonTypes2.2760.0362.312
transcriptChangeSummary1.3230.0391.362
whippetTranscriptChangeSummary17.162 0.32617.489