Back to Build/check report for BioC 3.23:   simplified   long
ABCDEF[G]HIJKLMNOPQRSTUVWXYZ

This page was generated on 2025-11-01 11:32 -0400 (Sat, 01 Nov 2025).

HostnameOSArch (*)R versionInstalled pkgs
nebbiolo1Linux (Ubuntu 24.04.3 LTS)x86_64R Under development (unstable) (2025-10-20 r88955) -- "Unsuffered Consequences" 4774
Click on any hostname to see more info about the system (e.g. compilers)      (*) as reported by 'uname -p', except on Windows and Mac OS X

Package 892/2321HostnameOS / ArchINSTALLBUILDCHECKBUILD BIN
GNOSIS 1.9.0  (landing page)
Lydia King
Snapshot Date: 2025-10-31 13:40 -0400 (Fri, 31 Oct 2025)
git_url: https://git.bioconductor.org/packages/GNOSIS
git_branch: devel
git_last_commit: 507e621
git_last_commit_date: 2025-10-29 11:26:22 -0400 (Wed, 29 Oct 2025)
nebbiolo1Linux (Ubuntu 24.04.3 LTS) / x86_64  ERROR    ERROR  skipped


INSTALL results for GNOSIS on nebbiolo1

To the developers/maintainers of the GNOSIS package:
- Allow up to 24 hours (and sometimes 48 hours) for your latest push to git@git.bioconductor.org:packages/GNOSIS.git to reflect on this report. See Troubleshooting Build Report for more information.
- Use the following Renviron settings to reproduce errors and warnings.
- If 'R CMD check' started to fail recently on the Linux builder(s) over a missing dependency, add the missing dependency to 'Suggests:' in your DESCRIPTION file. See Renviron.bioc for more information.

raw results


Summary

Package: GNOSIS
Version: 1.9.0
Command: /home/biocbuild/bbs-3.23-bioc/R/bin/R CMD INSTALL GNOSIS
StartedAt: 2025-10-31 15:58:20 -0400 (Fri, 31 Oct 2025)
EndedAt: 2025-10-31 15:58:35 -0400 (Fri, 31 Oct 2025)
EllapsedTime: 15.1 seconds
RetCode: 1
Status:   ERROR  

Command output

##############################################################################
##############################################################################
###
### Running command:
###
###   /home/biocbuild/bbs-3.23-bioc/R/bin/R CMD INSTALL GNOSIS
###
##############################################################################
##############################################################################


* installing to library ‘/home/biocbuild/bbs-3.23-bioc/R/site-library’
* installing *source* package ‘GNOSIS’ ...
** this is package ‘GNOSIS’ version ‘1.9.0’
** using staged installation
** R
** inst
** byte-compile and prepare package for lazy loading
Warning: replacing previous import ‘shinydashboard::taskItem’ by ‘shinydashboardPlus::taskItem’ when loading ‘GNOSIS’
Warning: replacing previous import ‘shinydashboard::dashboardHeader’ by ‘shinydashboardPlus::dashboardHeader’ when loading ‘GNOSIS’
Warning: replacing previous import ‘shinydashboard::box’ by ‘shinydashboardPlus::box’ when loading ‘GNOSIS’
Warning: replacing previous import ‘shinydashboard::messageItem’ by ‘shinydashboardPlus::messageItem’ when loading ‘GNOSIS’
Warning: replacing previous import ‘shinydashboard::dashboardSidebar’ by ‘shinydashboardPlus::dashboardSidebar’ when loading ‘GNOSIS’
Warning: replacing previous import ‘shinydashboard::dashboardPage’ by ‘shinydashboardPlus::dashboardPage’ when loading ‘GNOSIS’
Warning: replacing previous import ‘shinyWidgets::progressBar’ by ‘shinydashboardPlus::progressBar’ when loading ‘GNOSIS’
Warning: replacing previous import ‘shinydashboard::notificationItem’ by ‘shinydashboardPlus::notificationItem’ when loading ‘GNOSIS’
Warning: replacing previous import ‘shiny::dataTableOutput’ by ‘DT::dataTableOutput’ when loading ‘GNOSIS’
Warning: replacing previous import ‘shiny::renderDataTable’ by ‘DT::renderDataTable’ when loading ‘GNOSIS’
Error: object ‘microRNAs’ is not exported by 'namespace:GenomicFeatures'
Execution halted
ERROR: lazy loading failed for package ‘GNOSIS’
* removing ‘/home/biocbuild/bbs-3.23-bioc/R/site-library/GNOSIS’
* restoring previous ‘/home/biocbuild/bbs-3.23-bioc/R/site-library/GNOSIS’