Back to Multiple platform build/check report for BioC 3.22:   simplified   long
ABCDE[F]GHIJKLMNOPQRSTUVWXYZ

This page was generated on 2025-10-13 12:07 -0400 (Mon, 13 Oct 2025).

HostnameOSArch (*)R versionInstalled pkgs
nebbiolo2Linux (Ubuntu 24.04.3 LTS)x86_644.5.1 Patched (2025-08-23 r88802) -- "Great Square Root" 4864
lconwaymacOS 12.7.1 Montereyx86_644.5.1 Patched (2025-09-10 r88807) -- "Great Square Root" 4652
kjohnson3macOS 13.7.7 Venturaarm644.5.1 Patched (2025-09-10 r88807) -- "Great Square Root" 4597
taishanLinux (openEuler 24.03 LTS)aarch644.5.0 (2025-04-11) -- "How About a Twenty-Six" 4586
Click on any hostname to see more info about the system (e.g. compilers)      (*) as reported by 'uname -p', except on Windows and Mac OS X

Package 731/2346HostnameOS / ArchINSTALLBUILDCHECKBUILD BIN
FindIT2 1.15.1  (landing page)
Guandong Shang
Snapshot Date: 2025-10-12 13:45 -0400 (Sun, 12 Oct 2025)
git_url: https://git.bioconductor.org/packages/FindIT2
git_branch: devel
git_last_commit: 82d0b10
git_last_commit_date: 2025-07-22 19:49:08 -0400 (Tue, 22 Jul 2025)
nebbiolo2Linux (Ubuntu 24.04.3 LTS) / x86_64  OK    OK    OK  UNNEEDED, same version is already published
lconwaymacOS 12.7.1 Monterey / x86_64  OK    OK    OK    OK  UNNEEDED, same version is already published
kjohnson3macOS 13.7.7 Ventura / arm64  OK    OK    OK    OK  UNNEEDED, same version is already published
taishanLinux (openEuler 24.03 LTS) / aarch64  OK    OK    OK  


CHECK results for FindIT2 on taishan

To the developers/maintainers of the FindIT2 package:
- Allow up to 24 hours (and sometimes 48 hours) for your latest push to git@git.bioconductor.org:packages/FindIT2.git to reflect on this report. See Troubleshooting Build Report for more information.
- Use the following Renviron settings to reproduce errors and warnings.
- If 'R CMD check' started to fail recently on the Linux builder(s) over a missing dependency, add the missing dependency to 'Suggests:' in your DESCRIPTION file. See Renviron.bioc for more information.
- See Martin Grigorov's blog post for how to debug Linux ARM64 related issues on a x86_64 host.

raw results


Summary

Package: FindIT2
Version: 1.15.1
Command: /home/biocbuild/R/R/bin/R CMD check --install=check:FindIT2.install-out.txt --library=/home/biocbuild/R/R/site-library --no-vignettes --timings FindIT2_1.15.1.tar.gz
StartedAt: 2025-10-10 08:51:31 -0000 (Fri, 10 Oct 2025)
EndedAt: 2025-10-10 08:58:43 -0000 (Fri, 10 Oct 2025)
EllapsedTime: 431.4 seconds
RetCode: 0
Status:   OK  
CheckDir: FindIT2.Rcheck
Warnings: 0

Command output

##############################################################################
##############################################################################
###
### Running command:
###
###   /home/biocbuild/R/R/bin/R CMD check --install=check:FindIT2.install-out.txt --library=/home/biocbuild/R/R/site-library --no-vignettes --timings FindIT2_1.15.1.tar.gz
###
##############################################################################
##############################################################################


* using log directory ‘/home/biocbuild/bbs-3.22-bioc/meat/FindIT2.Rcheck’
* using R version 4.5.0 (2025-04-11)
* using platform: aarch64-unknown-linux-gnu
* R was compiled by
    aarch64-unknown-linux-gnu-gcc (GCC) 14.2.0
    GNU Fortran (GCC) 14.2.0
* running under: openEuler 24.03 (LTS)
* using session charset: UTF-8
* using option ‘--no-vignettes’
* checking for file ‘FindIT2/DESCRIPTION’ ... OK
* this is package ‘FindIT2’ version ‘1.15.1’
* package encoding: UTF-8
* checking package namespace information ... OK
* checking package dependencies ... INFO
Imports includes 22 non-default packages.
Importing from so many packages makes the package vulnerable to any of
them becoming unavailable.  Move as many as possible to Suggests and
use conditionally.
* checking if this is a source package ... OK
* checking if there is a namespace ... OK
* checking for hidden files and directories ... OK
* checking for portable file names ... OK
* checking for sufficient/correct file permissions ... OK
* checking whether package ‘FindIT2’ can be installed ... OK
* checking installed package size ... OK
* checking package directory ... OK
* checking ‘build’ directory ... OK
* checking DESCRIPTION meta-information ... OK
* checking top-level files ... OK
* checking for left-over files ... OK
* checking index information ... OK
* checking package subdirectories ... OK
* checking code files for non-ASCII characters ... OK
* checking R files for syntax errors ... OK
* checking whether the package can be loaded ... OK
* checking whether the package can be loaded with stated dependencies ... OK
* checking whether the package can be unloaded cleanly ... OK
* checking whether the namespace can be loaded with stated dependencies ... OK
* checking whether the namespace can be unloaded cleanly ... OK
* checking loading without being on the library search path ... OK
* checking dependencies in R code ... OK
* checking S3 generic/method consistency ... OK
* checking replacement functions ... OK
* checking foreign function calls ... OK
* checking R code for possible problems ... OK
* checking Rd files ... OK
* checking Rd metadata ... OK
* checking Rd cross-references ... OK
* checking for missing documentation entries ... OK
* checking for code/documentation mismatches ... OK
* checking Rd \usage sections ... OK
* checking Rd contents ... OK
* checking for unstated dependencies in examples ... OK
* checking contents of ‘data’ directory ... OK
* checking data for non-ASCII characters ... OK
* checking data for ASCII and uncompressed saves ... OK
* checking files in ‘vignettes’ ... OK
* checking examples ... OK
Examples with CPU (user + system) or elapsed time > 5s
                 user system elapsed
findIT_regionRP 7.375  0.068   7.463
calcRP_region   6.806  0.132   6.958
calcRP_coverage 6.051  0.039   6.109
* checking for unstated dependencies in ‘tests’ ... OK
* checking tests ...
  Running ‘testthat.R’
 OK
* checking for unstated dependencies in vignettes ... OK
* checking package vignettes ... OK
* checking running R code from vignettes ... SKIPPED
* checking re-building of vignette outputs ... SKIPPED
* checking PDF version of manual ... OK
* DONE

Status: OK


Installation output

FindIT2.Rcheck/00install.out

##############################################################################
##############################################################################
###
### Running command:
###
###   /home/biocbuild/R/R/bin/R CMD INSTALL FindIT2
###
##############################################################################
##############################################################################


* installing to library ‘/home/biocbuild/R/R-4.5.0/site-library’
* installing *source* package ‘FindIT2’ ...
** this is package ‘FindIT2’ version ‘1.15.1’
** using staged installation
** R
** data
** inst
** byte-compile and prepare package for lazy loading
** help
*** installing help indices
** building package indices
** installing vignettes
** testing if installed package can be loaded from temporary location
** testing if installed package can be loaded from final location
** testing if installed package keeps a record of temporary installation path
* DONE (FindIT2)

Tests output

FindIT2.Rcheck/tests/testthat.Rout


R version 4.5.0 (2025-04-11) -- "How About a Twenty-Six"
Copyright (C) 2025 The R Foundation for Statistical Computing
Platform: aarch64-unknown-linux-gnu

R is free software and comes with ABSOLUTELY NO WARRANTY.
You are welcome to redistribute it under certain conditions.
Type 'license()' or 'licence()' for distribution details.

R is a collaborative project with many contributors.
Type 'contributors()' for more information and
'citation()' on how to cite R or R packages in publications.

Type 'demo()' for some demos, 'help()' for on-line help, or
'help.start()' for an HTML browser interface to help.
Type 'q()' to quit R.

> library(testthat)
> library(FindIT2)
Loading required package: GenomicRanges
Loading required package: stats4
Loading required package: BiocGenerics
Loading required package: generics

Attaching package: 'generics'

The following objects are masked from 'package:base':

    as.difftime, as.factor, as.ordered, intersect, is.element, setdiff,
    setequal, union


Attaching package: 'BiocGenerics'

The following objects are masked from 'package:stats':

    IQR, mad, sd, var, xtabs

The following objects are masked from 'package:base':

    Filter, Find, Map, Position, Reduce, anyDuplicated, aperm, append,
    as.data.frame, basename, cbind, colnames, dirname, do.call,
    duplicated, eval, evalq, get, grep, grepl, is.unsorted, lapply,
    mapply, match, mget, order, paste, pmax, pmax.int, pmin, pmin.int,
    rank, rbind, rownames, sapply, saveRDS, table, tapply, unique,
    unsplit, which.max, which.min

Loading required package: S4Vectors

Attaching package: 'S4Vectors'

The following object is masked from 'package:utils':

    findMatches

The following objects are masked from 'package:base':

    I, expand.grid, unname

Loading required package: IRanges
Loading required package: Seqinfo
> if (!requireNamespace("TxDb.Athaliana.BioMart.plantsmart28")) {
+     stop("unable to load TxDb.Athaliana.BioMart.plantsmart28")
+ }
Loading required namespace: TxDb.Athaliana.BioMart.plantsmart28
> 
> test_check("FindIT2")
>> preparing gene features information...		2025-10-10 08:57:32
>> some scan range may cross Chr bound, trimming...		2025-10-10 08:57:33
>> preparing weight info...		2025-10-10 08:57:33
>> loading E50h_sampleChr5.bw info...		2025-10-10 08:57:33
------------
>> extracting and calcluating Chr5 signal...		2025-10-10 08:57:34
>> dealing with Chr5 left gene signal...		2025-10-10 08:57:39
>> norming Chr5RP accoring to the whole Chr RP...		2025-10-10 08:57:40
>> merging all Chr RP together...		2025-10-10 08:57:40
>> done		2025-10-10 08:57:40
>> checking seqlevels match...		2025-10-10 08:57:40
>> your peak_GR seqlevel:Chr5...
>> your Txdb seqlevel:Chr1 Chr2 Chr3 Chr4 Chr5 ChrM ChrC...
Good, your Chrs in peak_GR is all in Txdb
------------
annotatePeak using geneScan mode begins
>> preparing gene features information and scan region...		2025-10-10 08:57:40
>> some scan range may cross Chr bound, trimming...		2025-10-10 08:57:41
>> finding overlap peak in gene scan region...		2025-10-10 08:57:41
>> dealing with left peak not your gene scan region...		2025-10-10 08:57:41
>> merging two set peaks...		2025-10-10 08:57:41
>> calculating distance and dealing with gene strand...		2025-10-10 08:57:41
>> merging all info together ...		2025-10-10 08:57:41
>> done		2025-10-10 08:57:41
>> calculating peakCenter to TSS using peak-gene pair...		2025-10-10 08:57:41
>> pre-filling 1356 noAssoc peak gene's RP with 0...		2025-10-10 08:57:42
>> calculating RP using centerToTSS and peak score2025-10-10 08:57:42
>> merging all info together		2025-10-10 08:57:45
>> done		2025-10-10 08:57:46
>> calculating peakCenter to TSS using peak-gene pair...		2025-10-10 08:57:46
>> pre-filling 1356 noAssoc peak gene's RP with 0...		2025-10-10 08:57:47
>> calculating RP using centerToTSS and peak score2025-10-10 08:57:47
>> merging all info together		2025-10-10 08:57:50
>> done		2025-10-10 08:57:51
>> checking seqlevels match...		2025-10-10 08:57:51
>> your peak_GR seqlevel:Chr5...
>> your Txdb seqlevel:Chr1 Chr2 Chr3 Chr4 Chr5 ChrM ChrC...
Good, your Chrs in peak_GR is all in Txdb
------------
annotatePeak using geneScan mode begins
>> preparing gene features information and scan region...		2025-10-10 08:57:51
>> some scan range may cross Chr bound, trimming...		2025-10-10 08:57:52
>> finding overlap peak in gene scan region...		2025-10-10 08:57:52
>> dealing with left peak not your gene scan region...		2025-10-10 08:57:52
>> merging two set peaks...		2025-10-10 08:57:52
>> calculating distance and dealing with gene strand...		2025-10-10 08:57:52
>> merging all info together ...		2025-10-10 08:57:53
>> done		2025-10-10 08:57:53
>> calculating peakCenter to TSS using peak-gene pair...		2025-10-10 08:57:53
>> calculating RP using centerToTSS and TF hit		2025-10-10 08:57:53
>> merging all info together		2025-10-10 08:57:53
>> done		2025-10-10 08:57:53
>> calculating peakCenter to TSS using peak-gene pair...		2025-10-10 08:57:53
>> calculating RP using centerToTSS and TF hit		2025-10-10 08:57:55
>> merging all info together		2025-10-10 08:57:55
>> done		2025-10-10 08:57:55
>> checking seqlevels match...		2025-10-10 08:57:56
>> your peak_GR seqlevel:Chr5...
>> your Txdb seqlevel:Chr1 Chr2 Chr3 Chr4 Chr5 ChrM ChrC...
Good, your Chrs in peak_GR is all in Txdb
------------
annotatePeak using geneScan mode begins
>> preparing gene features information and scan region...		2025-10-10 08:57:56
>> some scan range may cross Chr bound, trimming...		2025-10-10 08:57:57
>> finding overlap peak in gene scan region...		2025-10-10 08:57:57
>> dealing with left peak not your gene scan region...		2025-10-10 08:57:57
>> merging two set peaks...		2025-10-10 08:57:57
>> calculating distance and dealing with gene strand...		2025-10-10 08:57:57
>> merging all info together ...		2025-10-10 08:57:57
>> done		2025-10-10 08:57:57
>> calculating peakCenter to TSS using peak-gene pair...		2025-10-10 08:57:57
>> pre-filling 1356 noAssoc peak gene's RP with 0...		2025-10-10 08:57:58
>> calculating RP using centerToTSS and peak score2025-10-10 08:57:58
>> merging all info together		2025-10-10 08:58:01
>> done		2025-10-10 08:58:01
>> extracting RP info from regionRP...		2025-10-10 08:58:02
>> dealing with TF_GR_databse...		2025-10-10 08:58:02
>> calculating percent and p-value...		2025-10-10 08:58:02
>> dealing withE5_0h_R1...		2025-10-10 08:58:02
>> dealing withE5_0h_R2...		2025-10-10 08:58:02
>> dealing withE5_4h_R1...		2025-10-10 08:58:02
>> dealing withE5_4h_R2...		2025-10-10 08:58:02
>> dealing withE5_8h_R1...		2025-10-10 08:58:02
>> dealing withE5_8h_R2...		2025-10-10 08:58:02
>> dealing withE5_16h_R1...		2025-10-10 08:58:02
>> dealing withE5_16h_R2...		2025-10-10 08:58:02
>> dealing withE5_24h_R1...		2025-10-10 08:58:02
>> dealing withE5_24h_R2...		2025-10-10 08:58:02
>> dealing withE5_48h_R1...		2025-10-10 08:58:03
>> dealing withE5_48h_R2...		2025-10-10 08:58:03
>> dealing withE5_48h_R3...		2025-10-10 08:58:03
>> dealing withE5_72h_R1...		2025-10-10 08:58:03
>> dealing withE5_72h_R2...		2025-10-10 08:58:03
>> dealing withE5_72h_R3...		2025-10-10 08:58:03
>> merging all info together...		2025-10-10 08:58:03
>> done		2025-10-10 08:58:03
>> preparing gene features information...		2025-10-10 08:58:03
>> some scan range may cross Chr bound, trimming...		2025-10-10 08:58:04
>> calculating p-value for each TF, which may be time consuming...		2025-10-10 08:58:04
>> merging all info together...		2025-10-10 08:58:04
>> done		2025-10-10 08:58:04
>> dealing with TF_GR_database...		2025-10-10 08:58:04
>> calculating coef and converting into z-score using INT...		2025-10-10 08:58:05
>> dealing with E5_0h_R1...		2025-10-10 08:58:05
>> dealing with E5_0h_R2...		2025-10-10 08:58:05
>> dealing with E5_4h_R1...		2025-10-10 08:58:05
>> dealing with E5_4h_R2...		2025-10-10 08:58:05
>> dealing with E5_8h_R1...		2025-10-10 08:58:05
>> dealing with E5_8h_R2...		2025-10-10 08:58:05
>> dealing with E5_16h_R1...		2025-10-10 08:58:05
>> dealing with E5_16h_R2...		2025-10-10 08:58:05
>> dealing with E5_24h_R1...		2025-10-10 08:58:05
>> dealing with E5_24h_R2...		2025-10-10 08:58:05
>> dealing with E5_48h_R1...		2025-10-10 08:58:06
>> dealing with E5_48h_R2...		2025-10-10 08:58:06
>> dealing with E5_48h_R3...		2025-10-10 08:58:06
>> dealing with E5_72h_R1...		2025-10-10 08:58:06
>> dealing with E5_72h_R2...		2025-10-10 08:58:06
>> dealing with E5_72h_R3...		2025-10-10 08:58:06
>> merging all info together...		2025-10-10 08:58:06
>> done		2025-10-10 08:58:06
>> checking seqlevels match...		2025-10-10 08:58:06
>> your peak_GR seqlevel:Chr5...
>> your Txdb seqlevel:Chr1 Chr2 Chr3 Chr4 Chr5 ChrM ChrC...
Good, your Chrs in peak_GR is all in Txdb
------------
annotatePeak using geneScan mode begins
>> preparing gene features information and scan region...		2025-10-10 08:58:07
>> some scan range may cross Chr bound, trimming...		2025-10-10 08:58:07
>> finding overlap peak in gene scan region...		2025-10-10 08:58:07
>> dealing with left peak not your gene scan region...		2025-10-10 08:58:07
>> merging two set peaks...		2025-10-10 08:58:08
>> calculating distance and dealing with gene strand...		2025-10-10 08:58:08
>> merging all info together ...		2025-10-10 08:58:08
>> done		2025-10-10 08:58:08
>> calculating peakCenter to TSS using peak-gene pair...		2025-10-10 08:58:08
>> calculating RP using centerToTSS and TF hit		2025-10-10 08:58:09
>> merging all info together		2025-10-10 08:58:09
>> done		2025-10-10 08:58:09
>> checking seqlevels match...		2025-10-10 08:58:09
>> your peak_GR seqlevel:5...
>> your Txdb seqlevel:Chr1 Chr2 Chr3 Chr4 Chr5 ChrM ChrC...
>> checking seqlevels match...		2025-10-10 08:58:09
>> your peak_GR seqlevel:Chr5 Chr6...
>> your Txdb seqlevel:Chr1 Chr2 Chr3 Chr4 Chr5 ChrM ChrC...
>> checking seqlevels match...		2025-10-10 08:58:13
>> your peak_GR seqlevel:Chr5...
>> your Txdb seqlevel:Chr1 Chr2 Chr3 Chr4 Chr5 ChrM ChrC...
Good, your Chrs in peak_GR is all in Txdb
>> checking seqlevels match...		2025-10-10 08:58:13
>> your peak_GR seqlevel:Chr5...
>> your Txdb seqlevel:Chr1 Chr2 Chr3 Chr4 Chr5 ChrM ChrC...
Good, your Chrs in peak_GR is all in Txdb
------------
annotating Peak using nearest gene mode begins
>> preparing gene features information...		2025-10-10 08:58:13
>> finding nearest gene and calculating distance...		2025-10-10 08:58:14
>> dealing with gene strand ...		2025-10-10 08:58:14
>> merging all info together ...		2025-10-10 08:58:14
>> done		2025-10-10 08:58:14
>> checking seqlevels match...		2025-10-10 08:58:14
>> your peak_GR seqlevel:Chr5...
>> your Txdb seqlevel:Chr1 Chr2 Chr3 Chr4 Chr5 ChrM ChrC...
Good, your Chrs in peak_GR is all in Txdb
>> checking seqlevels match...		2025-10-10 08:58:14
>> your peak_GR seqlevel:Chr5...
>> your Txdb seqlevel:Chr1 Chr2 Chr3 Chr4 Chr5 ChrM ChrC...
Good, your Chrs in peak_GR is all in Txdb
------------
annotating Peak using nearest gene mode begins
>> preparing gene features information...		2025-10-10 08:58:14
>> finding nearest gene and calculating distance...		2025-10-10 08:58:15
>> dealing with gene strand ...		2025-10-10 08:58:15
>> merging all info together ...		2025-10-10 08:58:15
>> done		2025-10-10 08:58:15
>> checking seqlevels match...		2025-10-10 08:58:17
>> your peak_GR seqlevel:Chr5...
>> your Txdb seqlevel:Chr1 Chr2 Chr3 Chr4 Chr5 ChrM ChrC...
Good, your Chrs in peak_GR is all in Txdb
>> checking seqlevels match...		2025-10-10 08:58:17
>> your peak_GR seqlevel:Chr5...
>> your Txdb seqlevel:Chr1 Chr2 Chr3 Chr4 Chr5 ChrM ChrC...
Good, your Chrs in peak_GR is all in Txdb
------------
annotating Peak using nearest gene mode begins
>> preparing gene features information...		2025-10-10 08:58:17
>> finding nearest gene and calculating distance...		2025-10-10 08:58:18
>> dealing with gene strand ...		2025-10-10 08:58:18
>> merging all info together ...		2025-10-10 08:58:18
>> done		2025-10-10 08:58:18
>> checking seqlevels match...		2025-10-10 08:58:19
>> your peak_GR seqlevel:Chr5...
>> your Txdb seqlevel:Chr1 Chr2 Chr3 Chr4 Chr5 ChrM ChrC...
Good, your Chrs in peak_GR is all in Txdb
>> checking seqlevels match...		2025-10-10 08:58:19
>> your peak_GR seqlevel:Chr5...
>> your Txdb seqlevel:Chr1 Chr2 Chr3 Chr4 Chr5 ChrM ChrC...
Good, your Chrs in peak_GR is all in Txdb
------------
annotating Peak using nearest gene mode begins
>> preparing gene features information...		2025-10-10 08:58:19
>> finding nearest gene and calculating distance...		2025-10-10 08:58:20
>> dealing with gene strand ...		2025-10-10 08:58:20
>> merging all info together ...		2025-10-10 08:58:20
>> done		2025-10-10 08:58:20
It seems that there 1 genes have not been annotated by nearestGene mode
>> checking seqlevels match...		2025-10-10 08:58:21
>> your peak_GR seqlevel:Chr5...
>> your Txdb seqlevel:Chr1 Chr2 Chr3 Chr4 Chr5 ChrM ChrC...
Good, your Chrs in peak_GR is all in Txdb
>> checking seqlevels match...		2025-10-10 08:58:21
>> your peak_GR seqlevel:Chr5...
>> your Txdb seqlevel:Chr1 Chr2 Chr3 Chr4 Chr5 ChrM ChrC...
Good, your Chrs in peak_GR is all in Txdb
------------
annotating Peak using nearest gene mode begins
>> preparing gene features information...		2025-10-10 08:58:21
>> finding nearest gene and calculating distance...		2025-10-10 08:58:22
>> dealing with gene strand ...		2025-10-10 08:58:22
>> merging all info together ...		2025-10-10 08:58:22
>> done		2025-10-10 08:58:22
It seems that there 1 genes have not been annotated by nearestGene mode
>> checking seqlevels match...		2025-10-10 08:58:23
>> your peak_GR seqlevel:Chr5...
>> your Txdb seqlevel:Chr1 Chr2 Chr3 Chr4 Chr5 ChrM ChrC...
Good, your Chrs in peak_GR is all in Txdb
>> checking seqlevels match...		2025-10-10 08:58:24
>> your peak_GR seqlevel:Chr5...
>> your Txdb seqlevel:Chr1 Chr2 Chr3 Chr4 Chr5 ChrM ChrC...
Good, your Chrs in peak_GR is all in Txdb
>> some scan range may cross Chr bound, trimming...		2025-10-10 08:58:25
>> checking seqlevels match...		2025-10-10 08:58:26
>> your peak_GR seqlevel:Chr5...
>> your Txdb seqlevel:Chr1 Chr2 Chr3 Chr4 Chr5 ChrM ChrC...
Good, your Chrs in peak_GR is all in Txdb
>> some scan range may cross Chr bound, trimming...		2025-10-10 08:58:27
Good, your two matrix colnames matchs
>> calculating cor and pvalue, which may be time consuming...		2025-10-10 08:58:29
>> merging all info together...		2025-10-10 08:58:29
>> done		2025-10-10 08:58:29
>> checking seqlevels match...		2025-10-10 08:58:29
>> your peak_GR seqlevel:Chr5...
>> your Txdb seqlevel:Chr1 Chr2 Chr3 Chr4 Chr5 ChrM ChrC...
Good, your Chrs in peak_GR is all in Txdb
>> using scanPromoter parameter to scan promoter for each gene...		2025-10-10 08:58:29
>> checking seqlevels match...		2025-10-10 08:58:29
>> your peak_GR seqlevel:Chr5...
>> your Txdb seqlevel:Chr1 Chr2 Chr3 Chr4 Chr5 ChrM ChrC...
Good, your Chrs in peak_GR is all in Txdb
>> some scan range may cross Chr bound, trimming...		2025-10-10 08:58:30
>> there are 85 gene have scaned promoter
>> using scanEnhancer parameter to scan Enhancer for each gene...		2025-10-10 08:58:30
>> checking seqlevels match...		2025-10-10 08:58:30
>> your peak_GR seqlevel:Chr5...
>> your Txdb seqlevel:Chr1 Chr2 Chr3 Chr4 Chr5 ChrM ChrC...
Good, your Chrs in peak_GR is all in Txdb
>> some scan range may cross Chr bound, trimming...		2025-10-10 08:58:31
>> calculating cor and pvalue, which may be time consuming...		2025-10-10 08:58:31
>> merging all info together...		2025-10-10 08:58:31
>> done		2025-10-10 08:58:32
Good, your two matrix colnames matchs
>> calculating cor and pvalue, which may be time consuming...		2025-10-10 08:58:32
>> merging all info together...		2025-10-10 08:58:32
>> done		2025-10-10 08:58:32
>> checking seqlevels match...		2025-10-10 08:58:32
>> your peak_GR seqlevel:Chr5...
>> your Txdb seqlevel:Chr1 Chr2 Chr3 Chr4 Chr5 ChrM ChrC...
Good, your Chrs in peak_GR is all in Txdb
------------
annotatePeak using geneScan mode begins
>> preparing gene features information and scan region...		2025-10-10 08:58:32
>> some scan range may cross Chr bound, trimming...		2025-10-10 08:58:33
>> finding overlap peak in gene scan region...		2025-10-10 08:58:33
>> dealing with left peak not your gene scan region...		2025-10-10 08:58:33
>> merging two set peaks...		2025-10-10 08:58:33
>> calculating distance and dealing with gene strand...		2025-10-10 08:58:33
>> merging all info together ...		2025-10-10 08:58:33
>> done		2025-10-10 08:58:33
Good, your two matrix colnames matchs
>> calculating cor and pvalue, which may be time consuming...		2025-10-10 08:58:34
>> merging all info together...		2025-10-10 08:58:35
>> done		2025-10-10 08:58:35
>> checking seqlevels match...		2025-10-10 08:58:35
>> your peak_GR seqlevel:Chr5...
>> your Txdb seqlevel:Chr1 Chr2 Chr3 Chr4 Chr5 ChrM ChrC...
Good, your Chrs in peak_GR is all in Txdb
>> using scanPromoter parameter to scan promoter for each gene...		2025-10-10 08:58:35
>> checking seqlevels match...		2025-10-10 08:58:35
>> your peak_GR seqlevel:Chr5...
>> your Txdb seqlevel:Chr1 Chr2 Chr3 Chr4 Chr5 ChrM ChrC...
Good, your Chrs in peak_GR is all in Txdb
>> some scan range may cross Chr bound, trimming...		2025-10-10 08:58:36
>> there are 85 gene have scaned promoter
>> using scanEnhancer parameter to scan Enhancer for each gene...		2025-10-10 08:58:36
>> checking seqlevels match...		2025-10-10 08:58:36
>> your peak_GR seqlevel:Chr5...
>> your Txdb seqlevel:Chr1 Chr2 Chr3 Chr4 Chr5 ChrM ChrC...
Good, your Chrs in peak_GR is all in Txdb
>> some scan range may cross Chr bound, trimming...		2025-10-10 08:58:37
>> calculating cor and pvalue, which may be time consuming...		2025-10-10 08:58:37
>> merging all info together...		2025-10-10 08:58:37
>> done		2025-10-10 08:58:37
Joining with `by = join_by(feature_id)`
Joining with `by = join_by(feature_id)`
`geom_smooth()` using formula = 'y ~ x'
Joining with `by = join_by(feature_id)`
Joining with `by = join_by(feature_id)`
`geom_smooth()` using formula = 'y ~ x'
[ FAIL 0 | WARN 0 | SKIP 0 | PASS 65 ]
> 
> proc.time()
   user  system elapsed 
 79.815   1.577  81.595 

Example timings

FindIT2.Rcheck/FindIT2-Ex.timings

nameusersystemelapsed
TF_target_database000
calcRP_TFHit3.9960.1784.326
calcRP_coverage6.0510.0396.109
calcRP_region6.8060.1326.958
enhancerPromoterCor3.2050.0683.282
findIT_MARA0.5360.0040.542
findIT_TFHit1.1100.0561.168
findIT_TTPair0.0980.0000.098
findIT_enrichFisher0.2020.0000.203
findIT_enrichWilcox0.2230.0040.229
findIT_regionRP7.3750.0687.463
getAssocPairNumber1.3710.0391.414
integrate_ChIP_RNA2.4870.0122.505
integrate_replicates0.0020.0000.002
jaccard_findIT_TTpair0.1160.0040.120
jaccard_findIT_enrichFisher0.2550.0000.256
loadPeakFile0.0760.0000.077
mm_geneBound1.4590.0121.475
mm_geneScan1.4560.0041.465
mm_nearestGene1.3010.0121.316
peakGeneCor2.9190.0122.940
plot_annoDistance2.1400.0082.155
plot_peakGeneAlias_summary2.4820.0722.560
plot_peakGeneCor4.0200.0644.097
test_geneSet000