Back to Build/check report for BioC 3.23:   simplified   long
ABCDE[F]GHIJKLMNOPQRSTUVWXYZ

This page was generated on 2025-11-04 11:32 -0500 (Tue, 04 Nov 2025).

HostnameOSArch (*)R versionInstalled pkgs
nebbiolo1Linux (Ubuntu 24.04.3 LTS)x86_64R Under development (unstable) (2025-10-20 r88955) -- "Unsuffered Consequences" 4788
Click on any hostname to see more info about the system (e.g. compilers)      (*) as reported by 'uname -p', except on Windows and Mac OS X

Package 710/2323HostnameOS / ArchINSTALLBUILDCHECKBUILD BIN
FastqCleaner 1.29.0  (landing page)
Leandro Roser
Snapshot Date: 2025-11-03 13:40 -0500 (Mon, 03 Nov 2025)
git_url: https://git.bioconductor.org/packages/FastqCleaner
git_branch: devel
git_last_commit: 464323c
git_last_commit_date: 2025-10-29 10:45:40 -0500 (Wed, 29 Oct 2025)
nebbiolo1Linux (Ubuntu 24.04.3 LTS) / x86_64  OK    OK    OK  UNNEEDED, same version is already published


BUILD results for FastqCleaner on nebbiolo1

To the developers/maintainers of the FastqCleaner package:
- Allow up to 24 hours (and sometimes 48 hours) for your latest push to git@git.bioconductor.org:packages/FastqCleaner.git to reflect on this report. See Troubleshooting Build Report for more information.
- Use the following Renviron settings to reproduce errors and warnings.
- If 'R CMD check' started to fail recently on the Linux builder(s) over a missing dependency, add the missing dependency to 'Suggests:' in your DESCRIPTION file. See Renviron.bioc for more information.

raw results


Summary

Package: FastqCleaner
Version: 1.29.0
Command: /home/biocbuild/bbs-3.23-bioc/R/bin/R CMD build --keep-empty-dirs --no-resave-data FastqCleaner
StartedAt: 2025-11-03 17:30:13 -0500 (Mon, 03 Nov 2025)
EndedAt: 2025-11-03 17:31:31 -0500 (Mon, 03 Nov 2025)
EllapsedTime: 78.1 seconds
RetCode: 0
Status:   OK  
PackageFile: FastqCleaner_1.29.0.tar.gz
PackageFileSize: 4.318 MiB

Command output

##############################################################################
##############################################################################
###
### Running command:
###
###   /home/biocbuild/bbs-3.23-bioc/R/bin/R CMD build --keep-empty-dirs --no-resave-data FastqCleaner
###
##############################################################################
##############################################################################


* checking for file ‘FastqCleaner/DESCRIPTION’ ... OK
* preparing ‘FastqCleaner’:
* checking DESCRIPTION meta-information ... OK
* cleaning src
* installing the package (it is needed to build vignettes)
* creating vignettes ... OK
* cleaning src
* checking for LF line-endings in source and make files and shell scripts
* checking for empty or unneeded directories
Omitted ‘LazyData’ from DESCRIPTION
* building ‘FastqCleaner_1.29.0.tar.gz’
Warning in utils::tar(filepath, pkgname, compression = compression, compression_level = 9L,  :
  storing paths of more than 100 bytes is not portable:
  ‘FastqCleaner/inst/application/www/help/docs/articles/Overview_files/figure-html/unnamed-chunk-11-1.png’
Warning in utils::tar(filepath, pkgname, compression = compression, compression_level = 9L,  :
  storing paths of more than 100 bytes is not portable:
  ‘FastqCleaner/inst/application/www/help/docs/articles/Overview_files/figure-html/unnamed-chunk-12-1.png’
Warning in utils::tar(filepath, pkgname, compression = compression, compression_level = 9L,  :
  storing paths of more than 100 bytes is not portable:
  ‘FastqCleaner/inst/application/www/help/docs/articles/Overview_files/figure-html/unnamed-chunk-13-1.png’
Warning in utils::tar(filepath, pkgname, compression = compression, compression_level = 9L,  :
  storing paths of more than 100 bytes is not portable:
  ‘FastqCleaner/inst/application/www/help/docs/articles/Overview_files/figure-html/unnamed-chunk-14-1.png’
Warning in utils::tar(filepath, pkgname, compression = compression, compression_level = 9L,  :
  storing paths of more than 100 bytes is not portable:
  ‘FastqCleaner/inst/application/www/help/docs/articles/Overview_files/figure-html/unnamed-chunk-7-1.png’
Warning in utils::tar(filepath, pkgname, compression = compression, compression_level = 9L,  :
  storing paths of more than 100 bytes is not portable:
  ‘FastqCleaner/inst/application/www/help/docs/articles/Overview_files/figure-html/unnamed-chunk-8-1.png’