| Back to Build/check report for BioC 3.23: simplified long | 
  | 
This page was generated on 2025-11-03 11:33 -0500 (Mon, 03 Nov 2025).
| Hostname | OS | Arch (*) | R version | Installed pkgs | 
|---|---|---|---|---|
| nebbiolo1 | Linux (Ubuntu 24.04.3 LTS) | x86_64 | R Under development (unstable) (2025-10-20 r88955) -- "Unsuffered Consequences" | 4775 | 
| Click on any hostname to see more info about the system (e.g. compilers) (*) as reported by 'uname -p', except on Windows and Mac OS X | ||||
| Package 626/2321 | Hostname | OS / Arch | INSTALL | BUILD | CHECK | BUILD BIN | ||||||||
| DuplexDiscovereR 1.5.0  (landing page) Egor Semenchenko 
  | nebbiolo1 | Linux (Ubuntu 24.04.3 LTS) / x86_64 | OK | OK | OK | |||||||||
| 
To the developers/maintainers of the DuplexDiscovereR package: - Allow up to 24 hours (and sometimes 48 hours) for your latest push to git@git.bioconductor.org:packages/DuplexDiscovereR.git to reflect on this report. See Troubleshooting Build Report for more information. - Use the following Renviron settings to reproduce errors and warnings. - If 'R CMD check' started to fail recently on the Linux builder(s) over a missing dependency, add the missing dependency to 'Suggests:' in your DESCRIPTION file. See Renviron.bioc for more information.  | 
| Package: DuplexDiscovereR | 
| Version: 1.5.0 | 
| Command: /home/biocbuild/bbs-3.23-bioc/R/bin/R CMD check --install=check:DuplexDiscovereR.install-out.txt --library=/home/biocbuild/bbs-3.23-bioc/R/site-library --timings DuplexDiscovereR_1.5.0.tar.gz | 
| StartedAt: 2025-11-02 22:53:18 -0500 (Sun, 02 Nov 2025) | 
| EndedAt: 2025-11-02 23:01:37 -0500 (Sun, 02 Nov 2025) | 
| EllapsedTime: 499.7 seconds | 
| RetCode: 0 | 
| Status: OK | 
| CheckDir: DuplexDiscovereR.Rcheck | 
| Warnings: 0 | 
##############################################################################
##############################################################################
###
### Running command:
###
###   /home/biocbuild/bbs-3.23-bioc/R/bin/R CMD check --install=check:DuplexDiscovereR.install-out.txt --library=/home/biocbuild/bbs-3.23-bioc/R/site-library --timings DuplexDiscovereR_1.5.0.tar.gz
###
##############################################################################
##############################################################################
* using log directory ‘/home/biocbuild/bbs-3.23-bioc/meat/DuplexDiscovereR.Rcheck’
* using R Under development (unstable) (2025-10-20 r88955)
* using platform: x86_64-pc-linux-gnu
* R was compiled by
    gcc (Ubuntu 13.3.0-6ubuntu2~24.04) 13.3.0
    GNU Fortran (Ubuntu 13.3.0-6ubuntu2~24.04) 13.3.0
* running under: Ubuntu 24.04.3 LTS
* using session charset: UTF-8
* checking for file ‘DuplexDiscovereR/DESCRIPTION’ ... OK
* this is package ‘DuplexDiscovereR’ version ‘1.5.0’
* package encoding: UTF-8
* checking package namespace information ... OK
* checking package dependencies ... OK
* checking if this is a source package ... OK
* checking if there is a namespace ... OK
* checking for hidden files and directories ... OK
* checking for portable file names ... OK
* checking for sufficient/correct file permissions ... OK
* checking whether package ‘DuplexDiscovereR’ can be installed ... OK
* checking installed package size ... OK
* checking package directory ... OK
* checking ‘build’ directory ... OK
* checking DESCRIPTION meta-information ... OK
* checking top-level files ... OK
* checking for left-over files ... OK
* checking index information ... OK
* checking package subdirectories ... OK
* checking code files for non-ASCII characters ... OK
* checking R files for syntax errors ... OK
* checking whether the package can be loaded ... OK
* checking whether the package can be loaded with stated dependencies ... OK
* checking whether the package can be unloaded cleanly ... OK
* checking whether the namespace can be loaded with stated dependencies ... OK
* checking whether the namespace can be unloaded cleanly ... OK
* checking loading without being on the library search path ... OK
* checking dependencies in R code ... OK
* checking S3 generic/method consistency ... OK
* checking replacement functions ... OK
* checking foreign function calls ... OK
* checking R code for possible problems ... OK
* checking Rd files ... OK
* checking Rd metadata ... OK
* checking Rd cross-references ... NOTE
Non-topic package-anchored link(s) in Rd file 'computeGISelfOverlaps.Rd':
  ‘[InteractionSet:overlaps]{InteractionSet::findOverlaps()}’
See section 'Cross-references' in the 'Writing R Extensions' manual.
* checking for missing documentation entries ... OK
* checking for code/documentation mismatches ... OK
* checking Rd \usage sections ... OK
* checking Rd contents ... OK
* checking for unstated dependencies in examples ... OK
* checking contents of ‘data’ directory ... OK
* checking data for non-ASCII characters ... OK
* checking data for ASCII and uncompressed saves ... OK
* checking files in ‘vignettes’ ... OK
* checking examples ... OK
Examples with CPU (user + system) or elapsed time > 5s
                             user system elapsed
runDuplexDiscoverer         8.624  0.132   8.757
DuplexDiscovererResults     6.956  0.306   7.262
dd_get_chimeric_reads_stats 6.113  0.114   6.228
dd_get_run_stats            6.139  0.081   6.220
dd_get_chimeric_reads       6.111  0.005   6.118
dd_get_reads_classes        5.888  0.097   5.985
dd_get_duplex_groups        5.800  0.061   5.861
* checking for unstated dependencies in ‘tests’ ... OK
* checking tests ...
  Running ‘testthat.R’
 OK
* checking for unstated dependencies in vignettes ... OK
* checking package vignettes ... OK
* checking re-building of vignette outputs ... OK
* checking PDF version of manual ... OK
* DONE
Status: 1 NOTE
See
  ‘/home/biocbuild/bbs-3.23-bioc/meat/DuplexDiscovereR.Rcheck/00check.log’
for details.
DuplexDiscovereR.Rcheck/00install.out
############################################################################## ############################################################################## ### ### Running command: ### ### /home/biocbuild/bbs-3.23-bioc/R/bin/R CMD INSTALL DuplexDiscovereR ### ############################################################################## ############################################################################## * installing to library ‘/home/biocbuild/bbs-3.23-bioc/R/site-library’ * installing *source* package ‘DuplexDiscovereR’ ... ** this is package ‘DuplexDiscovereR’ version ‘1.5.0’ ** using staged installation ** R ** data ** inst ** byte-compile and prepare package for lazy loading ** help *** installing help indices ** building package indices ** installing vignettes ** testing if installed package can be loaded from temporary location ** testing if installed package can be loaded from final location ** testing if installed package keeps a record of temporary installation path * DONE (DuplexDiscovereR)
DuplexDiscovereR.Rcheck/tests/testthat.Rout
R Under development (unstable) (2025-10-20 r88955) -- "Unsuffered Consequences"
Copyright (C) 2025 The R Foundation for Statistical Computing
Platform: x86_64-pc-linux-gnu
R is free software and comes with ABSOLUTELY NO WARRANTY.
You are welcome to redistribute it under certain conditions.
Type 'license()' or 'licence()' for distribution details.
R is a collaborative project with many contributors.
Type 'contributors()' for more information and
'citation()' on how to cite R or R packages in publications.
Type 'demo()' for some demos, 'help()' for on-line help, or
'help.start()' for an HTML browser interface to help.
Type 'q()' to quit R.
> # This file is part of the standard setup for testthat.
> # It is recommended that you do not modify it.
> #
> # Where should you do additional test configuration?
> # Learn more about the roles of various files in:
> # * https://r-pkgs.org/testing-design.html#sec-tests-files-overview
> # * https://testthat.r-lib.org/articles/special-files.html
> 
> library(testthat)
> library(DuplexDiscovereR)
Loading required package: InteractionSet
Loading required package: GenomicRanges
Loading required package: stats4
Loading required package: BiocGenerics
Loading required package: generics
Attaching package: 'generics'
The following objects are masked from 'package:base':
    as.difftime, as.factor, as.ordered, intersect, is.element, setdiff,
    setequal, union
Attaching package: 'BiocGenerics'
The following objects are masked from 'package:stats':
    IQR, mad, sd, var, xtabs
The following objects are masked from 'package:base':
    Filter, Find, Map, Position, Reduce, anyDuplicated, aperm, append,
    as.data.frame, basename, cbind, colnames, dirname, do.call,
    duplicated, eval, evalq, get, grep, grepl, is.unsorted, lapply,
    mapply, match, mget, order, paste, pmax, pmax.int, pmin, pmin.int,
    rank, rbind, rownames, sapply, saveRDS, table, tapply, unique,
    unsplit, which.max, which.min
Loading required package: S4Vectors
Attaching package: 'S4Vectors'
The following object is masked from 'package:utils':
    findMatches
The following objects are masked from 'package:base':
    I, expand.grid, unname
Loading required package: IRanges
Loading required package: Seqinfo
Loading required package: SummarizedExperiment
Loading required package: MatrixGenerics
Loading required package: matrixStats
Attaching package: 'MatrixGenerics'
The following objects are masked from 'package:matrixStats':
    colAlls, colAnyNAs, colAnys, colAvgsPerRowSet, colCollapse,
    colCounts, colCummaxs, colCummins, colCumprods, colCumsums,
    colDiffs, colIQRDiffs, colIQRs, colLogSumExps, colMadDiffs,
    colMads, colMaxs, colMeans2, colMedians, colMins, colOrderStats,
    colProds, colQuantiles, colRanges, colRanks, colSdDiffs, colSds,
    colSums2, colTabulates, colVarDiffs, colVars, colWeightedMads,
    colWeightedMeans, colWeightedMedians, colWeightedSds,
    colWeightedVars, rowAlls, rowAnyNAs, rowAnys, rowAvgsPerColSet,
    rowCollapse, rowCounts, rowCummaxs, rowCummins, rowCumprods,
    rowCumsums, rowDiffs, rowIQRDiffs, rowIQRs, rowLogSumExps,
    rowMadDiffs, rowMads, rowMaxs, rowMeans2, rowMedians, rowMins,
    rowOrderStats, rowProds, rowQuantiles, rowRanges, rowRanks,
    rowSdDiffs, rowSds, rowSums2, rowTabulates, rowVarDiffs, rowVars,
    rowWeightedMads, rowWeightedMeans, rowWeightedMedians,
    rowWeightedSds, rowWeightedVars
Loading required package: Biobase
Welcome to Bioconductor
    Vignettes contain introductory material; view with
    'browseVignettes()'. To cite Bioconductor, see
    'citation("Biobase")', and for packages 'citation("pkgname")'.
Attaching package: 'Biobase'
The following object is masked from 'package:MatrixGenerics':
    rowMedians
The following objects are masked from 'package:matrixStats':
    anyMissing, rowMedians
> 
> test_check("DuplexDiscovereR")
[ FAIL 0 | WARN 2 | SKIP 0 | PASS 24 ]
[ FAIL 0 | WARN 2 | SKIP 0 | PASS 24 ]
> 
> proc.time()
   user  system elapsed 
 42.122   1.902  44.022 
DuplexDiscovereR.Rcheck/DuplexDiscovereR-Ex.timings
| name | user | system | elapsed | |
| DuplexDiscovererResults | 6.956 | 0.306 | 7.262 | |
| DuplexTrack | 2.464 | 0.142 | 2.606 | |
| annotateGI | 0.488 | 0.015 | 0.503 | |
| availableDisplayPars | 0.252 | 0.002 | 0.253 | |
| calculateLigationPvalues | 0.526 | 0.004 | 0.530 | |
| classifyTwoArmChimeras | 0.487 | 0.008 | 0.495 | |
| clusterDuplexGroups | 2.294 | 0.115 | 2.409 | |
| collapseIdenticalReads | 0.109 | 0.000 | 0.108 | |
| collapse_duplex_groups | 2.255 | 0.056 | 2.311 | |
| compareMultipleInteractions | 4.640 | 0.004 | 4.645 | |
| computeGISelfOverlaps | 0.195 | 0.000 | 0.194 | |
| convert_gi_to_ranges | 0.075 | 0.001 | 0.076 | |
| dd_get_chimeric_reads | 6.111 | 0.005 | 6.118 | |
| dd_get_chimeric_reads_stats | 6.113 | 0.114 | 6.228 | |
| dd_get_duplex_groups | 5.800 | 0.061 | 5.861 | |
| dd_get_reads_classes | 5.888 | 0.097 | 5.985 | |
| dd_get_run_stats | 6.139 | 0.081 | 6.220 | |
| getChimericJunctionTypes | 0.326 | 0.006 | 0.332 | |
| getRNAHybrids | 0.047 | 0.001 | 0.048 | |
| getSpliceJunctionChimeras | 0.300 | 0.004 | 0.304 | |
| get_char_count_cigar | 0.008 | 0.002 | 0.009 | |
| makeDfFromGi | 0.078 | 0.001 | 0.079 | |
| makeGiFromDf | 0.078 | 0.002 | 0.080 | |
| runDuplexDiscoPreproc | 0.257 | 0.015 | 0.272 | |
| runDuplexDiscoverer | 8.624 | 0.132 | 8.757 | |
| show-DuplexTrack-method | 0.268 | 0.002 | 0.270 | |
| trimAroundJunction | 0.264 | 0.002 | 0.267 | |
| writeGiToSAMfile | 0.457 | 0.004 | 0.462 | |