Back to Multiple platform build/check report for BioC 3.23:   simplified   long
ABC[D]EFGHIJKLMNOPQRSTUVWXYZ

This page was generated on 2025-11-21 11:38 -0500 (Fri, 21 Nov 2025).

HostnameOSArch (*)R versionInstalled pkgs
nebbiolo1Linux (Ubuntu 24.04.3 LTS)x86_64R Under development (unstable) (2025-10-20 r88955) -- "Unsuffered Consequences" 4829
lconwaymacOS 12.7.6 Montereyx86_64R Under development (unstable) (2025-10-21 r88958) -- "Unsuffered Consequences" 4602
kjohnson3macOS 13.7.7 Venturaarm64R Under development (unstable) (2025-11-04 r88984) -- "Unsuffered Consequences" 4566
Click on any hostname to see more info about the system (e.g. compilers)      (*) as reported by 'uname -p', except on Windows and Mac OS X

Package 624/2327HostnameOS / ArchINSTALLBUILDCHECKBUILD BIN
DspikeIn 1.1.0  (landing page)
Mitra Ghotbi
Snapshot Date: 2025-11-20 13:40 -0500 (Thu, 20 Nov 2025)
git_url: https://git.bioconductor.org/packages/DspikeIn
git_branch: devel
git_last_commit: 18fc5b8
git_last_commit_date: 2025-10-29 11:39:12 -0500 (Wed, 29 Oct 2025)
nebbiolo1Linux (Ubuntu 24.04.3 LTS) / x86_64  OK    OK    OK  UNNEEDED, same version is already published
lconwaymacOS 12.7.6 Monterey / x86_64  OK    OK    OK    OK  NO, package depends on 'DESeq2' which is only available as a source package that needs compilation
kjohnson3macOS 13.7.7 Ventura / arm64  OK    OK    OK    OK  NO, package depends on 'DESeq2' which is only available as a source package that needs compilation


CHECK results for DspikeIn on lconway

To the developers/maintainers of the DspikeIn package:
- Allow up to 24 hours (and sometimes 48 hours) for your latest push to git@git.bioconductor.org:packages/DspikeIn.git to reflect on this report. See Troubleshooting Build Report for more information.
- Use the following Renviron settings to reproduce errors and warnings.
- If 'R CMD check' started to fail recently on the Linux builder(s) over a missing dependency, add the missing dependency to 'Suggests:' in your DESCRIPTION file. See Renviron.bioc for more information.

raw results


Summary

Package: DspikeIn
Version: 1.1.0
Command: /Library/Frameworks/R.framework/Resources/bin/R CMD check --install=check:DspikeIn.install-out.txt --library=/Library/Frameworks/R.framework/Resources/library --no-vignettes --timings DspikeIn_1.1.0.tar.gz
StartedAt: 2025-11-20 20:52:30 -0500 (Thu, 20 Nov 2025)
EndedAt: 2025-11-20 21:02:41 -0500 (Thu, 20 Nov 2025)
EllapsedTime: 611.0 seconds
RetCode: 0
Status:   OK  
CheckDir: DspikeIn.Rcheck
Warnings: 0

Command output

##############################################################################
##############################################################################
###
### Running command:
###
###   /Library/Frameworks/R.framework/Resources/bin/R CMD check --install=check:DspikeIn.install-out.txt --library=/Library/Frameworks/R.framework/Resources/library --no-vignettes --timings DspikeIn_1.1.0.tar.gz
###
##############################################################################
##############################################################################


* using log directory ‘/Users/biocbuild/bbs-3.23-bioc/meat/DspikeIn.Rcheck’
* using R Under development (unstable) (2025-10-21 r88958)
* using platform: x86_64-apple-darwin20
* R was compiled by
    Apple clang version 14.0.0 (clang-1400.0.29.202)
    GNU Fortran (GCC) 14.2.0
* running under: macOS Ventura 13.7.8
* using session charset: UTF-8
* using option ‘--no-vignettes’
* checking for file ‘DspikeIn/DESCRIPTION’ ... OK
* checking extension type ... Package
* this is package ‘DspikeIn’ version ‘1.1.0’
* package encoding: UTF-8
* checking package namespace information ... OK
* checking package dependencies ... INFO
Imports includes 38 non-default packages.
Importing from so many packages makes the package vulnerable to any of
them becoming unavailable.  Move as many as possible to Suggests and
use conditionally.
* checking if this is a source package ... OK
* checking if there is a namespace ... OK
* checking for hidden files and directories ... OK
* checking for portable file names ... OK
* checking for sufficient/correct file permissions ... OK
* checking whether package ‘DspikeIn’ can be installed ... OK
* checking installed package size ... OK
* checking package directory ... OK
* checking ‘build’ directory ... OK
* checking DESCRIPTION meta-information ... OK
* checking top-level files ... OK
* checking for left-over files ... OK
* checking index information ... OK
* checking package subdirectories ... OK
* checking code files for non-ASCII characters ... OK
* checking R files for syntax errors ... OK
* checking whether the package can be loaded ... OK
* checking whether the package can be loaded with stated dependencies ... OK
* checking whether the package can be unloaded cleanly ... OK
* checking whether the namespace can be loaded with stated dependencies ... OK
* checking whether the namespace can be unloaded cleanly ... OK
* checking whether startup messages can be suppressed ... OK
* checking dependencies in R code ... OK
* checking S3 generic/method consistency ... OK
* checking replacement functions ... OK
* checking foreign function calls ... OK
* checking R code for possible problems ... OK
* checking Rd files ... OK
* checking Rd metadata ... OK
* checking Rd cross-references ... NOTE
Non-topic package-anchored link(s) in Rd file 'label.Rd':
  ‘[phyloseq:tax_table-methods]{phyloseq::tax_table()}’

See section 'Cross-references' in the 'Writing R Extensions' manual.
* checking for missing documentation entries ... OK
* checking for code/documentation mismatches ... OK
* checking Rd \usage sections ... OK
* checking Rd contents ... OK
* checking for unstated dependencies in examples ... OK
* checking contents of ‘data’ directory ... OK
* checking data for non-ASCII characters ... OK
* checking LazyData ... OK
* checking data for ASCII and uncompressed saves ... OK
* checking files in ‘vignettes’ ... OK
* checking examples ... OK
Examples with CPU (user + system) or elapsed time > 5s
                                       user system elapsed
taxa_barplot                         44.907  1.529  46.755
plot_core_microbiome_custom          29.938  0.773  30.905
RandomForest_selected                21.301  0.702  22.212
summ_ASV_OTUID                       18.612  0.441  19.203
convert_to_absolute_counts           12.165  0.346  12.605
node_level_metrics                   12.165  0.246  12.537
calculate_spike_percentage            9.118  0.795  10.019
Pre_processing_hashcodes              8.703  0.258   9.028
quadrant_plot                         8.320  0.214   8.580
ridge_plot_it                         6.911  0.214   7.175
random_subsample_WithReductionFactor  5.026  1.173   6.530
normalization_set                     5.311  0.359   5.715
alluvial_plot                         5.057  0.196   5.290
calculate_spikeIn_factors             4.843  0.189   5.083
* checking for unstated dependencies in ‘tests’ ... OK
* checking tests ...
  Running ‘testthat.R’
 OK
* checking for unstated dependencies in vignettes ... OK
* checking package vignettes ... OK
* checking running R code from vignettes ... SKIPPED
* checking re-building of vignette outputs ... SKIPPED
* checking PDF version of manual ... OK
* DONE

Status: 1 NOTE
See
  ‘/Users/biocbuild/bbs-3.23-bioc/meat/DspikeIn.Rcheck/00check.log’
for details.


Installation output

DspikeIn.Rcheck/00install.out

##############################################################################
##############################################################################
###
### Running command:
###
###   /Library/Frameworks/R.framework/Resources/bin/R CMD INSTALL DspikeIn
###
##############################################################################
##############################################################################


* installing to library ‘/Library/Frameworks/R.framework/Versions/4.6-x86_64/Resources/library’
* installing *source* package ‘DspikeIn’ ...
** this is package ‘DspikeIn’ version ‘1.1.0’
** using staged installation
** R
** data
*** moving datasets to lazyload DB
** inst
** byte-compile and prepare package for lazy loading
** help
*** installing help indices
** building package indices
** installing vignettes
** testing if installed package can be loaded from temporary location
** testing if installed package can be loaded from final location
** testing if installed package keeps a record of temporary installation path
* DONE (DspikeIn)

Tests output

DspikeIn.Rcheck/tests/testthat.Rout


R Under development (unstable) (2025-10-21 r88958) -- "Unsuffered Consequences"
Copyright (C) 2025 The R Foundation for Statistical Computing
Platform: x86_64-apple-darwin20

R is free software and comes with ABSOLUTELY NO WARRANTY.
You are welcome to redistribute it under certain conditions.
Type 'license()' or 'licence()' for distribution details.

R is a collaborative project with many contributors.
Type 'contributors()' for more information and
'citation()' on how to cite R or R packages in publications.

Type 'demo()' for some demos, 'help()' for on-line help, or
'help.start()' for an HTML browser interface to help.
Type 'q()' to quit R.

> # This file is part of the standard setup for testthat.
> # It is recommended that you do not modify it.
> #
> # Where should you do additional test configuration?
> # Learn more about the roles of various files in:
> # * https://r-pkgs.org/testing-design.html#sec-tests-files-overview
> # * https://testthat.r-lib.org/articles/special-files.html
> 
> library(testthat)
> library(DspikeIn)

Thank you for using DspikeIn! 🎉
For support, 📧 contact: Mitra Ghotbi (mitra.ghotbi@gmail.com)
GitHub Repository: https://github.com/mghotbi/DspikeIn
🐛 Found a bug or have a suggestion? Open an issue:
  https://github.com/mghotbi/DspikeIn/issues


> 
> test_check("DspikeIn")
[ FAIL 0 | WARN 0 | SKIP 13 | PASS 0 ]

══ Skipped tests (13) ══════════════════════════════════════════════════════════
• On Bioconductor (13): 'test-Pre_processing_species.R:1:1',
  'test-RandomForest_selected.R:1:1', 'test-calculate_spikeIn_factors.R:1:1',
  'test-calculate_spike_percentage.R:1:1',
  'test-calculate_summary_stats_table.R:1:1', 'test-conclusion.R:1:1',
  'test-convert_to_absolute_counts.R:1:1',
  'test-imbalance_calculate_list_average_scaling_factors.R:1:1',
  'test-node_level_metrics.R:1:1', 'test-perform_and_visualize_DA.R:1:1',
  'test-quadrant_plot.R:1:1', 'test-remove_zero_negative_count_samples.R:1:1',
  'test-simulate_robustness.R:1:1'

[ FAIL 0 | WARN 0 | SKIP 13 | PASS 0 ]
> 
> proc.time()
   user  system elapsed 
 14.391   0.963  15.458 

Example timings

DspikeIn.Rcheck/DspikeIn-Ex.timings

nameusersystemelapsed
AcceptableRange1.0180.0241.049
MG_shapes0.6260.0160.648
Pre_processing_hashcodes8.7030.2589.028
Pre_processing_species4.1360.1004.267
Pre_processing_species_list0.3630.0080.374
RandomForest_selected21.301 0.70222.212
adjust_abundance_one_third0.9590.0761.044
adjusted_prevalence1.8170.0591.890
alluvial_plot5.0570.1965.290
calculate_list_average_scaling_factors0.0500.0030.053
calculate_spikeIn_factors4.8430.1895.083
calculate_spike_percentage 9.118 0.79510.019
calculate_spike_percentage_list0.8330.0910.935
calculate_summary_stats_table0.1630.0080.175
color_palette0.5210.0080.534
conclusion2.6430.1862.868
convert_categorical_to_factors0.2820.0330.321
convert_phyloseq_to_tse0.5740.0090.586
convert_to_absolute_counts12.165 0.34612.605
convert_tse_to_phyloseq0.9410.0611.008
create_directory0.0010.0000.001
degree_network4.3880.1954.632
detect_common_asvs_taxa000
extract_neighbors0.0250.0040.030
filter_and_split_abundance2.8020.0912.910
get_long_format_data0.6780.0400.725
gm_mean0.0000.0000.001
imbalance_calculate_list_average_scaling_factors0.1600.0030.166
label0.0430.0010.045
metadata_full0.0240.0060.030
my_custom_theme0.4790.0060.490
node_level_metrics12.165 0.24612.537
norm.DESeq3.1180.1463.280
normalization_set5.3110.3595.715
perform_and_visualize_DA000
physeq0.0410.0020.043
physeq_16SOTU0.2150.0870.303
physeq_ITSOTU0.2430.1010.351
plot_core_microbiome_custom29.938 0.77330.905
plot_spikein_tree_diagnostic0.0010.0010.001
plotbar_abundance0.0000.0010.001
proportion_adj4.7500.1384.914
quadrant_plot8.3200.2148.580
random_subsample_WithReductionFactor5.0261.1736.530
randomsubsample_Trimmed_evenDepth2.9720.1533.530
regression_plot1.1980.0451.255
relativized_filtered_taxa0.3420.0040.347
remove_zero_negative_count_samples0.4120.0350.448
ridge_plot_it6.9110.2147.175
set_nf0.2380.0040.245
simulate_network_robustness3.2280.1033.352
summ_ASV_OTUID18.612 0.44119.203
summ_count_phyloseq1.0960.0101.112
summ_phyloseq_sampleID3.2200.8984.156
taxa_barplot44.907 1.52946.755
tidy_phyloseq_tse2.6010.0612.679
tse0.0450.0030.047
validate_spikein_clade0.6590.0260.694
weight_Network2.8230.1322.969