| Back to Multiple platform build/check report for BioC 3.22: simplified long |
|
This page was generated on 2025-08-15 12:06 -0400 (Fri, 15 Aug 2025).
| Hostname | OS | Arch (*) | R version | Installed pkgs |
|---|---|---|---|---|
| nebbiolo2 | Linux (Ubuntu 24.04.3 LTS) | x86_64 | 4.5.1 (2025-06-13) -- "Great Square Root" | 4818 |
| palomino8 | Windows Server 2022 Datacenter | x64 | 4.5.1 (2025-06-13 ucrt) -- "Great Square Root" | 4554 |
| lconway | macOS 12.7.1 Monterey | x86_64 | 4.5.1 (2025-06-13) -- "Great Square Root" | 4595 |
| kjohnson3 | macOS 13.7.7 Ventura | arm64 | 4.5.1 Patched (2025-06-14 r88325) -- "Great Square Root" | 4537 |
| taishan | Linux (openEuler 24.03 LTS) | aarch64 | 4.5.0 (2025-04-11) -- "How About a Twenty-Six" | 4535 |
| Click on any hostname to see more info about the system (e.g. compilers) (*) as reported by 'uname -p', except on Windows and Mac OS X | ||||
| Package 607/2317 | Hostname | OS / Arch | INSTALL | BUILD | CHECK | BUILD BIN | ||||||||
| Doscheda 1.31.0 (landing page) Bruno Contrino
| nebbiolo2 | Linux (Ubuntu 24.04.3 LTS) / x86_64 | OK | OK | OK | |||||||||
| palomino8 | Windows Server 2022 Datacenter / x64 | OK | OK | OK | OK | |||||||||
| lconway | macOS 12.7.1 Monterey / x86_64 | OK | OK | OK | OK | |||||||||
| kjohnson3 | macOS 13.7.7 Ventura / arm64 | OK | OK | OK | OK | |||||||||
| taishan | Linux (openEuler 24.03 LTS) / aarch64 | OK | OK | OK | ||||||||||
|
To the developers/maintainers of the Doscheda package: - Allow up to 24 hours (and sometimes 48 hours) for your latest push to git@git.bioconductor.org:packages/Doscheda.git to reflect on this report. See Troubleshooting Build Report for more information. - Use the following Renviron settings to reproduce errors and warnings. - If 'R CMD check' started to fail recently on the Linux builder(s) over a missing dependency, add the missing dependency to 'Suggests:' in your DESCRIPTION file. See Renviron.bioc for more information. |
| Package: Doscheda |
| Version: 1.31.0 |
| Command: F:\biocbuild\bbs-3.22-bioc\R\bin\R.exe CMD check --no-multiarch --install=check:Doscheda.install-out.txt --library=F:\biocbuild\bbs-3.22-bioc\R\library --no-vignettes --timings Doscheda_1.31.0.tar.gz |
| StartedAt: 2025-08-15 02:45:01 -0400 (Fri, 15 Aug 2025) |
| EndedAt: 2025-08-15 02:48:46 -0400 (Fri, 15 Aug 2025) |
| EllapsedTime: 225.2 seconds |
| RetCode: 0 |
| Status: OK |
| CheckDir: Doscheda.Rcheck |
| Warnings: 0 |
##############################################################################
##############################################################################
###
### Running command:
###
### F:\biocbuild\bbs-3.22-bioc\R\bin\R.exe CMD check --no-multiarch --install=check:Doscheda.install-out.txt --library=F:\biocbuild\bbs-3.22-bioc\R\library --no-vignettes --timings Doscheda_1.31.0.tar.gz
###
##############################################################################
##############################################################################
* using log directory 'F:/biocbuild/bbs-3.22-bioc/meat/Doscheda.Rcheck'
* using R version 4.5.1 (2025-06-13 ucrt)
* using platform: x86_64-w64-mingw32
* R was compiled by
gcc.exe (GCC) 14.2.0
GNU Fortran (GCC) 14.2.0
* running under: Windows Server 2022 x64 (build 20348)
* using session charset: UTF-8
* using option '--no-vignettes'
* checking for file 'Doscheda/DESCRIPTION' ... OK
* checking extension type ... Package
* this is package 'Doscheda' version '1.31.0'
* package encoding: UTF-8
* checking package namespace information ... OK
* checking package dependencies ... OK
* checking if this is a source package ... OK
* checking if there is a namespace ... OK
* checking for hidden files and directories ... OK
* checking for portable file names ... OK
* checking whether package 'Doscheda' can be installed ... OK
* checking installed package size ... OK
* checking package directory ... OK
* checking 'build' directory ... OK
* checking DESCRIPTION meta-information ... OK
* checking top-level files ... OK
* checking for left-over files ... OK
* checking index information ... OK
* checking package subdirectories ... OK
* checking code files for non-ASCII characters ... OK
* checking R files for syntax errors ... OK
* checking whether the package can be loaded ... OK
* checking whether the package can be loaded with stated dependencies ... OK
* checking whether the package can be unloaded cleanly ... OK
* checking whether the namespace can be loaded with stated dependencies ... OK
* checking whether the namespace can be unloaded cleanly ... OK
* checking dependencies in R code ... OK
* checking S3 generic/method consistency ... OK
* checking replacement functions ... OK
* checking foreign function calls ... OK
* checking R code for possible problems ... OK
* checking Rd files ... OK
* checking Rd metadata ... NOTE
Invalid package aliases in Rd file 'doscheda.Rd':
'doscheda-package'
* checking Rd cross-references ... OK
* checking for missing documentation entries ... OK
* checking for code/documentation mismatches ... OK
* checking Rd \usage sections ... OK
* checking Rd contents ... OK
* checking for unstated dependencies in examples ... OK
* checking contents of 'data' directory ... OK
* checking data for non-ASCII characters ... OK
* checking LazyData ... OK
* checking data for ASCII and uncompressed saves ... OK
* checking files in 'vignettes' ... OK
* checking examples ... OK
Examples with CPU (user + system) or elapsed time > 5s
user system elapsed
fitModel-methods 29.31 1.67 34.85
runDoscheda 22.69 0.36 24.95
pcaPlot-methods 5.03 0.09 8.63
runNormalisation-methods 3.04 0.47 5.11
corrPlot-methods 3.01 0.12 6.81
* checking for unstated dependencies in 'tests' ... OK
* checking tests ...
Running 'testthat.R'
OK
* checking for unstated dependencies in vignettes ... OK
* checking package vignettes ... OK
* checking running R code from vignettes ... SKIPPED
* checking re-building of vignette outputs ... SKIPPED
* checking PDF version of manual ... OK
* DONE
Status: 1 NOTE
See
'F:/biocbuild/bbs-3.22-bioc/meat/Doscheda.Rcheck/00check.log'
for details.
Doscheda.Rcheck/00install.out
############################################################################## ############################################################################## ### ### Running command: ### ### F:\biocbuild\bbs-3.22-bioc\R\bin\R.exe CMD INSTALL Doscheda ### ############################################################################## ############################################################################## * installing to library 'F:/biocbuild/bbs-3.22-bioc/R/library' * installing *source* package 'Doscheda' ... ** this is package 'Doscheda' version '1.31.0' ** using staged installation ** R ** data *** moving datasets to lazyload DB ** inst ** byte-compile and prepare package for lazy loading in method for 'getInput' with signature '"ChemoProtSet"': no definition for class "ChemoProtSet" in method for 'getNorm' with signature '"ChemoProtSet"': no definition for class "ChemoProtSet" in method for 'getFinal' with signature '"ChemoProtSet"': no definition for class "ChemoProtSet" in method for 'getParameters' with signature '"ChemoProtSet"': no definition for class "ChemoProtSet" in method for 'getDatasets' with signature '"ChemoProtSet"': no definition for class "ChemoProtSet" in method for 'boxplot' with signature '"ChemoProtSet"': no definition for class "ChemoProtSet" in method for 'corrPlot' with signature '"ChemoProtSet"': no definition for class "ChemoProtSet" in method for 'densityPlot' with signature '"ChemoProtSet"': no definition for class "ChemoProtSet" Creating a new generic function for 'meanSdPlot' in package 'Doscheda' ** help *** installing help indices ** building package indices ** installing vignettes ** testing if installed package can be loaded from temporary location ** testing if installed package can be loaded from final location ** testing if installed package keeps a record of temporary installation path * DONE (Doscheda)
Doscheda.Rcheck/tests/testthat.Rout
R version 4.5.1 (2025-06-13 ucrt) -- "Great Square Root"
Copyright (C) 2025 The R Foundation for Statistical Computing
Platform: x86_64-w64-mingw32/x64
R is free software and comes with ABSOLUTELY NO WARRANTY.
You are welcome to redistribute it under certain conditions.
Type 'license()' or 'licence()' for distribution details.
R is a collaborative project with many contributors.
Type 'contributors()' for more information and
'citation()' on how to cite R or R packages in publications.
Type 'demo()' for some demos, 'help()' for on-line help, or
'help.start()' for an HTML browser interface to help.
Type 'q()' to quit R.
> library(testthat)
> library(Doscheda)
>
> test_check("Doscheda")
[ FAIL 0 | WARN 0 | SKIP 0 | PASS 1 ]
>
> proc.time()
user system elapsed
5.20 0.43 7.70
Doscheda.Rcheck/Doscheda-Ex.timings
| name | user | system | elapsed | |
| corrPlot-methods | 3.01 | 0.12 | 6.81 | |
| densityPlot-methods | 2.36 | 0.06 | 4.30 | |
| doschedaData | 0.03 | 0.00 | 0.03 | |
| fitModel-methods | 29.31 | 1.67 | 34.85 | |
| getDatasets-methods | 0 | 0 | 0 | |
| getFinal-methods | 0 | 0 | 0 | |
| getInput-methods | 0 | 0 | 0 | |
| getNorm-methods | 0 | 0 | 0 | |
| getParameters-methods | 0 | 0 | 0 | |
| makeReport | 0 | 0 | 0 | |
| meanSdPlot-methods | 2.33 | 0.15 | 4.41 | |
| pcaPlot-methods | 5.03 | 0.09 | 8.63 | |
| processedExample | 0.05 | 0.01 | 0.06 | |
| removePeptides-methods | 0 | 0 | 0 | |
| replicatePlot-methods | 2.37 | 0.02 | 3.95 | |
| runDoscheda | 22.69 | 0.36 | 24.95 | |
| runNormalisation-methods | 3.04 | 0.47 | 5.11 | |
| setData-methods | 1.05 | 0.28 | 1.33 | |
| setParameters-methods | 0.00 | 0.02 | 0.02 | |
| volcanoPlot-methods | 2.14 | 0.01 | 4.04 | |