| Back to Multiple platform build/check report for BioC 3.22: simplified long |
|
This page was generated on 2025-08-15 12:06 -0400 (Fri, 15 Aug 2025).
| Hostname | OS | Arch (*) | R version | Installed pkgs |
|---|---|---|---|---|
| nebbiolo2 | Linux (Ubuntu 24.04.3 LTS) | x86_64 | 4.5.1 (2025-06-13) -- "Great Square Root" | 4818 |
| palomino8 | Windows Server 2022 Datacenter | x64 | 4.5.1 (2025-06-13 ucrt) -- "Great Square Root" | 4554 |
| lconway | macOS 12.7.1 Monterey | x86_64 | 4.5.1 (2025-06-13) -- "Great Square Root" | 4595 |
| kjohnson3 | macOS 13.7.7 Ventura | arm64 | 4.5.1 Patched (2025-06-14 r88325) -- "Great Square Root" | 4537 |
| taishan | Linux (openEuler 24.03 LTS) | aarch64 | 4.5.0 (2025-04-11) -- "How About a Twenty-Six" | 4535 |
| Click on any hostname to see more info about the system (e.g. compilers) (*) as reported by 'uname -p', except on Windows and Mac OS X | ||||
| Package 603/2317 | Hostname | OS / Arch | INSTALL | BUILD | CHECK | BUILD BIN | ||||||||
| DNEA 0.99.14 (landing page) Christopher Patsalis
| nebbiolo2 | Linux (Ubuntu 24.04.3 LTS) / x86_64 | OK | OK | OK | |||||||||
| palomino8 | Windows Server 2022 Datacenter / x64 | OK | OK | OK | OK | |||||||||
| lconway | macOS 12.7.1 Monterey / x86_64 | OK | OK | OK | OK | |||||||||
| kjohnson3 | macOS 13.7.7 Ventura / arm64 | OK | OK | OK | OK | |||||||||
| taishan | Linux (openEuler 24.03 LTS) / aarch64 | OK | OK | OK | ||||||||||
|
To the developers/maintainers of the DNEA package: - Allow up to 24 hours (and sometimes 48 hours) for your latest push to git@git.bioconductor.org:packages/DNEA.git to reflect on this report. See Troubleshooting Build Report for more information. - Use the following Renviron settings to reproduce errors and warnings. - If 'R CMD check' started to fail recently on the Linux builder(s) over a missing dependency, add the missing dependency to 'Suggests:' in your DESCRIPTION file. See Renviron.bioc for more information. |
| Package: DNEA |
| Version: 0.99.14 |
| Command: F:\biocbuild\bbs-3.22-bioc\R\bin\R.exe CMD check --no-multiarch --install=check:DNEA.install-out.txt --library=F:\biocbuild\bbs-3.22-bioc\R\library --no-vignettes --timings DNEA_0.99.14.tar.gz |
| StartedAt: 2025-08-15 02:44:23 -0400 (Fri, 15 Aug 2025) |
| EndedAt: 2025-08-15 02:59:05 -0400 (Fri, 15 Aug 2025) |
| EllapsedTime: 881.4 seconds |
| RetCode: 0 |
| Status: OK |
| CheckDir: DNEA.Rcheck |
| Warnings: 0 |
##############################################################################
##############################################################################
###
### Running command:
###
### F:\biocbuild\bbs-3.22-bioc\R\bin\R.exe CMD check --no-multiarch --install=check:DNEA.install-out.txt --library=F:\biocbuild\bbs-3.22-bioc\R\library --no-vignettes --timings DNEA_0.99.14.tar.gz
###
##############################################################################
##############################################################################
* using log directory 'F:/biocbuild/bbs-3.22-bioc/meat/DNEA.Rcheck'
* using R version 4.5.1 (2025-06-13 ucrt)
* using platform: x86_64-w64-mingw32
* R was compiled by
gcc.exe (GCC) 14.2.0
GNU Fortran (GCC) 14.2.0
* running under: Windows Server 2022 x64 (build 20348)
* using session charset: UTF-8
* using option '--no-vignettes'
* checking for file 'DNEA/DESCRIPTION' ... OK
* this is package 'DNEA' version '0.99.14'
* package encoding: UTF-8
* checking package namespace information ... OK
* checking package dependencies ... INFO
Package which this enhances but not available for checking: 'massdataset'
* checking if this is a source package ... OK
* checking if there is a namespace ... OK
* checking for hidden files and directories ... OK
* checking for portable file names ... OK
* checking whether package 'DNEA' can be installed ... OK
* checking installed package size ... OK
* checking package directory ... OK
* checking 'build' directory ... OK
* checking DESCRIPTION meta-information ... OK
* checking top-level files ... OK
* checking for left-over files ... OK
* checking index information ... OK
* checking package subdirectories ... NOTE
Problems with news in 'NEWS.md':
Cannot extract version info from the following section titles:
DNEA v.0.99.12
* checking code files for non-ASCII characters ... OK
* checking R files for syntax errors ... OK
* checking whether the package can be loaded ... OK
* checking whether the package can be loaded with stated dependencies ... OK
* checking whether the package can be unloaded cleanly ... OK
* checking whether the namespace can be loaded with stated dependencies ... OK
* checking whether the namespace can be unloaded cleanly ... OK
* checking dependencies in R code ... OK
* checking S3 generic/method consistency ... OK
* checking replacement functions ... OK
* checking foreign function calls ... OK
* checking R code for possible problems ... OK
* checking Rd files ... OK
* checking Rd metadata ... OK
* checking Rd cross-references ... NOTE
Found the following Rd file(s) with Rd \link{} targets missing package
anchors:
BICtune-methods.Rd: BiocParallel
adjacencyGraph-methods.Rd: igraph
clusterNet.Rd: igraph
consensusClusteringResults-class.Rd: igraph
getNetworks.Rd: BiocParallel
Please provide package anchors for all Rd \link{} targets not in the
package itself and the base packages.
* checking for missing documentation entries ... OK
* checking for code/documentation mismatches ... OK
* checking Rd \usage sections ... OK
* checking Rd contents ... OK
* checking for unstated dependencies in examples ... OK
* checking contents of 'data' directory ... OK
* checking data for non-ASCII characters ... OK
* checking data for ASCII and uncompressed saves ... OK
* checking files in 'vignettes' ... OK
* checking examples ... OK
Examples with CPU (user + system) or elapsed time > 5s
user system elapsed
BICtune-methods 4.14 0.11 42.89
stabilitySelection 3.55 0.16 59.36
* checking for unstated dependencies in 'tests' ... OK
* checking tests ...
Running 'testthat.R'
OK
* checking for unstated dependencies in vignettes ... OK
* checking package vignettes ... OK
* checking running R code from vignettes ... SKIPPED
* checking re-building of vignette outputs ... SKIPPED
* checking PDF version of manual ... OK
* DONE
Status: 2 NOTEs
See
'F:/biocbuild/bbs-3.22-bioc/meat/DNEA.Rcheck/00check.log'
for details.
DNEA.Rcheck/00install.out
############################################################################## ############################################################################## ### ### Running command: ### ### F:\biocbuild\bbs-3.22-bioc\R\bin\R.exe CMD INSTALL DNEA ### ############################################################################## ############################################################################## * installing to library 'F:/biocbuild/bbs-3.22-bioc/R/library' * installing *source* package 'DNEA' ... ** this is package 'DNEA' version '0.99.14' ** using staged installation ** R ** data ** inst ** byte-compile and prepare package for lazy loading ** help *** installing help indices ** building package indices ** installing vignettes ** testing if installed package can be loaded from temporary location ** testing if installed package can be loaded from final location ** testing if installed package keeps a record of temporary installation path * DONE (DNEA)
DNEA.Rcheck/tests/testthat.Rout
R version 4.5.1 (2025-06-13 ucrt) -- "Great Square Root"
Copyright (C) 2025 The R Foundation for Statistical Computing
Platform: x86_64-w64-mingw32/x64
R is free software and comes with ABSOLUTELY NO WARRANTY.
You are welcome to redistribute it under certain conditions.
Type 'license()' or 'licence()' for distribution details.
R is a collaborative project with many contributors.
Type 'contributors()' for more information and
'citation()' on how to cite R or R packages in publications.
Type 'demo()' for some demos, 'help()' for on-line help, or
'help.start()' for an HTML browser interface to help.
Type 'q()' to quit R.
> # This file is part of the standard setup for testthat.
> # It is recommended that you do not modify it.
> #
> # Where should you do additional test configuration?
> # Learn more about the roles of various files in:
> # * https://r-pkgs.org/testing-design.html#sec-tests-files-overview
> # * https://testthat.r-lib.org/articles/special-files.html
>
> library(testthat)
> library(DNEA)
>
> test_check("DNEA")
Optimizing the lambda hyperparameter using Bayesian-Information Criterion outlined in Guo et al. (2011)
A Link to this reference can be found in the function documentation by running ?BICtune() in the console.
The log_scaled_data expression data will be used for analysis.
Provided lambda values will be used for optimization...
Optimizing the lambda hyperparameter using Bayesian-Information Criterion outlined in Guo et al. (2011)
A Link to this reference can be found in the function documentation by running ?BICtune() in the console.
The log_scaled_data expression data will be used for analysis.
Provided lambda values will be used for optimization...
The raw peak intensity data was used for aggregation
The aggregated log-scaled data is in the @assay slot
(The orginal DNEA object can be found in the @original_experiment slot)
Data has been normalized for further analysis. New data can be found in the log_scaled_data assay!
Data diagnostics was performed on log_scaled_data assay. To check a different assay, please specify the assay parameter.
Diagnostic criteria are as follows:
DNEAinputSummary
Number of Samples - 322
Number of Features - 83
min_eigen condition_num
all_data 9.870990e-02 7.028033e+01
DM:control 8.577548e-02 8.229973e+01
DM:case -1.922615e-15 1.487199e+18
The log_scaled_data expression data will be used for analysis.
The log_scaled_data expression data will be used for analysis.
The log_scaled_data expression data will be used for analysis.
The log_scaled_data expression data will be used for analysis.
Optimizing the lambda hyperparameter using Bayesian-Information Criterion outlined in Guo et al. (2011)
A Link to this reference can be found in the function documentation by running ?BICtune() in the console
NOTE: if your dataset contains fewer than ~500 samples per experimental condition, consider setting "aprox=TRUE". This will provide more reliable results
TUNING LAMBDA FOR DM:control!:
--------------------------------------------------
Estimating optimal c constant range for asymptotic lambda...
Fine-tuning Lambda...
The optimal Lambda hyper-parameter has been set to: 0.0199548849358947!
TUNING LAMBDA FOR DM:case!:
--------------------------------------------------
Estimating optimal c constant range for asymptotic lambda...
Fine-tuning Lambda...
The optimal Lambda hyper-parameter has been set to: 0.0495095483188967!
selection_probabilites from stability selection will be used in glasso model!
Estimating model for DM:control...using 0.0199548849358947 for lambda...
model estimated!
Estimating model for DM:case...using 0.0495095483188967 for lambda...
model estimated!
DM:control network specific edges: 463
DM:case network specific edges: 423
-----------------------------------
Number of edges shared by both networks: 434
Total number of edges in dataset: 1320
The log_scaled_data expression data will be used for analysis.
Optimizing the lambda hyperparameter using Bayesian-Information Criterion outlined in Guo et al. (2011)
A Link to this reference can be found in the function documentation by running ?BICtune() in the console
NOTE: if your dataset contains fewer than ~500 samples per experimental condition, consider setting "aprox=TRUE". This will provide more reliable results
TUNING LAMBDA FOR DM:control!:
--------------------------------------------------
Estimating optimal c constant range for asymptotic lambda...
Fine-tuning Lambda...
The optimal Lambda hyper-parameter has been set to: 0.0199548849358947!
TUNING LAMBDA FOR DM:case!:
--------------------------------------------------
Estimating optimal c constant range for asymptotic lambda...
Fine-tuning Lambda...
The optimal Lambda hyper-parameter has been set to: 0.0495095483188967!
selection_probabilites from stability selection will be used in glasso model!
Estimating model for DM:control...using 0.0199548849358947 for lambda...
model estimated!
Estimating model for DM:case...using 0.0495095483188967 for lambda...
model estimated!
DM:control network specific edges: 463
DM:case network specific edges: 423
-----------------------------------
Number of edges shared by both networks: 434
Total number of edges in dataset: 1320
The log_input_data expression data will be used for analysis.
The log_input_data expression data will be used for analysis.
Vectors to compare are not the same length!
Vectors to compare are not the same length!
DM:control network specific edges: 11
DM:case network specific edges: 7
-----------------------------------
Number of edges shared by both networks: 10
Total number of edges in dataset: 28
DM:control network specific edges: 11
DM:case network specific edges: 7
-----------------------------------
Number of edges shared by both networks: 10
Total number of edges in dataset: 28
[ FAIL 0 | WARN 1 | SKIP 0 | PASS 53 ]
[ FAIL 0 | WARN 1 | SKIP 0 | PASS 53 ]
>
> proc.time()
user system elapsed
29.76 1.62 478.11
DNEA.Rcheck/DNEA-Ex.timings
| name | user | system | elapsed | |
| BICscores-methods | 0.23 | 0.12 | 0.35 | |
| BICtune-methods | 4.14 | 0.11 | 42.89 | |
| CCsummary-methods | 0.26 | 0.07 | 0.33 | |
| DNEA-class | 0.91 | 0.03 | 0.93 | |
| DNEAinputSummary-class | 1.14 | 0.08 | 1.22 | |
| addExpressionData | 0.86 | 0.09 | 0.96 | |
| adjacencyGraph-methods | 0.28 | 0.12 | 0.40 | |
| adjacencyMatrix-methods | 0.33 | 0.30 | 0.63 | |
| aggregateFeatures | 2.86 | 0.13 | 2.98 | |
| clusterNet | 4.09 | 0.18 | 4.28 | |
| collapsed_DNEA-class | 2.83 | 0.14 | 2.97 | |
| createDNEAobject | 0.98 | 0.05 | 1.03 | |
| datasetSummary-methods | 1.14 | 0.11 | 1.25 | |
| diagnostics-methods | 2.03 | 0.06 | 2.10 | |
| edgeList-methods | 0.25 | 0.07 | 0.31 | |
| expressionData-methods | 1.55 | 0.56 | 2.11 | |
| featureNames-methods | 1.14 | 0.06 | 1.20 | |
| filterNetworks-methods | 0.35 | 0.05 | 0.39 | |
| getNetworkFiles | 0.17 | 0.11 | 0.28 | |
| getNetworks | 0.40 | 0.07 | 0.49 | |
| includeMetadata | 0.99 | 0.08 | 1.07 | |
| lambdas2Test-methods | 1.09 | 0.10 | 1.18 | |
| massDataset2DNEA | 0.05 | 0.01 | 0.07 | |
| metaData-methods | 0.83 | 0.06 | 0.89 | |
| netGSAresults-methods | 0.31 | 0.04 | 0.34 | |
| networkGroupIDs-methods | 0.92 | 0.06 | 0.98 | |
| networkGroups-methods | 1.06 | 0.06 | 1.12 | |
| nodeList-methods | 1.00 | 0.08 | 1.08 | |
| numFeatures-methods | 0.89 | 0.08 | 0.97 | |
| numSamples-methods | 0.95 | 0.08 | 1.03 | |
| optimizedLambda-methods | 1.02 | 0.04 | 1.07 | |
| plotNetworks | 0.26 | 0.06 | 0.32 | |
| projectName-methods | 1.15 | 0.00 | 1.14 | |
| runNetGSA | 2.54 | 0.25 | 2.83 | |
| sampleNames-methods | 1.00 | 0.13 | 1.13 | |
| selectionProbabilities-methods | 0.31 | 0.19 | 0.50 | |
| selectionResults-methods | 0.38 | 0.23 | 0.61 | |
| stabilitySelection | 3.55 | 0.16 | 59.36 | |
| subnetworkMembership-methods | 0.26 | 0.06 | 0.32 | |
| sumExp2DNEA | 2.44 | 0.11 | 2.99 | |