Back to Build/check report for BioC 3.23:   simplified   long
ABC[D]EFGHIJKLMNOPQRSTUVWXYZ

This page was generated on 2025-10-30 11:31 -0400 (Thu, 30 Oct 2025).

HostnameOSArch (*)R versionInstalled pkgs
nebbiolo1Linux (Ubuntu 24.04.3 LTS)x86_64R Under development (unstable) (2025-10-20 r88955) -- "Unsuffered Consequences" 4427
Click on any hostname to see more info about the system (e.g. compilers)      (*) as reported by 'uname -p', except on Windows and Mac OS X

All results for package DNAcopy


To the developers/maintainers of the DNAcopy package:
- Allow up to 24 hours (and sometimes 48 hours) for your latest push to git@git.bioconductor.org:packages/DNAcopy.git to reflect on this report. See Troubleshooting Build Report for more information.
- Use the following Renviron settings to reproduce errors and warnings.
- If 'R CMD check' started to fail recently on the Linux builder(s) over a missing dependency, add the missing dependency to 'Suggests:' in your DESCRIPTION file. See Renviron.bioc for more information.

raw results

Package 601/2321HostnameOS / ArchINSTALLBUILDCHECKBUILD BIN
DNAcopy 1.85.0  (landing page)
Venkatraman E. Seshan
Snapshot Date: 2025-10-29 21:55 -0400 (Wed, 29 Oct 2025)
git_url: https://git.bioconductor.org/packages/DNAcopy
git_branch: devel
git_last_commit: a82e7ed
git_last_commit_date: 2025-10-29 09:54:58 -0400 (Wed, 29 Oct 2025)
nebbiolo1Linux (Ubuntu 24.04.3 LTS) / x86_64  OK    OK    OK  YES



Results for Bioconductor software packages that depend directly on package DNAcopy

QUICK STATSOS / ArchINSTALLBUILDCHECKBUILD BIN
nebbiolo1Linux (Ubuntu 24.04.3 LTS) / x86_64
0513
0810
0028
Package 1/18HostnameOS / ArchINSTALLBUILDCHECKBUILD BIN
ADaCGH2 2.51.0  (landing page)
Ramon Diaz-Uriarte
git_last_commit: 90648f4
git_last_commit_date: 2025-10-29 10:06:05 -0400
nebbiolo1Linux (Ubuntu 24.04.3 LTS) / x86_64  OK    OK    OK  NO, package depends on 'tilingArray' which is not available
Package 2/18HostnameOS / ArchINSTALLBUILDCHECKBUILD BIN
CGHcall 2.73.0  (landing page)
Mark van de Wiel
git_last_commit: 0cacd10
git_last_commit_date: 2025-10-29 09:59:47 -0400
nebbiolo1Linux (Ubuntu 24.04.3 LTS) / x86_64  OK    OK    WARNINGS  YES
Package 3/18HostnameOS / ArchINSTALLBUILDCHECKBUILD BIN
cghMCR 1.69.0  (landing page)
J. Zhang
git_last_commit: 310f992
git_last_commit_date: 2025-10-29 09:57:58 -0400
nebbiolo1Linux (Ubuntu 24.04.3 LTS) / x86_64  OK    OK    WARNINGS  NO, package depends on 'CNTools' which is not available
Package 4/18HostnameOS / ArchINSTALLBUILDCHECKBUILD BIN
ChAMP 2.41.0  (landing page)
Yuan Tian
git_last_commit: 8bc9b68
git_last_commit_date: 2025-10-29 10:17:05 -0400
nebbiolo1Linux (Ubuntu 24.04.3 LTS) / x86_64  ERROR    ERROR  skipped
Package 5/18HostnameOS / ArchINSTALLBUILDCHECKBUILD BIN
cn.farms 1.59.0  (landing page)
Andreas Mitterecker
git_last_commit: cd33296
git_last_commit_date: 2025-10-29 10:07:06 -0400
nebbiolo1Linux (Ubuntu 24.04.3 LTS) / x86_64  OK    OK    OK  NO, package depends on 'oligoClasses' which is not available
Package 6/18HostnameOS / ArchINSTALLBUILDCHECKBUILD BIN
CNAnorm 1.57.0  (landing page)
Stefano Berri
git_last_commit: e51424e
git_last_commit_date: 2025-10-29 10:09:07 -0400
nebbiolo1Linux (Ubuntu 24.04.3 LTS) / x86_64  OK    OK    OK  YES
Package 7/18HostnameOS / ArchINSTALLBUILDCHECKBUILD BIN
CNVrd2 1.49.0  (landing page)
Hoang Tan Nguyen
git_last_commit: 1ed26d8
git_last_commit_date: 2025-10-29 10:17:16 -0400
nebbiolo1Linux (Ubuntu 24.04.3 LTS) / x86_64  OK    OK    OK  NO, package depends on 'VariantAnnotation' which is not available
Package 8/18HostnameOS / ArchINSTALLBUILDCHECKBUILD BIN
conumee 1.45.0  (landing page)
Volker Hovestadt
git_last_commit: 88ddea1
git_last_commit_date: 2025-10-29 10:25:31 -0400
nebbiolo1Linux (Ubuntu 24.04.3 LTS) / x86_64  ERROR    ERROR  skipped
Package 9/18HostnameOS / ArchINSTALLBUILDCHECKBUILD BIN
CRImage 1.59.0  (landing page)
Henrik Failmezger , Yinyin Yuan
git_last_commit: 850c6ef
git_last_commit_date: 2025-10-29 10:05:56 -0400
nebbiolo1Linux (Ubuntu 24.04.3 LTS) / x86_64  OK    OK    OK  YES
Package 10/18HostnameOS / ArchINSTALLBUILDCHECKBUILD BIN
GWASTools 1.57.0  (landing page)
Stephanie M. Gogarten
git_last_commit: 224f71a
git_last_commit_date: 2025-10-29 10:09:16 -0400
nebbiolo1Linux (Ubuntu 24.04.3 LTS) / x86_64  OK    OK    OK  YES
Package 11/18HostnameOS / ArchINSTALLBUILDCHECKBUILD BIN
maftools 2.27.0  (landing page)
Anand Mayakonda
git_last_commit: 5abf2c6
git_last_commit_date: 2025-10-29 10:33:17 -0400
nebbiolo1Linux (Ubuntu 24.04.3 LTS) / x86_64  OK    ERROR  skipped
Package 12/18HostnameOS / ArchINSTALLBUILDCHECKBUILD BIN
MDTS 1.31.0  (landing page)
Jack M.. Fu
git_last_commit: c8a8ac4
git_last_commit_date: 2025-10-29 10:43:45 -0400
nebbiolo1Linux (Ubuntu 24.04.3 LTS) / x86_64  OK    ERROR  skipped
Package 13/18HostnameOS / ArchINSTALLBUILDCHECKBUILD BIN
MEDIPS 1.63.0  (landing page)
Lukas Chavez
git_last_commit: b8a28dc
git_last_commit_date: 2025-10-29 10:06:09 -0400
nebbiolo1Linux (Ubuntu 24.04.3 LTS) / x86_64  OK    ERROR  skipped
Package 14/18HostnameOS / ArchINSTALLBUILDCHECKBUILD BIN
MinimumDistance 1.55.0  (landing page)
Robert Scharpf
git_last_commit: 3e07ba2
git_last_commit_date: 2025-10-29 10:10:57 -0400
nebbiolo1Linux (Ubuntu 24.04.3 LTS) / x86_64  ERROR    ERROR  skipped
Package 15/18HostnameOS / ArchINSTALLBUILDCHECKBUILD BIN
PureCN 2.17.0  (landing page)
Markus Riester
git_last_commit: 3330cff
git_last_commit_date: 2025-10-29 10:31:57 -0400
nebbiolo1Linux (Ubuntu 24.04.3 LTS) / x86_64  OK    OK    OK  NO, package depends on 'VariantAnnotation' which is not available
Package 16/18HostnameOS / ArchINSTALLBUILDCHECKBUILD BIN
QDNAseq 1.47.0  (landing page)
Daoud Sie
git_last_commit: 2bb3c9e
git_last_commit_date: 2025-10-29 10:18:34 -0400
nebbiolo1Linux (Ubuntu 24.04.3 LTS) / x86_64  OK    OK    OK  NO, package depends on 'Seqinfo' which is not available
Package 17/18HostnameOS / ArchINSTALLBUILDCHECKBUILD BIN
rCGH 1.41.0  (landing page)
Frederic Commo
git_last_commit: 1f54d5a
git_last_commit_date: 2025-10-29 10:26:46 -0400
nebbiolo1Linux (Ubuntu 24.04.3 LTS) / x86_64  ERROR    ERROR  skipped
Package 18/18HostnameOS / ArchINSTALLBUILDCHECKBUILD BIN
SCOPE 1.23.0  (landing page)
Rujin Wang
git_last_commit: ba69d58
git_last_commit_date: 2025-10-29 10:56:53 -0400
nebbiolo1Linux (Ubuntu 24.04.3 LTS) / x86_64  ERROR    ERROR  skipped