Back to Build/check report for BioC 3.23:   simplified   long
AB[C]DEFGHIJKLMNOPQRSTUVWXYZ

This page was generated on 2025-11-04 11:32 -0500 (Tue, 04 Nov 2025).

HostnameOSArch (*)R versionInstalled pkgs
nebbiolo1Linux (Ubuntu 24.04.3 LTS)x86_64R Under development (unstable) (2025-10-20 r88955) -- "Unsuffered Consequences" 4788
Click on any hostname to see more info about the system (e.g. compilers)      (*) as reported by 'uname -p', except on Windows and Mac OS X

Package 503/2323HostnameOS / ArchINSTALLBUILDCHECKBUILD BIN
CytoPipeline 1.11.0  (landing page)
Philippe Hauchamps
Snapshot Date: 2025-11-03 13:40 -0500 (Mon, 03 Nov 2025)
git_url: https://git.bioconductor.org/packages/CytoPipeline
git_branch: devel
git_last_commit: 54ed268
git_last_commit_date: 2025-10-29 11:20:49 -0500 (Wed, 29 Oct 2025)
nebbiolo1Linux (Ubuntu 24.04.3 LTS) / x86_64  OK    OK    OK  UNNEEDED, same version is already published


CHECK results for CytoPipeline on nebbiolo1

To the developers/maintainers of the CytoPipeline package:
- Allow up to 24 hours (and sometimes 48 hours) for your latest push to git@git.bioconductor.org:packages/CytoPipeline.git to reflect on this report. See Troubleshooting Build Report for more information.
- Use the following Renviron settings to reproduce errors and warnings.
- If 'R CMD check' started to fail recently on the Linux builder(s) over a missing dependency, add the missing dependency to 'Suggests:' in your DESCRIPTION file. See Renviron.bioc for more information.

raw results


Summary

Package: CytoPipeline
Version: 1.11.0
Command: /home/biocbuild/bbs-3.23-bioc/R/bin/R CMD check --install=check:CytoPipeline.install-out.txt --library=/home/biocbuild/bbs-3.23-bioc/R/site-library --timings CytoPipeline_1.11.0.tar.gz
StartedAt: 2025-11-03 22:19:16 -0500 (Mon, 03 Nov 2025)
EndedAt: 2025-11-03 22:24:12 -0500 (Mon, 03 Nov 2025)
EllapsedTime: 296.4 seconds
RetCode: 0
Status:   OK  
CheckDir: CytoPipeline.Rcheck
Warnings: 0

Command output

##############################################################################
##############################################################################
###
### Running command:
###
###   /home/biocbuild/bbs-3.23-bioc/R/bin/R CMD check --install=check:CytoPipeline.install-out.txt --library=/home/biocbuild/bbs-3.23-bioc/R/site-library --timings CytoPipeline_1.11.0.tar.gz
###
##############################################################################
##############################################################################


* using log directory ‘/home/biocbuild/bbs-3.23-bioc/meat/CytoPipeline.Rcheck’
* using R Under development (unstable) (2025-10-20 r88955)
* using platform: x86_64-pc-linux-gnu
* R was compiled by
    gcc (Ubuntu 13.3.0-6ubuntu2~24.04) 13.3.0
    GNU Fortran (Ubuntu 13.3.0-6ubuntu2~24.04) 13.3.0
* running under: Ubuntu 24.04.3 LTS
* using session charset: UTF-8
* checking for file ‘CytoPipeline/DESCRIPTION’ ... OK
* this is package ‘CytoPipeline’ version ‘1.11.0’
* package encoding: UTF-8
* checking package namespace information ... OK
* checking package dependencies ... OK
* checking if this is a source package ... OK
* checking if there is a namespace ... OK
* checking for hidden files and directories ... OK
* checking for portable file names ... OK
* checking for sufficient/correct file permissions ... OK
* checking whether package ‘CytoPipeline’ can be installed ... OK
* checking installed package size ... OK
* checking package directory ... OK
* checking ‘build’ directory ... OK
* checking DESCRIPTION meta-information ... OK
* checking top-level files ... NOTE
File
  LICENSE
is not mentioned in the DESCRIPTION file.
* checking for left-over files ... OK
* checking index information ... OK
* checking package subdirectories ... OK
* checking code files for non-ASCII characters ... OK
* checking R files for syntax errors ... OK
* checking whether the package can be loaded ... OK
* checking whether the package can be loaded with stated dependencies ... OK
* checking whether the package can be unloaded cleanly ... OK
* checking whether the namespace can be loaded with stated dependencies ... OK
* checking whether the namespace can be unloaded cleanly ... OK
* checking loading without being on the library search path ... OK
* checking dependencies in R code ... OK
* checking S3 generic/method consistency ... OK
* checking replacement functions ... OK
* checking foreign function calls ... OK
* checking R code for possible problems ... OK
* checking Rd files ... OK
* checking Rd metadata ... OK
* checking Rd cross-references ... OK
* checking for missing documentation entries ... OK
* checking for code/documentation mismatches ... OK
* checking Rd \usage sections ... OK
* checking Rd contents ... OK
* checking for unstated dependencies in examples ... OK
* checking contents of ‘data’ directory ... OK
* checking data for non-ASCII characters ... OK
* checking data for ASCII and uncompressed saves ... OK
* checking files in ‘vignettes’ ... OK
* checking examples ... OK
Examples with CPU (user + system) or elapsed time > 5s
                                   user system elapsed
execute                          26.792  0.728  27.522
interactingWithCytoPipelineCache 15.826  0.315  16.142
inspectCytoPipelineObjects       10.325  0.175  10.502
ggplotEvents                      5.576  0.063   5.462
* checking for unstated dependencies in ‘tests’ ... OK
* checking tests ...
  Running ‘testthat.R’
 OK
* checking for unstated dependencies in vignettes ... OK
* checking package vignettes ... OK
* checking re-building of vignette outputs ... OK
* checking PDF version of manual ... OK
* DONE

Status: 1 NOTE
See
  ‘/home/biocbuild/bbs-3.23-bioc/meat/CytoPipeline.Rcheck/00check.log’
for details.


Installation output

CytoPipeline.Rcheck/00install.out

##############################################################################
##############################################################################
###
### Running command:
###
###   /home/biocbuild/bbs-3.23-bioc/R/bin/R CMD INSTALL CytoPipeline
###
##############################################################################
##############################################################################


* installing to library ‘/home/biocbuild/bbs-3.23-bioc/R/site-library’
* installing *source* package ‘CytoPipeline’ ...
** this is package ‘CytoPipeline’ version ‘1.11.0’
** using staged installation
** R
** data
** inst
** byte-compile and prepare package for lazy loading
** help
*** installing help indices
** building package indices
** installing vignettes
** testing if installed package can be loaded from temporary location
** testing if installed package can be loaded from final location
** testing if installed package keeps a record of temporary installation path
* DONE (CytoPipeline)

Tests output

CytoPipeline.Rcheck/tests/testthat.Rout


R Under development (unstable) (2025-10-20 r88955) -- "Unsuffered Consequences"
Copyright (C) 2025 The R Foundation for Statistical Computing
Platform: x86_64-pc-linux-gnu

R is free software and comes with ABSOLUTELY NO WARRANTY.
You are welcome to redistribute it under certain conditions.
Type 'license()' or 'licence()' for distribution details.

R is a collaborative project with many contributors.
Type 'contributors()' for more information and
'citation()' on how to cite R or R packages in publications.

Type 'demo()' for some demos, 'help()' for on-line help, or
'help.start()' for an HTML browser interface to help.
Type 'q()' to quit R.

> # CytoPipeline - Copyright (C) <2022-2025>
> # <Université catholique de Louvain (UCLouvain), Belgique>
> #
> #   Description and complete License: see LICENSE file.
> #
> # This program (CytoPipeline) is free software:
> #   you can redistribute it and/or modify it under the terms of the GNU General
> # Public License as published by the Free Software Foundation,
> # either version 3 of the License, or (at your option) any later version.
> #
> # This program is distributed in the hope that it will be useful,
> # but WITHOUT ANY WARRANTY; without even the implied warranty of
> # MERCHANTABILITY or FITNESS FOR A PARTICULAR PURPOSE.  See the
> # GNU General Public License for more details (<http://www.gnu.org/licenses/>).
> 
> library(testthat)
> library(CytoPipeline)
> 
> # launch unit tests
> test_check("CytoPipeline")
Pipeline object for flow cytometry experiment: OMIP021_PeacoQC 
No sample file
No pheno data
Scale transformations evaluation queue has no processing step
Flow frames pre-processing evaluation queue has no processing step
Pipeline object for flow cytometry experiment: OMIP021_PeacoQC 
Sample files: 2 sample file(s)
head(samples):
  displayName
1  Donor1.fcs
2  Donor2.fcs
                                                                    sampleFile
1 /home/biocbuild/bbs-3.23-bioc/R/site-library/CytoPipeline/extdata/Donor1.fcs
2 /home/biocbuild/bbs-3.23-bioc/R/site-library/CytoPipeline/extdata/Donor2.fcs
No pheno data
Scale transformations evaluation queue has no processing step
Flow frames pre-processing evaluation queue has no processing step
#####################################################
### running SCALE TRANSFORMATION processing steps ###
#####################################################
Proceeding with step 1 [scale_transform_read] ...
#####################################################
### NOW PRE-PROCESSING FILE /home/biocbuild/bbs-3.23-bioc/R/site-library/CytoPipeline/extdata/Donor1.fcs...
#####################################################
#####################################################
### NOW PRE-PROCESSING FILE /home/biocbuild/bbs-3.23-bioc/R/site-library/CytoPipeline/extdata/Donor2.fcs...
#####################################################
Proceeding with phenoData ...
#####################################################
### running SCALE TRANSFORMATION processing steps ###
#####################################################
Proceeding with step 1 [flowframe_read] ...
#####################################################
### NOW PRE-PROCESSING FILE /home/biocbuild/bbs-3.23-bioc/R/site-library/CytoPipeline/extdata/Donor1.fcs...
#####################################################
Proceeding with step 1 [flowFrame_read] ...
#####################################################
### NOW PRE-PROCESSING FILE /home/biocbuild/bbs-3.23-bioc/R/site-library/CytoPipeline/extdata/Donor2.fcs...
#####################################################
Proceeding with step 1 [flowFrame_read] ...
Proceeding with phenoData: found in cache => updating it!
#####################################################
### running SCALE TRANSFORMATION processing steps ###
#####################################################
Proceeding with step 1 [flowframe_read]: found in cache!
#####################################################
### NOW PRE-PROCESSING FILE /home/biocbuild/bbs-3.23-bioc/R/site-library/CytoPipeline/extdata/Donor1.fcs...
#####################################################
Proceeding with step 1 [flowFrame_read]: found in cache!
#####################################################
### NOW PRE-PROCESSING FILE /home/biocbuild/bbs-3.23-bioc/R/site-library/CytoPipeline/extdata/Donor2.fcs...
#####################################################
Proceeding with step 1 [flowFrame_read]: found in cache!
#####################################################
### running SCALE TRANSFORMATION processing steps ###
#####################################################
Proceeding with step 1 [flowframe_read] ...
Proceeding with step 2 [remove_margins] ...
Removing margins from file : Donor1.fcs
Removing margins from file : Donor2.fcs
Proceeding with step 3 [compensate] ...
Proceeding with step 4 [flowframe_aggregate] ...
Proceeding with step 5 [scale_transform_estimate] ...
#####################################################
### NOW PRE-PROCESSING FILE /home/biocbuild/bbs-3.23-bioc/R/site-library/CytoPipeline/extdata/Donor1.fcs...
#####################################################
Proceeding with step 1 [flowframe_read] ...
Proceeding with step 2 [remove_margins] ...
Removing margins from file : Donor1.fcs
Proceeding with step 3 [compensate] ...
Proceeding with step 4 [remove_doublets] ...
Proceeding with step 5 [remove_debris] ...
Proceeding with step 6 [remove_dead_cells] ...
Proceeding with step 7 [perform_QC] ...
Applying PeacoQC method...
Starting quality control analysis for Donor1.fcs
Calculating peaks

  |                                                        
  |                                                  |   0%
  |                                                        
  |++                                                |   5%
  |                                                        
  |+++++                                             |  10%
  |                                                        
  |++++++++                                          |  15%
  |                                                        
  |++++++++++                                        |  20%
  |                                                        
  |++++++++++++                                      |  25%
  |                                                        
  |+++++++++++++++                                   |  30%
  |                                                        
  |++++++++++++++++++                                |  35%
  |                                                        
  |++++++++++++++++++++                              |  40%
  |                                                        
  |++++++++++++++++++++++                            |  45%
  |                                                        
  |+++++++++++++++++++++++++                         |  50%
  |                                                        
  |++++++++++++++++++++++++++++                      |  55%
  |                                                        
  |++++++++++++++++++++++++++++++                    |  60%
  |                                                        
  |++++++++++++++++++++++++++++++++                  |  65%
  |                                                        
  |+++++++++++++++++++++++++++++++++++               |  70%
  |                                                        
  |++++++++++++++++++++++++++++++++++++++            |  75%
  |                                                        
  |++++++++++++++++++++++++++++++++++++++++          |  80%
  |                                                        
  |++++++++++++++++++++++++++++++++++++++++++        |  85%
  |                                                        
  |+++++++++++++++++++++++++++++++++++++++++++++     |  90%
  |                                                        
  |++++++++++++++++++++++++++++++++++++++++++++++++  |  95%
  |                                                        
  |++++++++++++++++++++++++++++++++++++++++++++++++++| 100%
MAD analysis removed 30.75% of the measurements
The algorithm removed 30.75% of the measurements
Proceeding with step 8 [transform] ...
#####################################################
### NOW PRE-PROCESSING FILE /home/biocbuild/bbs-3.23-bioc/R/site-library/CytoPipeline/extdata/Donor2.fcs...
#####################################################
Proceeding with step 1 [flowframe_read] ...
Proceeding with step 2 [remove_margins] ...
Removing margins from file : Donor2.fcs
Proceeding with step 3 [compensate] ...
Proceeding with step 4 [remove_doublets] ...
Proceeding with step 5 [remove_debris] ...
Proceeding with step 6 [remove_dead_cells] ...
Proceeding with step 7 [perform_QC] ...
Applying PeacoQC method...
Starting quality control analysis for Donor2.fcs
Calculating peaks

  |                                                        
  |                                                  |   0%
  |                                                        
  |++                                                |   5%
  |                                                        
  |+++++                                             |  10%
  |                                                        
  |++++++++                                          |  15%
  |                                                        
  |++++++++++                                        |  20%
  |                                                        
  |++++++++++++                                      |  25%
  |                                                        
  |+++++++++++++++                                   |  30%
  |                                                        
  |++++++++++++++++++                                |  35%
  |                                                        
  |++++++++++++++++++++                              |  40%
  |                                                        
  |++++++++++++++++++++++                            |  45%
  |                                                        
  |+++++++++++++++++++++++++                         |  50%
  |                                                        
  |++++++++++++++++++++++++++++                      |  55%
  |                                                        
  |++++++++++++++++++++++++++++++                    |  60%
  |                                                        
  |++++++++++++++++++++++++++++++++                  |  65%
  |                                                        
  |+++++++++++++++++++++++++++++++++++               |  70%
  |                                                        
  |++++++++++++++++++++++++++++++++++++++            |  75%
  |                                                        
  |++++++++++++++++++++++++++++++++++++++++          |  80%
  |                                                        
  |++++++++++++++++++++++++++++++++++++++++++        |  85%
  |                                                        
  |+++++++++++++++++++++++++++++++++++++++++++++     |  90%
  |                                                        
  |++++++++++++++++++++++++++++++++++++++++++++++++  |  95%
  |                                                        
  |++++++++++++++++++++++++++++++++++++++++++++++++++| 100%
MAD analysis removed 24.38% of the measurements
The algorithm removed 24.38% of the measurements
Proceeding with step 8 [transform] ...
#####################################################
### running SCALE TRANSFORMATION processing steps ###
#####################################################
Proceeding with step 1 [flowframe_read]: found in cache!
Proceeding with step 2 [remove_margins]: found in cache!
Proceeding with step 3 [compensate]: found in cache!
Proceeding with step 4 [flowframe_aggregate]: found in cache!
Proceeding with step 5 [scale_transform_estimate]: found in cache!
#####################################################
### NOW PRE-PROCESSING FILE /home/biocbuild/bbs-3.23-bioc/R/site-library/CytoPipeline/extdata/Donor1.fcs...
#####################################################
Proceeding with step 1 [flowframe_read]: found in cache!
Proceeding with step 2 [remove_margins]: found in cache!
Proceeding with step 3 [compensate]: found in cache!
Proceeding with step 4 [remove_doublets]: found in cache!
Proceeding with step 5 [remove_debris]: found in cache!
Proceeding with step 6 [remove_dead_cells]: found in cache!
Proceeding with step 7 [perform_QC]: found in cache!
Proceeding with step 8 [transform]: found in cache!
#####################################################
### NOW PRE-PROCESSING FILE /home/biocbuild/bbs-3.23-bioc/R/site-library/CytoPipeline/extdata/Donor2.fcs...
#####################################################
Proceeding with step 1 [flowframe_read]: found in cache!
Proceeding with step 2 [remove_margins]: found in cache!
Proceeding with step 3 [compensate]: found in cache!
Proceeding with step 4 [remove_doublets]: found in cache!
Proceeding with step 5 [remove_debris]: found in cache!
Proceeding with step 6 [remove_dead_cells]: found in cache!
Proceeding with step 7 [perform_QC]: found in cache!
Proceeding with step 8 [transform]: found in cache!
#####################################################
### running SCALE TRANSFORMATION processing steps ###
#####################################################
Proceeding with step 1 [flowframe_read] ...
Proceeding with step 2 [remove_margins] ...
Removing margins from file : Donor1.fcs
Removing margins from file : Donor2.fcs
Proceeding with step 3 [compensate] ...
Proceeding with step 4 [flowframe_aggregate] ...
Proceeding with step 5 [scale_transform_estimate] ...
#####################################################
### NOW PRE-PROCESSING FILE /home/biocbuild/bbs-3.23-bioc/R/site-library/CytoPipeline/extdata/Donor1.fcs...
#####################################################
Proceeding with step 1 [flowframe_read] ...
Proceeding with step 2 [remove_margins] ...
Removing margins from file : Donor1.fcs
Proceeding with step 3 [compensate] ...
Proceeding with step 4 [remove_doublets] ...
Proceeding with step 5 [remove_debris] ...
Proceeding with step 6 [remove_dead_cells] ...
Proceeding with step 7 [perform_QC] ...
Applying PeacoQC method...
Starting quality control analysis for Donor1.fcs
Calculating peaks

  |                                                        
  |                                                  |   0%
  |                                                        
  |++                                                |   5%
  |                                                        
  |+++++                                             |  10%
  |                                                        
  |++++++++                                          |  15%
  |                                                        
  |++++++++++                                        |  20%
  |                                                        
  |++++++++++++                                      |  25%
  |                                                        
  |+++++++++++++++                                   |  30%
  |                                                        
  |++++++++++++++++++                                |  35%
  |                                                        
  |++++++++++++++++++++                              |  40%
  |                                                        
  |++++++++++++++++++++++                            |  45%
  |                                                        
  |+++++++++++++++++++++++++                         |  50%
  |                                                        
  |++++++++++++++++++++++++++++                      |  55%
  |                                                        
  |++++++++++++++++++++++++++++++                    |  60%
  |                                                        
  |++++++++++++++++++++++++++++++++                  |  65%
  |                                                        
  |+++++++++++++++++++++++++++++++++++               |  70%
  |                                                        
  |++++++++++++++++++++++++++++++++++++++            |  75%
  |                                                        
  |++++++++++++++++++++++++++++++++++++++++          |  80%
  |                                                        
  |++++++++++++++++++++++++++++++++++++++++++        |  85%
  |                                                        
  |+++++++++++++++++++++++++++++++++++++++++++++     |  90%
  |                                                        
  |++++++++++++++++++++++++++++++++++++++++++++++++  |  95%
  |                                                        
  |++++++++++++++++++++++++++++++++++++++++++++++++++| 100%
MAD analysis removed 30.75% of the measurements
The algorithm removed 30.75% of the measurements
Proceeding with step 8 [transform] ...
#####################################################
### NOW PRE-PROCESSING FILE /home/biocbuild/bbs-3.23-bioc/R/site-library/CytoPipeline/extdata/Donor2.fcs...
#####################################################
Proceeding with step 1 [flowframe_read] ...
Proceeding with step 2 [remove_margins] ...
Removing margins from file : Donor2.fcs
Proceeding with step 3 [compensate] ...
Proceeding with step 4 [remove_doublets] ...
Proceeding with step 5 [remove_debris] ...
Proceeding with step 6 [remove_dead_cells] ...
Proceeding with step 7 [perform_QC] ...
Applying PeacoQC method...
Starting quality control analysis for Donor2.fcs
Calculating peaks

  |                                                        
  |                                                  |   0%
  |                                                        
  |++                                                |   5%
  |                                                        
  |+++++                                             |  10%
  |                                                        
  |++++++++                                          |  15%
  |                                                        
  |++++++++++                                        |  20%
  |                                                        
  |++++++++++++                                      |  25%
  |                                                        
  |+++++++++++++++                                   |  30%
  |                                                        
  |++++++++++++++++++                                |  35%
  |                                                        
  |++++++++++++++++++++                              |  40%
  |                                                        
  |++++++++++++++++++++++                            |  45%
  |                                                        
  |+++++++++++++++++++++++++                         |  50%
  |                                                        
  |++++++++++++++++++++++++++++                      |  55%
  |                                                        
  |++++++++++++++++++++++++++++++                    |  60%
  |                                                        
  |++++++++++++++++++++++++++++++++                  |  65%
  |                                                        
  |+++++++++++++++++++++++++++++++++++               |  70%
  |                                                        
  |++++++++++++++++++++++++++++++++++++++            |  75%
  |                                                        
  |++++++++++++++++++++++++++++++++++++++++          |  80%
  |                                                        
  |++++++++++++++++++++++++++++++++++++++++++        |  85%
  |                                                        
  |+++++++++++++++++++++++++++++++++++++++++++++     |  90%
  |                                                        
  |++++++++++++++++++++++++++++++++++++++++++++++++  |  95%
  |                                                        
  |++++++++++++++++++++++++++++++++++++++++++++++++++| 100%
MAD analysis removed 24.38% of the measurements
The algorithm removed 24.38% of the measurements
Proceeding with step 8 [transform] ...
pData row names has been set by default to sample names.
#####################################################
### running SCALE TRANSFORMATION processing steps ###
#####################################################
Proceeding with step 1 [flowframe_read] ...
Proceeding with step 2 [remove_margins] ...
Removing margins from file : Donor1.fcs
Removing margins from file : Donor2.fcs
Proceeding with step 3 [compensate] ...
Proceeding with step 4 [flowframe_aggregate] ...
Proceeding with step 5 [scale_transform_estimate] ...
#####################################################
### NOW PRE-PROCESSING FILE /home/biocbuild/bbs-3.23-bioc/R/site-library/CytoPipeline/extdata/Donor1.fcs...
#####################################################
Proceeding with step 1 [flowframe_read] ...
Proceeding with step 2 [remove_margins] ...
Removing margins from file : Donor1.fcs
Proceeding with step 3 [compensate] ...
Proceeding with step 4 [remove_doublets] ...
Proceeding with step 5 [remove_debris] ...
Proceeding with step 6 [remove_dead_cells] ...
Proceeding with step 7 [perform_QC] ...
Applying PeacoQC method...
Starting quality control analysis for Donor1.fcs
Calculating peaks

  |                                                        
  |                                                  |   0%
  |                                                        
  |++                                                |   5%
  |                                                        
  |+++++                                             |  10%
  |                                                        
  |++++++++                                          |  15%
  |                                                        
  |++++++++++                                        |  20%
  |                                                        
  |++++++++++++                                      |  25%
  |                                                        
  |+++++++++++++++                                   |  30%
  |                                                        
  |++++++++++++++++++                                |  35%
  |                                                        
  |++++++++++++++++++++                              |  40%
  |                                                        
  |++++++++++++++++++++++                            |  45%
  |                                                        
  |+++++++++++++++++++++++++                         |  50%
  |                                                        
  |++++++++++++++++++++++++++++                      |  55%
  |                                                        
  |++++++++++++++++++++++++++++++                    |  60%
  |                                                        
  |++++++++++++++++++++++++++++++++                  |  65%
  |                                                        
  |+++++++++++++++++++++++++++++++++++               |  70%
  |                                                        
  |++++++++++++++++++++++++++++++++++++++            |  75%
  |                                                        
  |++++++++++++++++++++++++++++++++++++++++          |  80%
  |                                                        
  |++++++++++++++++++++++++++++++++++++++++++        |  85%
  |                                                        
  |+++++++++++++++++++++++++++++++++++++++++++++     |  90%
  |                                                        
  |++++++++++++++++++++++++++++++++++++++++++++++++  |  95%
  |                                                        
  |++++++++++++++++++++++++++++++++++++++++++++++++++| 100%
MAD analysis removed 30.75% of the measurements
The algorithm removed 30.75% of the measurements
Proceeding with step 8 [transform] ...
#####################################################
### NOW PRE-PROCESSING FILE /home/biocbuild/bbs-3.23-bioc/R/site-library/CytoPipeline/extdata/Donor2.fcs...
#####################################################
Proceeding with step 1 [flowframe_read] ...
Proceeding with step 2 [remove_margins] ...
Removing margins from file : Donor2.fcs
Proceeding with step 3 [compensate] ...
Proceeding with step 4 [remove_doublets] ...
Proceeding with step 5 [remove_debris] ...
Proceeding with step 6 [remove_dead_cells] ...
Proceeding with step 7 [perform_QC] ...
Applying PeacoQC method...
Starting quality control analysis for Donor2.fcs
Calculating peaks

  |                                                        
  |                                                  |   0%
  |                                                        
  |++                                                |   5%
  |                                                        
  |+++++                                             |  10%
  |                                                        
  |++++++++                                          |  15%
  |                                                        
  |++++++++++                                        |  20%
  |                                                        
  |++++++++++++                                      |  25%
  |                                                        
  |+++++++++++++++                                   |  30%
  |                                                        
  |++++++++++++++++++                                |  35%
  |                                                        
  |++++++++++++++++++++                              |  40%
  |                                                        
  |++++++++++++++++++++++                            |  45%
  |                                                        
  |+++++++++++++++++++++++++                         |  50%
  |                                                        
  |++++++++++++++++++++++++++++                      |  55%
  |                                                        
  |++++++++++++++++++++++++++++++                    |  60%
  |                                                        
  |++++++++++++++++++++++++++++++++                  |  65%
  |                                                        
  |+++++++++++++++++++++++++++++++++++               |  70%
  |                                                        
  |++++++++++++++++++++++++++++++++++++++            |  75%
  |                                                        
  |++++++++++++++++++++++++++++++++++++++++          |  80%
  |                                                        
  |++++++++++++++++++++++++++++++++++++++++++        |  85%
  |                                                        
  |+++++++++++++++++++++++++++++++++++++++++++++     |  90%
  |                                                        
  |++++++++++++++++++++++++++++++++++++++++++++++++  |  95%
  |                                                        
  |++++++++++++++++++++++++++++++++++++++++++++++++++| 100%
MAD analysis removed 24.38% of the measurements
The algorithm removed 24.38% of the measurements
Proceeding with step 8 [transform] ...
#####################################################
### running SCALE TRANSFORMATION processing steps ###
#####################################################
Proceeding with step 1 [flowframe_read] ...
Proceeding with step 2 [remove_margins] ...
Removing margins from file : Donor1.fcs
Removing margins from file : Donor2.fcs
Proceeding with step 3 [compensate] ...
Proceeding with step 4 [flowframe_aggregate] ...
Proceeding with step 5 [scale_transform_estimate] ...

  |                                                                            
  |                                                                      |   0%
  |                                                                            
  |===================================                                   |  50%
  |                                                                            
  |======================================================================| 100%

#####################################################
### running SCALE TRANSFORMATION processing steps ###
#####################################################
Proceeding with step 1 [flowframe_read]: found in cache!
Proceeding with step 2 [remove_margins]: found in cache!
Proceeding with step 3 [compensate]: found in cache!
Proceeding with step 4 [flowframe_aggregate]: found in cache!
Proceeding with step 5 [scale_transform_estimate]: found in cache!
#####################################################
### NOW PRE-PROCESSING FILE Donor1.fcs...
#####################################################
Proceeding with step 1 [flowframe_read]: found in cache!
Proceeding with step 2 [remove_margins]: found in cache!
Proceeding with step 3 [compensate]: found in cache!
Proceeding with step 4 [remove_doublets]: found in cache!
Proceeding with step 5 [remove_debris]: found in cache!
Proceeding with step 6 [remove_dead_cells]: found in cache!
Proceeding with step 7 [perform_QC]: found in cache!
Proceeding with step 8 [transform]: found in cache!
#####################################################
### NOW PRE-PROCESSING FILE Donor2.fcs...
#####################################################
Proceeding with step 1 [flowframe_read]: found in cache!
Proceeding with step 2 [remove_margins]: found in cache!
Proceeding with step 3 [compensate]: found in cache!
Proceeding with step 4 [remove_doublets]: found in cache!
Proceeding with step 5 [remove_debris]: found in cache!
Proceeding with step 6 [remove_dead_cells]: found in cache!
Proceeding with step 7 [perform_QC]: found in cache!
Proceeding with step 8 [transform]: found in cache!
#####################################################
### running SCALE TRANSFORMATION processing steps ###
#####################################################
Proceeding with step 1 [flowframe_read] ...
#####################################################
### NOW PRE-PROCESSING FILE /home/biocbuild/bbs-3.23-bioc/R/site-library/CytoPipeline/extdata/Donor1.fcs...
#####################################################
#####################################################
### NOW PRE-PROCESSING FILE /home/biocbuild/bbs-3.23-bioc/R/site-library/CytoPipeline/extdata/Donor2.fcs...
#####################################################
#####################################################
### running SCALE TRANSFORMATION processing steps ###
#####################################################
Proceeding with step 1 [flowframe_read]: found in cache!
#####################################################
### NOW PRE-PROCESSING FILE /home/biocbuild/bbs-3.23-bioc/R/site-library/CytoPipeline/extdata/Donor1.fcs...
#####################################################
Proceeding with step 1 [flowframe_read] ...
#####################################################
### NOW PRE-PROCESSING FILE /home/biocbuild/bbs-3.23-bioc/R/site-library/CytoPipeline/extdata/Donor2.fcs...
#####################################################
Proceeding with step 1 [flowframe_read] ...
#####################################################
### running SCALE TRANSFORMATION processing steps ###
#####################################################
Proceeding with step 1 [flowframe_read]: found in cache!
#####################################################
### NOW PRE-PROCESSING FILE /home/biocbuild/bbs-3.23-bioc/R/site-library/CytoPipeline/extdata/Donor1.fcs...
#####################################################
Proceeding with step 1 [flowframe_read]: found in cache!
Proceeding with step 2 [remove_margins] ...
Removing margins from file : Donor1.fcs
#####################################################
### NOW PRE-PROCESSING FILE /home/biocbuild/bbs-3.23-bioc/R/site-library/CytoPipeline/extdata/Donor2.fcs...
#####################################################
Proceeding with step 1 [flowframe_read]: found in cache!
Proceeding with step 2 [remove_margins] ...
Removing margins from file : Donor2.fcs
#####################################################
### running SCALE TRANSFORMATION processing steps ###
#####################################################
Proceeding with step 1 [flowframe_read] ...
#####################################################
### NOW PRE-PROCESSING FILE /home/biocbuild/bbs-3.23-bioc/R/site-library/CytoPipeline/extdata/Donor2.fcs...
#####################################################
#####################################################
### running SCALE TRANSFORMATION processing steps ###
#####################################################
Proceeding with step 1 [flowframe_read]: found in cache!
#####################################################
### NOW PRE-PROCESSING FILE /home/biocbuild/bbs-3.23-bioc/R/site-library/CytoPipeline/extdata/Donor2.fcs...
#####################################################
Proceeding with step 1 [flowframe_read] ...
#####################################################
### running SCALE TRANSFORMATION processing steps ###
#####################################################
Proceeding with step 1 [flowframe_read]: found in cache!
#####################################################
### NOW PRE-PROCESSING FILE /home/biocbuild/bbs-3.23-bioc/R/site-library/CytoPipeline/extdata/Donor2.fcs...
#####################################################
Proceeding with step 1 [flowframe_read]: found in cache!
Proceeding with step 2 [remove_margins] ...
Removing margins from file : Donor2.fcs
no sample file passed as argument => defaulting to first sample file
#####################################################
### running SCALE TRANSFORMATION processing steps ###
#####################################################
Proceeding with step 1 [flowframe_read]: found in cache!
#####################################################
### NOW PRE-PROCESSING FILE /home/biocbuild/bbs-3.23-bioc/R/site-library/CytoPipeline/extdata/Donor1.fcs...
#####################################################
Proceeding with step 1 [flowframe_read] ...
Proceeding with step 2 [remove_margins] ...
Removing margins from file : Donor1.fcs
#####################################################
### NOW PRE-PROCESSING FILE /home/biocbuild/bbs-3.23-bioc/R/site-library/CytoPipeline/extdata/Donor2.fcs...
#####################################################
Proceeding with step 1 [flowframe_read]: found in cache!
Proceeding with step 2 [remove_margins]: found in cache!
no sample file passed as argument => defaulting to first sample file
pData row names has been set by default to sample names.
Object of class "CytoProcessingStep"
 Name: summing step
 Function: user-provided function
COL NAMES MARKER MAPPING: Channel, Marker, Used
COL NAMES MARKER MAPPING: Channel, Marker, Used
Removing margins from file : Donor1.fcs
Removing margins from file : Donor1.fcs
Removing margins from file : Donor1.fcs
Removing margins from file : Donor1.fcs
Applying PeacoQC method...
Starting quality control analysis for Donor1.fcs
Calculating peaks

  |                                                        
  |                                                  |   0%
  |                                                        
  |++                                                |   5%
  |                                                        
  |+++++                                             |  10%
  |                                                        
  |++++++++                                          |  15%
  |                                                        
  |++++++++++                                        |  20%
  |                                                        
  |++++++++++++                                      |  25%
  |                                                        
  |+++++++++++++++                                   |  30%
  |                                                        
  |++++++++++++++++++                                |  35%
  |                                                        
  |++++++++++++++++++++                              |  40%
  |                                                        
  |++++++++++++++++++++++                            |  45%
  |                                                        
  |+++++++++++++++++++++++++                         |  50%
  |                                                        
  |++++++++++++++++++++++++++++                      |  55%
  |                                                        
  |++++++++++++++++++++++++++++++                    |  60%
  |                                                        
  |++++++++++++++++++++++++++++++++                  |  65%
  |                                                        
  |+++++++++++++++++++++++++++++++++++               |  70%
  |                                                        
  |++++++++++++++++++++++++++++++++++++++            |  75%
  |                                                        
  |++++++++++++++++++++++++++++++++++++++++          |  80%
  |                                                        
  |++++++++++++++++++++++++++++++++++++++++++        |  85%
  |                                                        
  |+++++++++++++++++++++++++++++++++++++++++++++     |  90%
  |                                                        
  |++++++++++++++++++++++++++++++++++++++++++++++++  |  95%
  |                                                        
  |++++++++++++++++++++++++++++++++++++++++++++++++++| 100%
Applying flowAI method...
Quality control for the file: Donor1
49% of anomalous cells detected in the flow rate check. 
0% of anomalous cells detected in signal acquisition check. 
3% of anomalous cells detected in the dynamic range check. 
[ FAIL 0 | WARN 0 | SKIP 3 | PASS 319 ]

══ Skipped tests (3) ═══════════════════════════════════════════════════════════
• On CRAN (3): 'test-gating.R:42:5', 'test-ggplots.R:185:5',
  'test-ggplots.R:310:5'

[ FAIL 0 | WARN 0 | SKIP 3 | PASS 319 ]
Deleting unused snapshots:
• gating/singletsgate-default-channels-with-fixed-nmad.svg
• gating/singletsgate-selected-channels.svg
• gating/singletsgates-one-after-the-other-fig1.svg
• gating/singletsgates-one-after-the-other-fig2.svg
• ggplots/ggplotevents-2d-x-linear-y-logicle.svg
• ggplots/ggplotevents-2d-x-logicle-y-linear.svg
• ggplots/ggplotevents-2d-x-logicle-y-logicle-bins.svg
• ggplots/ggplotevents-2d-x-logicle-y-logicle-by-markers.svg
• ggplots/ggplotevents-2d-x-logicle-y-logicle-translist-not-run.svg
• ggplots/ggplotevents-2d-x-logicle-y-logicle-translist-run.svg
• ggplots/ggplotfilterevents-2d-5000-points.svg
• ggplots/ggplotfilterevents-2d-all-points-interactive.svg
• ggplots/ggplotfilterevents-2d-infinite-nb-of-points.svg
• ggplots/ggplotfilterevents-2d-small-size.svg
• ggplots/ggplotfilterevents-2d-translist-not-run.svg
• ggplots/ggplotfilterevents-2d-translist-run.svg
> 
> proc.time()
   user  system elapsed 
 78.031   2.913  93.339 

Example timings

CytoPipeline.Rcheck/CytoPipeline-Ex.timings

nameusersystemelapsed
CytoPipelineClass0.0320.0020.034
CytoProcessingStep0.0030.0020.005
aggregateAndSample0.1890.0050.193
appendCellID0.1340.0020.136
applyScaleTransforms0.2490.0040.254
areFluoCols0.1260.0010.127
areSignalCols0.1210.0010.121
compensateFromMatrix1.5260.0841.610
computeScatterChannelsLinearScale0.1800.0020.182
estimateScaleTransforms0.1780.0000.177
execute26.792 0.72827.522
exportCytoPipeline0.0110.0010.013
findTimeChannel0.1190.0030.123
getAcquiredCompensationMatrix0.0600.0040.064
getChannelNamesFromMarkers0.1250.0020.127
getFCSFileName0.1190.0030.122
getTransfoParams0.1260.0020.128
ggplotEvents5.5760.0635.462
ggplotFilterEvents0.8420.0390.881
ggplotFlowRate1.3750.0041.379
handlingProcessingSteps0.0080.0020.010
inspectCytoPipelineObjects10.325 0.17510.502
interactingWithCytoPipelineCache15.826 0.31516.142
qualityControlFlowAI1.0510.0121.065
qualityControlPeacoQC0.6830.0080.691
readRDSObject0.2140.0020.216
readSampleFiles0.0690.0030.073
removeChannels0.1220.0030.126
removeDeadCellsManualGate0.0860.0060.092
removeDebrisManualGate0.0960.0020.098
removeDoubletsCytoPipeline0.1060.0010.108
removeMarginsPeacoQC0.2990.0020.300
resetCellIDs0.1220.0010.123
runCompensation0.1330.0010.134
singletsGate1.0940.0131.107
subsample0.1310.0010.133
updateMarkerName0.1520.0000.152
writeFlowFrame0.2370.0030.240