Back to Build/check report for BioC 3.23:   simplified   long
AB[C]DEFGHIJKLMNOPQRSTUVWXYZ

This page was generated on 2025-11-01 11:32 -0400 (Sat, 01 Nov 2025).

HostnameOSArch (*)R versionInstalled pkgs
nebbiolo1Linux (Ubuntu 24.04.3 LTS)x86_64R Under development (unstable) (2025-10-20 r88955) -- "Unsuffered Consequences" 4774
Click on any hostname to see more info about the system (e.g. compilers)      (*) as reported by 'uname -p', except on Windows and Mac OS X

Package 343/2321HostnameOS / ArchINSTALLBUILDCHECKBUILD BIN
ChIPQC 1.47.0  (landing page)
Tom Carroll , Rory Stark
Snapshot Date: 2025-10-31 13:40 -0400 (Fri, 31 Oct 2025)
git_url: https://git.bioconductor.org/packages/ChIPQC
git_branch: devel
git_last_commit: 8be4dc7
git_last_commit_date: 2025-10-29 10:18:53 -0400 (Wed, 29 Oct 2025)
nebbiolo1Linux (Ubuntu 24.04.3 LTS) / x86_64  ERROR    ERROR  skipped


INSTALL results for ChIPQC on nebbiolo1

To the developers/maintainers of the ChIPQC package:
- Allow up to 24 hours (and sometimes 48 hours) for your latest push to git@git.bioconductor.org:packages/ChIPQC.git to reflect on this report. See Troubleshooting Build Report for more information.
- Use the following Renviron settings to reproduce errors and warnings.
- If 'R CMD check' started to fail recently on the Linux builder(s) over a missing dependency, add the missing dependency to 'Suggests:' in your DESCRIPTION file. See Renviron.bioc for more information.

raw results


Summary

Package: ChIPQC
Version: 1.47.0
Command: /home/biocbuild/bbs-3.23-bioc/R/bin/R CMD INSTALL ChIPQC
StartedAt: 2025-10-31 16:24:07 -0400 (Fri, 31 Oct 2025)
EndedAt: 2025-10-31 16:24:07 -0400 (Fri, 31 Oct 2025)
EllapsedTime: 0.2 seconds
RetCode: 1
Status:   ERROR  

Command output

##############################################################################
##############################################################################
###
### Running command:
###
###   /home/biocbuild/bbs-3.23-bioc/R/bin/R CMD INSTALL ChIPQC
###
##############################################################################
##############################################################################


* installing to library ‘/home/biocbuild/bbs-3.23-bioc/R/site-library’
ERROR: dependency ‘Nozzle.R1’ is not available for package ‘ChIPQC’
Perhaps try a variation of:
install.packages('Nozzle.R1')
* removing ‘/home/biocbuild/bbs-3.23-bioc/R/site-library/ChIPQC’