| Back to Multiple platform build/check report for BioC 3.23: simplified long |
|
This page was generated on 2025-11-20 11:37 -0500 (Thu, 20 Nov 2025).
| Hostname | OS | Arch (*) | R version | Installed pkgs |
|---|---|---|---|---|
| nebbiolo1 | Linux (Ubuntu 24.04.3 LTS) | x86_64 | R Under development (unstable) (2025-10-20 r88955) -- "Unsuffered Consequences" | 4827 |
| lconway | macOS 12.7.6 Monterey | x86_64 | R Under development (unstable) (2025-10-21 r88958) -- "Unsuffered Consequences" | 4600 |
| kjohnson3 | macOS 13.7.7 Ventura | arm64 | R Under development (unstable) (2025-11-04 r88984) -- "Unsuffered Consequences" | 4564 |
| Click on any hostname to see more info about the system (e.g. compilers) (*) as reported by 'uname -p', except on Windows and Mac OS X | ||||
| Package 275/2325 | Hostname | OS / Arch | INSTALL | BUILD | CHECK | BUILD BIN | ||||||||
| Cardinal 3.13.0 (landing page) Kylie Ariel Bemis
| nebbiolo1 | Linux (Ubuntu 24.04.3 LTS) / x86_64 | OK | OK | OK | |||||||||
| lconway | macOS 12.7.6 Monterey / x86_64 | OK | OK | OK | OK | |||||||||
| kjohnson3 | macOS 13.7.7 Ventura / arm64 | OK | OK | OK | OK | |||||||||
|
To the developers/maintainers of the Cardinal package: - Allow up to 24 hours (and sometimes 48 hours) for your latest push to git@git.bioconductor.org:packages/Cardinal.git to reflect on this report. See Troubleshooting Build Report for more information. - Use the following Renviron settings to reproduce errors and warnings. - If 'R CMD check' started to fail recently on the Linux builder(s) over a missing dependency, add the missing dependency to 'Suggests:' in your DESCRIPTION file. See Renviron.bioc for more information. |
| Package: Cardinal |
| Version: 3.13.0 |
| Command: /home/biocbuild/bbs-3.23-bioc/R/bin/R CMD check --install=check:Cardinal.install-out.txt --library=/home/biocbuild/bbs-3.23-bioc/R/site-library --timings Cardinal_3.13.0.tar.gz |
| StartedAt: 2025-11-19 21:45:47 -0500 (Wed, 19 Nov 2025) |
| EndedAt: 2025-11-19 22:00:01 -0500 (Wed, 19 Nov 2025) |
| EllapsedTime: 854.1 seconds |
| RetCode: 0 |
| Status: OK |
| CheckDir: Cardinal.Rcheck |
| Warnings: 0 |
##############################################################################
##############################################################################
###
### Running command:
###
### /home/biocbuild/bbs-3.23-bioc/R/bin/R CMD check --install=check:Cardinal.install-out.txt --library=/home/biocbuild/bbs-3.23-bioc/R/site-library --timings Cardinal_3.13.0.tar.gz
###
##############################################################################
##############################################################################
* using log directory ‘/home/biocbuild/bbs-3.23-bioc/meat/Cardinal.Rcheck’
* using R Under development (unstable) (2025-10-20 r88955)
* using platform: x86_64-pc-linux-gnu
* R was compiled by
gcc (Ubuntu 13.3.0-6ubuntu2~24.04) 13.3.0
GNU Fortran (Ubuntu 13.3.0-6ubuntu2~24.04) 13.3.0
* running under: Ubuntu 24.04.3 LTS
* using session charset: UTF-8
* checking for file ‘Cardinal/DESCRIPTION’ ... OK
* checking extension type ... Package
* this is package ‘Cardinal’ version ‘3.13.0’
* checking package namespace information ... OK
* checking package dependencies ... OK
* checking if this is a source package ... OK
* checking if there is a namespace ... OK
* checking for hidden files and directories ... OK
* checking for portable file names ... OK
* checking for sufficient/correct file permissions ... OK
* checking whether package ‘Cardinal’ can be installed ... OK
* checking installed package size ... OK
* checking package directory ... OK
* checking ‘build’ directory ... OK
* checking DESCRIPTION meta-information ... OK
* checking top-level files ... OK
* checking for left-over files ... OK
* checking index information ... OK
* checking package subdirectories ... OK
* checking code files for non-ASCII characters ... OK
* checking R files for syntax errors ... OK
* checking whether the package can be loaded ... OK
* checking whether the package can be loaded with stated dependencies ... OK
* checking whether the package can be unloaded cleanly ... OK
* checking whether the namespace can be loaded with stated dependencies ... OK
* checking whether the namespace can be unloaded cleanly ... OK
* checking loading without being on the library search path ... OK
* checking whether startup messages can be suppressed ... OK
* checking dependencies in R code ... OK
* checking S3 generic/method consistency ... OK
* checking replacement functions ... OK
* checking foreign function calls ... OK
* checking R code for possible problems ... OK
* checking Rd files ... OK
* checking Rd metadata ... OK
* checking Rd cross-references ... NOTE
Found the following Rd file(s) with Rd \link{} targets missing package
anchors:
Cardinal-package.Rd: bplapply, simple_logger
MSImagingArrays-class.Rd: ImzMeta-class, ProcessingStep-class
MSImagingExperiment-class.Rd: ImzMeta-class, ProcessingStep-class
MeansTest.Rd: lme, chunkApply, bplapply
ResultsList-class.Rd: SimpleList-class
SpatialCV.Rd: chunkApply, bplapply, cv_do
SpatialDGMM.Rd: chunkApply, bplapply
SpatialFastmap.Rd: chunkApply, bplapply
SpatialKMeans.Rd: chunkApply, bplapply
SpatialPCA.Rd: chunkApply, bplapply, irlba
SpatialPLS.Rd: chunkApply, bplapply
SpatialResults-class.Rd: DataFrame-class
SpatialShrunkenCentroids.Rd: chunkApply, bplapply
SpectraArrays-class.Rd: SimpleList-class
SpectralImagingArrays-class.Rd: ProcessingStep-class
SpectralImagingData-class.Rd: ProcessingStep-class
SpectralImagingExperiment-class.Rd: DataFrame-class,
ProcessingStep-class
XDataFrame-class.Rd: DataFrame-class, DataFrame
colocalized.Rd: chunkApply, bplapply
estimateDomain.Rd: chunkApply, bplapply, chunkLapply
findNeighbors.Rd: sparse_mat-class
normalize.Rd: rescale_sum, rescale_rms, rescale_ref
peakAlign.Rd: chunkApply, bplapply
peakPick.Rd: estnoise_diff, estnoise_sd, estnoise_mad,
estnoise_quant, estnoise_filt, findpeaks_cwt
peakProcess.Rd: chunkApply, bplapply
plot-image.Rd: enhance, filt2, plot_image
plot-spectra.Rd: downsample, plot_signal
process.Rd: chunkApply, bplapply
readMSIData.Rd: matter, chunkApply, bplapply
recalibrate.Rd: warp1_loc, warp1_dtw, warp1_cow
reduceBaseline.Rd: estbase_loc, estbase_hull, estbase_snip,
estbase_med
simulateSpectra.Rd: chunkApply, bplapply
smooth.Rd: filt1_gauss, filt1_bi, filt1_adapt, filt1_diff,
filt1_guide, filt1_pag, filt1_sg, filt1_ma
spatialDists.Rd: chunkApply, bplapply
spatialWeights.Rd: chunkApply, bplapply, sparse_mat-class
spectrapply.Rd: chunkApply, bplapply
summarize.Rd: chunkApply, bplapply
writeMSIData.Rd: chunkApply, bplapply
Please provide package anchors for all Rd \link{} targets not in the
package itself and the base packages.
* checking for missing documentation entries ... OK
* checking for code/documentation mismatches ... OK
* checking Rd \usage sections ... OK
* checking Rd contents ... OK
* checking for unstated dependencies in examples ... OK
* checking files in ‘vignettes’ ... OK
* checking examples ... OK
Examples with CPU (user + system) or elapsed time > 5s
user system elapsed
MeansTest 13.866 0.372 14.245
plot-image 5.203 0.063 5.267
* checking for unstated dependencies in ‘tests’ ... OK
* checking tests ...
Running ‘testthat.R’
OK
* checking for unstated dependencies in vignettes ... OK
* checking package vignettes ... OK
* checking re-building of vignette outputs ... OK
* checking PDF version of manual ... OK
* DONE
Status: 1 NOTE
See
‘/home/biocbuild/bbs-3.23-bioc/meat/Cardinal.Rcheck/00check.log’
for details.
Cardinal.Rcheck/00install.out
############################################################################## ############################################################################## ### ### Running command: ### ### /home/biocbuild/bbs-3.23-bioc/R/bin/R CMD INSTALL Cardinal ### ############################################################################## ############################################################################## * installing to library ‘/home/biocbuild/bbs-3.23-bioc/R/site-library’ * installing *source* package ‘Cardinal’ ... ** this is package ‘Cardinal’ version ‘3.13.0’ ** using staged installation ** R ** inst ** byte-compile and prepare package for lazy loading ** help *** installing help indices ** building package indices ** installing vignettes ** testing if installed package can be loaded from temporary location ** testing if installed package can be loaded from final location ** testing if installed package keeps a record of temporary installation path * DONE (Cardinal)
Cardinal.Rcheck/tests/testthat.Rout
R Under development (unstable) (2025-10-20 r88955) -- "Unsuffered Consequences"
Copyright (C) 2025 The R Foundation for Statistical Computing
Platform: x86_64-pc-linux-gnu
R is free software and comes with ABSOLUTELY NO WARRANTY.
You are welcome to redistribute it under certain conditions.
Type 'license()' or 'licence()' for distribution details.
R is a collaborative project with many contributors.
Type 'contributors()' for more information and
'citation()' on how to cite R or R packages in publications.
Type 'demo()' for some demos, 'help()' for on-line help, or
'help.start()' for an HTML browser interface to help.
Type 'q()' to quit R.
> library(testthat)
> library(Cardinal)
Loading required package: BiocParallel
Loading required package: BiocGenerics
Loading required package: generics
Attaching package: 'generics'
The following objects are masked from 'package:base':
as.difftime, as.factor, as.ordered, intersect, is.element, setdiff,
setequal, union
Attaching package: 'BiocGenerics'
The following objects are masked from 'package:stats':
IQR, mad, sd, var, xtabs
The following objects are masked from 'package:base':
Filter, Find, Map, Position, Reduce, anyDuplicated, aperm, append,
as.data.frame, basename, cbind, colnames, dirname, do.call,
duplicated, eval, evalq, get, grep, grepl, is.unsorted, lapply,
mapply, match, mget, order, paste, pmax, pmax.int, pmin, pmin.int,
rank, rbind, rownames, sapply, saveRDS, table, tapply, unique,
unsplit, which.max, which.min
Loading required package: ProtGenerics
Attaching package: 'ProtGenerics'
The following object is masked from 'package:stats':
smooth
Loading required package: S4Vectors
Loading required package: stats4
Attaching package: 'S4Vectors'
The following object is masked from 'package:utils':
findMatches
The following objects are masked from 'package:base':
I, expand.grid, unname
>
> test_check("Cardinal")
[ FAIL 0 | WARN 0 | SKIP 0 | PASS 782 ]
>
> proc.time()
user system elapsed
226.002 4.268 228.419
Cardinal.Rcheck/Cardinal-Ex.timings
| name | user | system | elapsed | |
| MSImagingArrays-class | 0.152 | 0.013 | 0.166 | |
| MSImagingExperiment-class | 0.109 | 0.005 | 0.113 | |
| MassDataFrame-class | 0.026 | 0.000 | 0.026 | |
| MeansTest | 13.866 | 0.372 | 14.245 | |
| PositionDataFrame-class | 0.045 | 0.001 | 0.046 | |
| SpatialDGMM | 2.90 | 0.04 | 2.94 | |
| SpatialFastmap | 2.184 | 0.061 | 2.245 | |
| SpatialKMeans | 2.300 | 0.023 | 2.324 | |
| SpatialNMF | 2.305 | 0.007 | 2.312 | |
| SpatialPCA | 2.160 | 0.016 | 2.177 | |
| SpatialPLS | 2.206 | 0.046 | 2.252 | |
| SpatialShrunkenCentroids | 3.054 | 0.026 | 3.079 | |
| SpectraArrays-class | 0.006 | 0.002 | 0.008 | |
| SpectralImagingArrays-class | 0.062 | 0.001 | 0.063 | |
| SpectralImagingExperiment-class | 0.07 | 0.00 | 0.07 | |
| XDataFrame-class | 0.014 | 0.001 | 0.015 | |
| bin | 0.501 | 0.002 | 0.504 | |
| colocalized | 2.690 | 0.035 | 2.725 | |
| features | 1.969 | 0.011 | 1.979 | |
| findNeighbors | 0.050 | 0.002 | 0.052 | |
| normalize | 0.463 | 0.000 | 0.464 | |
| peakAlign | 0.619 | 0.002 | 0.621 | |
| peakPick | 0.711 | 0.002 | 0.712 | |
| peakProcess | 0.657 | 0.013 | 0.670 | |
| pixels | 1.992 | 0.014 | 2.007 | |
| plot-image | 5.203 | 0.063 | 5.267 | |
| plot-spectra | 0.688 | 0.009 | 0.696 | |
| process | 0.665 | 0.014 | 0.679 | |
| recalibrate | 0.696 | 0.004 | 0.702 | |
| reduceBaseline | 0.605 | 0.001 | 0.605 | |
| simulateSpectra | 2.322 | 0.007 | 2.328 | |
| sliceImage | 2.040 | 0.003 | 2.043 | |
| smooth | 0.592 | 0.001 | 0.593 | |
| spatialDists | 2.246 | 0.042 | 2.288 | |
| spatialWeights | 2.267 | 0.015 | 2.282 | |
| spectrapply | 2.09 | 0.06 | 2.15 | |
| subset | 2.307 | 0.003 | 2.310 | |
| summarize | 2.279 | 0.019 | 2.298 | |