Back to Multiple platform build/check report for BioC 3.23:   simplified   long
AB[C]DEFGHIJKLMNOPQRSTUVWXYZ

This page was generated on 2025-11-21 11:37 -0500 (Fri, 21 Nov 2025).

HostnameOSArch (*)R versionInstalled pkgs
nebbiolo1Linux (Ubuntu 24.04.3 LTS)x86_64R Under development (unstable) (2025-10-20 r88955) -- "Unsuffered Consequences" 4829
lconwaymacOS 12.7.6 Montereyx86_64R Under development (unstable) (2025-10-21 r88958) -- "Unsuffered Consequences" 4602
kjohnson3macOS 13.7.7 Venturaarm64R Under development (unstable) (2025-11-04 r88984) -- "Unsuffered Consequences" 4566
Click on any hostname to see more info about the system (e.g. compilers)      (*) as reported by 'uname -p', except on Windows and Mac OS X

Package 360/2327HostnameOS / ArchINSTALLBUILDCHECKBUILD BIN
CIMICE 1.19.0  (landing page)
Nicolò Rossi
Snapshot Date: 2025-11-20 13:40 -0500 (Thu, 20 Nov 2025)
git_url: https://git.bioconductor.org/packages/CIMICE
git_branch: devel
git_last_commit: 057a38f
git_last_commit_date: 2025-10-29 11:07:23 -0500 (Wed, 29 Oct 2025)
nebbiolo1Linux (Ubuntu 24.04.3 LTS) / x86_64  OK    OK    OK  UNNEEDED, same version is already published
lconwaymacOS 12.7.6 Monterey / x86_64  OK    OK    OK    OK  UNNEEDED, same version is already published
kjohnson3macOS 13.7.7 Ventura / arm64  OK    OK    OK    OK  UNNEEDED, same version is already published


CHECK results for CIMICE on nebbiolo1

To the developers/maintainers of the CIMICE package:
- Allow up to 24 hours (and sometimes 48 hours) for your latest push to git@git.bioconductor.org:packages/CIMICE.git to reflect on this report. See Troubleshooting Build Report for more information.
- Use the following Renviron settings to reproduce errors and warnings.
- If 'R CMD check' started to fail recently on the Linux builder(s) over a missing dependency, add the missing dependency to 'Suggests:' in your DESCRIPTION file. See Renviron.bioc for more information.

raw results


Summary

Package: CIMICE
Version: 1.19.0
Command: /home/biocbuild/bbs-3.23-bioc/R/bin/R CMD check --install=check:CIMICE.install-out.txt --library=/home/biocbuild/bbs-3.23-bioc/R/site-library --timings CIMICE_1.19.0.tar.gz
StartedAt: 2025-11-20 22:05:39 -0500 (Thu, 20 Nov 2025)
EndedAt: 2025-11-20 22:07:10 -0500 (Thu, 20 Nov 2025)
EllapsedTime: 91.2 seconds
RetCode: 0
Status:   OK  
CheckDir: CIMICE.Rcheck
Warnings: 0

Command output

##############################################################################
##############################################################################
###
### Running command:
###
###   /home/biocbuild/bbs-3.23-bioc/R/bin/R CMD check --install=check:CIMICE.install-out.txt --library=/home/biocbuild/bbs-3.23-bioc/R/site-library --timings CIMICE_1.19.0.tar.gz
###
##############################################################################
##############################################################################


* using log directory ‘/home/biocbuild/bbs-3.23-bioc/meat/CIMICE.Rcheck’
* using R Under development (unstable) (2025-10-20 r88955)
* using platform: x86_64-pc-linux-gnu
* R was compiled by
    gcc (Ubuntu 13.3.0-6ubuntu2~24.04) 13.3.0
    GNU Fortran (Ubuntu 13.3.0-6ubuntu2~24.04) 13.3.0
* running under: Ubuntu 24.04.3 LTS
* using session charset: UTF-8
* checking for file ‘CIMICE/DESCRIPTION’ ... OK
* checking extension type ... Package
* this is package ‘CIMICE’ version ‘1.19.0’
* package encoding: UTF-8
* checking package namespace information ... OK
* checking package dependencies ... OK
* checking if this is a source package ... OK
* checking if there is a namespace ... OK
* checking for hidden files and directories ... NOTE
Found the following hidden files and directories:
  .git.bfg-report
These were most likely included in error. See section ‘Package
structure’ in the ‘Writing R Extensions’ manual.
* checking for portable file names ... OK
* checking for sufficient/correct file permissions ... OK
* checking whether package ‘CIMICE’ can be installed ... OK
* checking installed package size ... OK
* checking package directory ... OK
* checking ‘build’ directory ... OK
* checking DESCRIPTION meta-information ... OK
* checking top-level files ... OK
* checking for left-over files ... OK
* checking index information ... OK
* checking package subdirectories ... OK
* checking code files for non-ASCII characters ... OK
* checking R files for syntax errors ... OK
* checking whether the package can be loaded ... OK
* checking whether the package can be loaded with stated dependencies ... OK
* checking whether the package can be unloaded cleanly ... OK
* checking whether the namespace can be loaded with stated dependencies ... OK
* checking whether the namespace can be unloaded cleanly ... OK
* checking loading without being on the library search path ... OK
* checking dependencies in R code ... OK
* checking S3 generic/method consistency ... OK
* checking replacement functions ... OK
* checking foreign function calls ... OK
* checking R code for possible problems ... OK
* checking Rd files ... OK
* checking Rd metadata ... OK
* checking Rd cross-references ... OK
* checking for missing documentation entries ... OK
* checking for code/documentation mismatches ... OK
* checking Rd \usage sections ... OK
* checking Rd contents ... OK
* checking for unstated dependencies in examples ... OK
* checking files in ‘vignettes’ ... OK
* checking examples ... OK
* checking for unstated dependencies in ‘tests’ ... OK
* checking tests ...
  Running ‘testthat.R’
 OK
* checking for unstated dependencies in vignettes ... OK
* checking package vignettes ... OK
* checking re-building of vignette outputs ... OK
* checking PDF version of manual ... OK
* DONE

Status: 1 NOTE
See
  ‘/home/biocbuild/bbs-3.23-bioc/meat/CIMICE.Rcheck/00check.log’
for details.


Installation output

CIMICE.Rcheck/00install.out

##############################################################################
##############################################################################
###
### Running command:
###
###   /home/biocbuild/bbs-3.23-bioc/R/bin/R CMD INSTALL CIMICE
###
##############################################################################
##############################################################################


* installing to library ‘/home/biocbuild/bbs-3.23-bioc/R/site-library’
* installing *source* package ‘CIMICE’ ...
** this is package ‘CIMICE’ version ‘1.19.0’
** using staged installation
** R
** inst
** byte-compile and prepare package for lazy loading
** help
*** installing help indices
** building package indices
** installing vignettes
** testing if installed package can be loaded from temporary location
** testing if installed package can be loaded from final location
** testing if installed package keeps a record of temporary installation path
* DONE (CIMICE)

Tests output

CIMICE.Rcheck/tests/testthat.Rout


R Under development (unstable) (2025-10-20 r88955) -- "Unsuffered Consequences"
Copyright (C) 2025 The R Foundation for Statistical Computing
Platform: x86_64-pc-linux-gnu

R is free software and comes with ABSOLUTELY NO WARRANTY.
You are welcome to redistribute it under certain conditions.
Type 'license()' or 'licence()' for distribution details.

R is a collaborative project with many contributors.
Type 'contributors()' for more information and
'citation()' on how to cite R or R packages in publications.

Type 'demo()' for some demos, 'help()' for on-line help, or
'help.start()' for an HTML browser interface to help.
Type 'q()' to quit R.

> library(testthat)
> library(CIMICE)
> 
> test_check("CIMICE")
[ FAIL 0 | WARN 2 | SKIP 0 | PASS 1 ]

[ FAIL 0 | WARN 2 | SKIP 0 | PASS 1 ]
> 
> proc.time()
   user  system elapsed 
  2.998   0.216   3.203 

Example timings

CIMICE.Rcheck/CIMICE-Ex.timings

nameusersystemelapsed
annotate_mutational_matrix0.0180.0010.019
binary_radix_sort0.0170.0000.017
build_subset_graph0.050.000.05
build_topology_subset0.0240.0000.024
chunk_reader0.0070.0000.009
compact_dataset0.0070.0020.009
computeDWNW0.210.010.22
computeUPW0.2620.0430.306
compute_weights_default0.0530.0010.054
corrplot_from_mutational_matrix0.4130.0650.478
corrplot_genes0.3860.0010.387
corrplot_samples0.2590.0000.259
dataset_preprocessing0.020.000.02
dataset_preprocessing_population0.0140.0020.016
draw_ggraph0.3050.0010.307
draw_networkD30.1340.0040.138
draw_visNetwork0.0690.0020.074
example_dataset0.0030.0000.003
example_dataset_withFreqs0.0020.0010.003
finalize_generator0.1460.0020.148
fix_clonal_genotype0.0200.0000.021
format_labels0.0000.0000.001
gene_mutations_hist0.1620.0020.164
get_no_of_children0.0400.0010.041
graph_non_transitive_subset_topology0.0320.0000.032
make_dataset0.0030.0000.003
make_generator_stub0.070.000.07
make_labels0.0470.0000.046
normalizeDWNW0.0600.0020.062
normalizeUPW0.0520.0010.054
perturb_dataset0.2930.0020.295
plot_generator0.3680.0000.368
prepare_generator_edge_set_command0.0830.0000.083
prepare_labels0.0180.0000.018
quick_run0.0550.0000.055
read0.5660.6321.200
read_CAPRI0.5860.5861.171
read_CAPRI_string0.0040.0020.005
read_CAPRIpop0.0020.0020.004
read_CAPRIpop_string0.0040.0000.004
read_MAF0.2250.0610.253
read_matrix0.0020.0010.004
remove_transitive_edges000
sample_mutations_hist0.1730.0050.178
select_genes_on_mutations0.0050.0020.007
select_samples_on_mutations0.0180.0010.019
set_generator_edges0.1170.0000.117
simulate_generator0.0940.0000.095
to_dot0.0550.0000.055
update_df0.0120.0010.013