| Back to Multiple platform build/check report for BioC 3.23: simplified long |
|
This page was generated on 2025-11-27 11:37 -0500 (Thu, 27 Nov 2025).
| Hostname | OS | Arch (*) | R version | Installed pkgs |
|---|---|---|---|---|
| nebbiolo1 | Linux (Ubuntu 24.04.3 LTS) | x86_64 | R Under development (unstable) (2025-10-20 r88955) -- "Unsuffered Consequences" | 4865 |
| lconway | macOS 12.7.6 Monterey | x86_64 | R Under development (unstable) (2025-10-21 r88958) -- "Unsuffered Consequences" | 4614 |
| kjohnson3 | macOS 13.7.7 Ventura | arm64 | R Under development (unstable) (2025-11-04 r88984) -- "Unsuffered Consequences" | 4571 |
| Click on any hostname to see more info about the system (e.g. compilers) (*) as reported by 'uname -p', except on Windows and Mac OS X | ||||
| Package 266/2328 | Hostname | OS / Arch | INSTALL | BUILD | CHECK | BUILD BIN | ||||||||
| CAGEfightR 1.31.0 (landing page) Malte Thodberg
| nebbiolo1 | Linux (Ubuntu 24.04.3 LTS) / x86_64 | OK | OK | OK | |||||||||
| lconway | macOS 12.7.6 Monterey / x86_64 | OK | OK | OK | OK | |||||||||
| kjohnson3 | macOS 13.7.7 Ventura / arm64 | OK | OK | OK | OK | |||||||||
|
To the developers/maintainers of the CAGEfightR package: - Allow up to 24 hours (and sometimes 48 hours) for your latest push to git@git.bioconductor.org:packages/CAGEfightR.git to reflect on this report. See Troubleshooting Build Report for more information. - Use the following Renviron settings to reproduce errors and warnings. - If 'R CMD check' started to fail recently on the Linux builder(s) over a missing dependency, add the missing dependency to 'Suggests:' in your DESCRIPTION file. See Renviron.bioc for more information. |
| Package: CAGEfightR |
| Version: 1.31.0 |
| Command: /home/biocbuild/bbs-3.23-bioc/R/bin/R CMD check --install=check:CAGEfightR.install-out.txt --library=/home/biocbuild/bbs-3.23-bioc/R/site-library --timings CAGEfightR_1.31.0.tar.gz |
| StartedAt: 2025-11-26 21:39:36 -0500 (Wed, 26 Nov 2025) |
| EndedAt: 2025-11-26 21:48:51 -0500 (Wed, 26 Nov 2025) |
| EllapsedTime: 555.7 seconds |
| RetCode: 0 |
| Status: OK |
| CheckDir: CAGEfightR.Rcheck |
| Warnings: 0 |
##############################################################################
##############################################################################
###
### Running command:
###
### /home/biocbuild/bbs-3.23-bioc/R/bin/R CMD check --install=check:CAGEfightR.install-out.txt --library=/home/biocbuild/bbs-3.23-bioc/R/site-library --timings CAGEfightR_1.31.0.tar.gz
###
##############################################################################
##############################################################################
* using log directory ‘/home/biocbuild/bbs-3.23-bioc/meat/CAGEfightR.Rcheck’
* using R Under development (unstable) (2025-10-20 r88955)
* using platform: x86_64-pc-linux-gnu
* R was compiled by
gcc (Ubuntu 13.3.0-6ubuntu2~24.04) 13.3.0
GNU Fortran (Ubuntu 13.3.0-6ubuntu2~24.04) 13.3.0
* running under: Ubuntu 24.04.3 LTS
* using session charset: UTF-8
* checking for file ‘CAGEfightR/DESCRIPTION’ ... OK
* checking extension type ... Package
* this is package ‘CAGEfightR’ version ‘1.31.0’
* package encoding: UTF-8
* checking package namespace information ... OK
* checking package dependencies ... OK
* checking if this is a source package ... OK
* checking if there is a namespace ... OK
* checking for hidden files and directories ... OK
* checking for portable file names ... OK
* checking for sufficient/correct file permissions ... OK
* checking whether package ‘CAGEfightR’ can be installed ... OK
* checking installed package size ... OK
* checking package directory ... OK
* checking ‘build’ directory ... OK
* checking DESCRIPTION meta-information ... OK
* checking top-level files ... OK
* checking for left-over files ... OK
* checking index information ... OK
* checking package subdirectories ... OK
* checking code files for non-ASCII characters ... OK
* checking R files for syntax errors ... OK
* checking whether the package can be loaded ... OK
* checking whether the package can be loaded with stated dependencies ... OK
* checking whether the package can be unloaded cleanly ... OK
* checking whether the namespace can be loaded with stated dependencies ... OK
* checking whether the namespace can be unloaded cleanly ... OK
* checking loading without being on the library search path ... OK
* checking whether startup messages can be suppressed ... OK
* checking dependencies in R code ... OK
* checking S3 generic/method consistency ... OK
* checking replacement functions ... OK
* checking foreign function calls ... OK
* checking R code for possible problems ... OK
* checking Rd files ... OK
* checking Rd metadata ... OK
* checking Rd cross-references ... OK
* checking for missing documentation entries ... OK
* checking for code/documentation mismatches ... OK
* checking Rd \usage sections ... OK
* checking Rd contents ... OK
* checking for unstated dependencies in examples ... OK
* checking contents of ‘data’ directory ... OK
* checking data for non-ASCII characters ... OK
* checking LazyData ... OK
* checking data for ASCII and uncompressed saves ... OK
* checking files in ‘vignettes’ ... OK
* checking examples ... OK
Examples with CPU (user + system) or elapsed time > 5s
user system elapsed
findLinks 6.115 1.053 6.546
* checking for unstated dependencies in vignettes ... OK
* checking package vignettes ... OK
* checking re-building of vignette outputs ... OK
* checking PDF version of manual ... OK
* DONE
Status: OK
CAGEfightR.Rcheck/00install.out
############################################################################## ############################################################################## ### ### Running command: ### ### /home/biocbuild/bbs-3.23-bioc/R/bin/R CMD INSTALL CAGEfightR ### ############################################################################## ############################################################################## * installing to library ‘/home/biocbuild/bbs-3.23-bioc/R/site-library’ * installing *source* package ‘CAGEfightR’ ... ** this is package ‘CAGEfightR’ version ‘1.31.0’ ** using staged installation ** R ** data *** moving datasets to lazyload DB ** inst ** byte-compile and prepare package for lazy loading ** help *** installing help indices ** building package indices ** installing vignettes ** testing if installed package can be loaded from temporary location ** testing if installed package can be loaded from final location ** testing if installed package keeps a record of temporary installation path * DONE (CAGEfightR)
CAGEfightR.Rcheck/CAGEfightR-Ex.timings
| name | user | system | elapsed | |
| assignGeneID | 3.680 | 0.104 | 3.785 | |
| assignMissingID | 0.898 | 0.028 | 0.926 | |
| assignTxID | 0.817 | 0.022 | 0.839 | |
| assignTxType | 0.000 | 0.000 | 0.001 | |
| balanceBC | 0.000 | 0.000 | 0.001 | |
| balanceD | 0.000 | 0.000 | 0.001 | |
| bwCommonGenome | 0.033 | 0.001 | 0.038 | |
| bwGenomeCompatibility | 0.016 | 0.000 | 0.017 | |
| bwValid | 0.008 | 0.000 | 0.008 | |
| calcBidirectionality | 0.396 | 0.000 | 0.397 | |
| calcComposition | 1.224 | 0.007 | 1.231 | |
| calcPooled | 0.085 | 0.001 | 0.085 | |
| calcShape | 2.257 | 0.081 | 2.338 | |
| calcSupport | 0.125 | 0.001 | 0.126 | |
| calcTPM | 0.110 | 0.002 | 0.112 | |
| calcTotalTags | 0.053 | 0.005 | 0.058 | |
| checkCTSSs | 0.223 | 0.000 | 0.224 | |
| checkPeaked | 0.063 | 0.005 | 0.067 | |
| checkPooled | 0.050 | 0.009 | 0.059 | |
| clusterBidirectionally | 0.000 | 0.001 | 0.000 | |
| clusterUnidirectionally | 1.519 | 0.052 | 1.571 | |
| combineClusters | 0.814 | 0.006 | 0.820 | |
| convertBAM2BigWig | 0 | 0 | 0 | |
| convertBED2BigWig | 0.000 | 0.000 | 0.001 | |
| convertGRanges2GPos | 0.067 | 0.001 | 0.069 | |
| exampleDesign | 0.002 | 0.002 | 0.005 | |
| findLinks | 6.115 | 1.053 | 6.546 | |
| findStretches | 0.363 | 0.053 | 0.416 | |
| quantifyCTSSs | 0.000 | 0.001 | 0.000 | |
| quantifyCTSSs2 | 0.000 | 0.001 | 0.000 | |
| quantifyClusters | 0.345 | 0.067 | 0.412 | |
| quantifyGenes | 1.133 | 0.159 | 1.293 | |
| quickEnhancers | 0 | 0 | 0 | |
| quickGenes | 0.000 | 0.000 | 0.001 | |
| quickTSSs | 0 | 0 | 0 | |
| shapeEntropy | 0.001 | 0.000 | 0.000 | |
| shapeIQR | 0.000 | 0.001 | 0.001 | |
| shapeMean | 0.000 | 0.000 | 0.001 | |
| shapeMultimodality | 0.000 | 0.000 | 0.001 | |
| subsetByBidirectionality | 0.387 | 0.035 | 0.423 | |
| subsetByComposition | 1.069 | 0.010 | 1.079 | |
| subsetBySupport | 0.062 | 0.001 | 0.063 | |
| swapRanges | 0.156 | 0.003 | 0.159 | |
| swapScores | 0.085 | 0.002 | 0.087 | |
| trackBalance | 0.000 | 0.000 | 0.001 | |
| trackCTSS | 3.322 | 0.550 | 3.873 | |
| trackClusters | 2.278 | 0.270 | 2.548 | |
| trackLinks | 0.813 | 0.484 | 1.045 | |
| trimToPeak | 0.780 | 0.095 | 0.875 | |
| trimToPercentiles | 1.962 | 0.127 | 2.089 | |
| tuneTagClustering | 0.000 | 0.000 | 0.001 | |
| utilsAggregateRows | 0.282 | 0.430 | 0.713 | |
| utilsDeStrand | 0.113 | 0.009 | 0.123 | |
| utilsScoreOverlaps | 0.064 | 0.002 | 0.067 | |
| utilsSimplifyTxDb | 0 | 0 | 0 | |