Back to Multiple platform build/check report for BioC 3.22:   simplified   long
A[B]CDEFGHIJKLMNOPQRSTUVWXYZ

This page was generated on 2025-10-25 12:04 -0400 (Sat, 25 Oct 2025).

HostnameOSArch (*)R versionInstalled pkgs
nebbiolo2Linux (Ubuntu 24.04.3 LTS)x86_644.5.1 Patched (2025-08-23 r88802) -- "Great Square Root" 4901
lconwaymacOS 12.7.6 Montereyx86_644.5.1 Patched (2025-09-10 r88807) -- "Great Square Root" 4691
kjohnson3macOS 13.7.7 Venturaarm644.5.1 Patched (2025-09-10 r88807) -- "Great Square Root" 4637
taishanLinux (openEuler 24.03 LTS)aarch644.5.0 (2025-04-11) -- "How About a Twenty-Six" 4658
Click on any hostname to see more info about the system (e.g. compilers)      (*) as reported by 'uname -p', except on Windows and Mac OS X

Package 260/2361HostnameOS / ArchINSTALLBUILDCHECKBUILD BIN
BulkSignalR 1.1.5  (landing page)
Jean-Philippe Villemin
Snapshot Date: 2025-10-24 13:45 -0400 (Fri, 24 Oct 2025)
git_url: https://git.bioconductor.org/packages/BulkSignalR
git_branch: devel
git_last_commit: dd2021f
git_last_commit_date: 2025-09-27 04:43:00 -0400 (Sat, 27 Sep 2025)
nebbiolo2Linux (Ubuntu 24.04.3 LTS) / x86_64  OK    OK    OK  UNNEEDED, same version is already published
lconwaymacOS 12.7.6 Monterey / x86_64  OK    OK    OK    OK  UNNEEDED, same version is already published
kjohnson3macOS 13.7.7 Ventura / arm64  OK    OK    OK    OK  UNNEEDED, same version is already published
taishanLinux (openEuler 24.03 LTS) / aarch64  OK    NA    NA  


CHECK results for BulkSignalR on lconway

To the developers/maintainers of the BulkSignalR package:
- Allow up to 24 hours (and sometimes 48 hours) for your latest push to git@git.bioconductor.org:packages/BulkSignalR.git to reflect on this report. See Troubleshooting Build Report for more information.
- Use the following Renviron settings to reproduce errors and warnings.
- If 'R CMD check' started to fail recently on the Linux builder(s) over a missing dependency, add the missing dependency to 'Suggests:' in your DESCRIPTION file. See Renviron.bioc for more information.

raw results


Summary

Package: BulkSignalR
Version: 1.1.5
Command: /Library/Frameworks/R.framework/Resources/bin/R CMD check --install=check:BulkSignalR.install-out.txt --library=/Library/Frameworks/R.framework/Resources/library --no-vignettes --timings BulkSignalR_1.1.5.tar.gz
StartedAt: 2025-10-24 19:57:01 -0400 (Fri, 24 Oct 2025)
EndedAt: 2025-10-24 20:04:42 -0400 (Fri, 24 Oct 2025)
EllapsedTime: 461.1 seconds
RetCode: 0
Status:   OK  
CheckDir: BulkSignalR.Rcheck
Warnings: 0

Command output

##############################################################################
##############################################################################
###
### Running command:
###
###   /Library/Frameworks/R.framework/Resources/bin/R CMD check --install=check:BulkSignalR.install-out.txt --library=/Library/Frameworks/R.framework/Resources/library --no-vignettes --timings BulkSignalR_1.1.5.tar.gz
###
##############################################################################
##############################################################################


* using log directory ‘/Users/biocbuild/bbs-3.22-bioc/meat/BulkSignalR.Rcheck’
* using R version 4.5.1 Patched (2025-09-10 r88807)
* using platform: x86_64-apple-darwin20
* R was compiled by
    Apple clang version 14.0.0 (clang-1400.0.29.202)
    GNU Fortran (GCC) 14.2.0
* running under: macOS Monterey 12.7.6
* using session charset: UTF-8
* using option ‘--no-vignettes’
* checking for file ‘BulkSignalR/DESCRIPTION’ ... OK
* checking extension type ... Package
* this is package ‘BulkSignalR’ version ‘1.1.5’
* package encoding: UTF-8
* checking package namespace information ... OK
* checking package dependencies ... INFO
Imports includes 26 non-default packages.
Importing from so many packages makes the package vulnerable to any of
them becoming unavailable.  Move as many as possible to Suggests and
use conditionally.
* checking if this is a source package ... OK
* checking if there is a namespace ... OK
* checking for hidden files and directories ... OK
* checking for portable file names ... OK
* checking for sufficient/correct file permissions ... OK
* checking whether package ‘BulkSignalR’ can be installed ... OK
* checking installed package size ... OK
* checking package directory ... OK
* checking ‘build’ directory ... OK
* checking DESCRIPTION meta-information ... OK
* checking top-level files ... OK
* checking for left-over files ... OK
* checking index information ... OK
* checking package subdirectories ... OK
* checking code files for non-ASCII characters ... OK
* checking R files for syntax errors ... OK
* checking whether the package can be loaded ... OK
* checking whether the package can be loaded with stated dependencies ... OK
* checking whether the package can be unloaded cleanly ... OK
* checking whether the namespace can be loaded with stated dependencies ... OK
* checking whether the namespace can be unloaded cleanly ... OK
* checking whether startup messages can be suppressed ... OK
* checking dependencies in R code ... OK
* checking S3 generic/method consistency ... OK
* checking replacement functions ... OK
* checking foreign function calls ... OK
* checking R code for possible problems ... OK
* checking Rd files ... OK
* checking Rd metadata ... OK
* checking Rd cross-references ... OK
* checking for missing documentation entries ... OK
* checking for code/documentation mismatches ... OK
* checking Rd \usage sections ... OK
* checking Rd contents ... OK
* checking for unstated dependencies in examples ... OK
* checking contents of ‘data’ directory ... OK
* checking data for non-ASCII characters ... OK
* checking data for ASCII and uncompressed saves ... OK
* checking files in ‘vignettes’ ... OK
* checking examples ... OK
Examples with CPU (user + system) or elapsed time > 5s
               user system elapsed
simpleHeatmap 7.003  0.395   7.470
cacheClear    3.642  0.233   7.426
* checking for unstated dependencies in ‘tests’ ... OK
* checking tests ...
  Running ‘testthat.R’
 OK
* checking for unstated dependencies in vignettes ... OK
* checking package vignettes ... OK
* checking running R code from vignettes ... SKIPPED
* checking re-building of vignette outputs ... SKIPPED
* checking PDF version of manual ... OK
* DONE

Status: OK


Installation output

BulkSignalR.Rcheck/00install.out

##############################################################################
##############################################################################
###
### Running command:
###
###   /Library/Frameworks/R.framework/Resources/bin/R CMD INSTALL BulkSignalR
###
##############################################################################
##############################################################################


* installing to library ‘/Library/Frameworks/R.framework/Versions/4.5-x86_64/Resources/library’
* installing *source* package ‘BulkSignalR’ ...
** this is package ‘BulkSignalR’ version ‘1.1.5’
** using staged installation
** R
** data
** inst
** byte-compile and prepare package for lazy loading
** help
*** installing help indices
*** copying figures
** building package indices
** installing vignettes
** testing if installed package can be loaded from temporary location
** testing if installed package can be loaded from final location
** testing if installed package keeps a record of temporary installation path
* DONE (BulkSignalR)

Tests output

BulkSignalR.Rcheck/tests/testthat.Rout


R version 4.5.1 Patched (2025-09-10 r88807) -- "Great Square Root"
Copyright (C) 2025 The R Foundation for Statistical Computing
Platform: x86_64-apple-darwin20

R is free software and comes with ABSOLUTELY NO WARRANTY.
You are welcome to redistribute it under certain conditions.
Type 'license()' or 'licence()' for distribution details.

R is a collaborative project with many contributors.
Type 'contributors()' for more information and
'citation()' on how to cite R or R packages in publications.

Type 'demo()' for some demos, 'help()' for on-line help, or
'help.start()' for an HTML browser interface to help.
Type 'q()' to quit R.

> library(testthat)
> library(BulkSignalR)
Local "resources" are up to date.

> test_check("BulkSignalR")
[ FAIL 0 | WARN 0 | SKIP 0 | PASS 1 ]
> 
> proc.time()
   user  system elapsed 
 15.801   0.913  17.786 

Example timings

BulkSignalR.Rcheck/BulkSignalR-Ex.timings

nameusersystemelapsed
BSRClusterComp-class0.0020.0010.003
BSRClusterComp0.4000.0210.425
BSRDataModel-class0.0470.0070.054
BSRDataModel0.2500.0060.258
BSRDataModelComp-class0.0050.0010.006
BSRDataModelComp0.2630.0050.270
BSRInference-class0.0050.0000.006
BSRInference3.4570.0933.577
BSRInferenceComp-class0.0080.0000.008
BSRInferenceComp1.2170.0821.307
BSRSignature-class0.0020.0000.002
BSRSignature0.0310.0010.033
BSRSignatureComp-class0.0030.0000.003
BSRSignatureComp0.0180.0010.020
LRinter0.0020.0000.002
LRinterScore0.0030.0010.004
LRinterShort0.0020.0010.004
addClusterComp0.3200.0150.337
alluvialPlot0.6000.0250.629
assignCellTypesToInteractions0.7290.0440.790
bubblePlotPathwaysLR0.5400.0070.548
cacheClear3.6420.2337.426
cacheInfo0.1040.0080.111
cacheVersion0.3130.0350.694
cellTypeFrequency0.7120.0200.735
cellularNetwork0.6540.0270.686
cellularNetworkTable0.6270.0190.649
chordDiagramLR1.2720.0161.295
coerce0.0010.0000.001
colClusterA0.0000.0010.001
colClusterB0.0000.0000.001
comparison0.0000.0000.001
comparisonName000
convertToHuman0.2050.0113.776
createResources0.2790.0350.925
differentialStats0.0010.0000.000
findOrthoGenes0.1230.0020.286
generateSpatialPlots1.8200.0421.868
getLRIntracellNetwork2.0060.1732.191
getLRNetwork0.0330.0020.035
getPathwayStats0.0150.0010.016
getResource0.2960.0170.315
inferenceParameters0.0000.0000.001
initialOrganism0.0010.0000.003
initialOrthologs0.0020.0010.002
learnParameters2.7960.0372.846
ligands0.0000.0010.000
logTransformed0.0010.0000.002
maxLigandSpatialCounts0.0540.0020.058
mu0.0010.0000.000
ncounts0.0010.0000.002
normalization0.0010.0000.002
parameters0.0010.0010.002
pathways000
receptors0.0000.0000.001
reduceToBestPathway0.0980.0040.102
reduceToLigand0.0400.0020.043
reduceToPathway0.0940.0020.097
reduceToReceptor0.0140.0020.015
relateToGeneSet0.1050.0090.115
removeClusterComp0.3460.0090.358
rescoreInference0.0310.0030.035
resetLRdb0.0260.0000.027
resetNetwork0.0070.0000.007
resetPathways0.3220.0150.340
resetToInitialOrganism0.1720.0060.178
scoreLRGeneSignatures1.2950.0421.348
scoreSignatures0.4040.0100.420
separatedLRPlot1.9500.0432.008
signatureHeatmaps0.0230.0020.025
simpleHeatmap7.0030.3957.470
smoothSpatialCounts0.0500.0110.060
sourceComparisonName0.0010.0000.000
spatialAssociation0.0580.0240.082
spatialAssociationPlot3.7740.0803.871
spatialDiversityPlot0.9610.0240.993
spatialIndexPlot1.6300.0281.667
spatialPlot1.4040.0301.443
summarizedCellularNetwork0.6280.0200.651
tgCorr0.0010.0000.000
tgExpr0.0000.0000.001
tgGenes000
tgLogFC0.0010.0000.000
tgPval000
updateInference0.0860.0020.089