| Back to Build/check report for BioC 3.23: simplified long |
|
This page was generated on 2025-10-31 08:34 -0400 (Fri, 31 Oct 2025).
| Hostname | OS | Arch (*) | R version | Installed pkgs |
|---|---|---|---|---|
| nebbiolo1 | Linux (Ubuntu 24.04.3 LTS) | x86_64 | R Under development (unstable) (2025-10-20 r88955) -- "Unsuffered Consequences" | 4428 |
| Click on any hostname to see more info about the system (e.g. compilers) (*) as reported by 'uname -p', except on Windows and Mac OS X | ||||
| Package 252/2321 | Hostname | OS / Arch | INSTALL | BUILD | CHECK | BUILD BIN | ||||||||
| BufferedMatrixMethods 1.75.0 (landing page) Ben Bolstad
| nebbiolo1 | Linux (Ubuntu 24.04.3 LTS) / x86_64 | OK | OK | OK | |||||||||
|
To the developers/maintainers of the BufferedMatrixMethods package: - Allow up to 24 hours (and sometimes 48 hours) for your latest push to git@git.bioconductor.org:packages/BufferedMatrixMethods.git to reflect on this report. See Troubleshooting Build Report for more information. - Use the following Renviron settings to reproduce errors and warnings. - If 'R CMD check' started to fail recently on the Linux builder(s) over a missing dependency, add the missing dependency to 'Suggests:' in your DESCRIPTION file. See Renviron.bioc for more information. |
| Package: BufferedMatrixMethods |
| Version: 1.75.0 |
| Command: /home/biocbuild/bbs-3.23-bioc/R/bin/R CMD INSTALL BufferedMatrixMethods |
| StartedAt: 2025-10-30 15:02:13 -0400 (Thu, 30 Oct 2025) |
| EndedAt: 2025-10-30 15:02:24 -0400 (Thu, 30 Oct 2025) |
| EllapsedTime: 10.8 seconds |
| RetCode: 0 |
| Status: OK |
##############################################################################
##############################################################################
###
### Running command:
###
### /home/biocbuild/bbs-3.23-bioc/R/bin/R CMD INSTALL BufferedMatrixMethods
###
##############################################################################
##############################################################################
* installing to library ‘/home/biocbuild/bbs-3.23-bioc/R/site-library’
* installing *source* package ‘BufferedMatrixMethods’ ...
** this is package ‘BufferedMatrixMethods’ version ‘1.75.0’
** using staged installation
** libs
using C compiler: ‘gcc (Ubuntu 13.3.0-6ubuntu2~24.04) 13.3.0’
gcc -std=gnu2x -I"/home/biocbuild/bbs-3.23-bioc/R/include" -DNDEBUG -I'/home/biocbuild/bbs-3.23-bioc/R/site-library/BufferedMatrix/include' -I/usr/local/include -fpic -g -O2 -Wall -Werror=format-security -c init_package.c -o init_package.o
gcc -std=gnu2x -I"/home/biocbuild/bbs-3.23-bioc/R/include" -DNDEBUG -I'/home/biocbuild/bbs-3.23-bioc/R/site-library/BufferedMatrix/include' -I/usr/local/include -fpic -g -O2 -Wall -Werror=format-security -c preprocess_bm.c -o preprocess_bm.o
preprocess_bm.c: In function ‘bm_rma_bg_correct’:
preprocess_bm.c:344:7: warning: unused variable ‘i’ [-Wunused-variable]
344 | int i,j;
| ^
preprocess_bm.c: In function ‘R_bm_rma_bg_correct’:
preprocess_bm.c:378:7: warning: unused variable ‘current_mode’ [-Wunused-variable]
378 | int current_mode;
| ^~~~~~~~~~~~
preprocess_bm.c: In function ‘R_bm_quantile_normalize’:
preprocess_bm.c:593:7: warning: unused variable ‘current_mode’ [-Wunused-variable]
593 | int current_mode;
| ^~~~~~~~~~~~
preprocess_bm.c: In function ‘do_RMA_buffmat’:
preprocess_bm.c:924:7: warning: variable ‘first_ind’ set but not used [-Wunused-but-set-variable]
924 | int first_ind;
| ^~~~~~~~~
preprocess_bm.c: In function ‘R_bm_rma_bg_correct_quantile_normalize’:
preprocess_bm.c:1151:7: warning: unused variable ‘current_mode’ [-Wunused-variable]
1151 | int current_mode;
| ^~~~~~~~~~~~
preprocess_bm.c: At top level:
preprocess_bm.c:453:12: warning: ‘min’ defined but not used [-Wunused-function]
453 | static int min(int x1,int x2){
| ^~~
gcc -std=gnu2x -shared -L/home/biocbuild/bbs-3.23-bioc/R/lib -L/usr/local/lib -o BufferedMatrixMethods.so init_package.o preprocess_bm.o -L/home/biocbuild/bbs-3.23-bioc/R/lib -lR
installing to /home/biocbuild/bbs-3.23-bioc/R/site-library/00LOCK-BufferedMatrixMethods/00new/BufferedMatrixMethods/libs
** R
** byte-compile and prepare package for lazy loading
** help
*** installing help indices
** building package indices
** testing if installed package can be loaded from temporary location
** checking absolute paths in shared objects and dynamic libraries
** testing if installed package can be loaded from final location
** testing if installed package keeps a record of temporary installation path
* DONE (BufferedMatrixMethods)