Back to Multiple platform build/check report for BioC 3.22:   simplified   long
A[B]CDEFGHIJKLMNOPQRSTUVWXYZ

This page was generated on 2025-10-29 12:03 -0400 (Wed, 29 Oct 2025).

HostnameOSArch (*)R versionInstalled pkgs
nebbiolo2Linux (Ubuntu 24.04.3 LTS)x86_644.5.1 Patched (2025-08-23 r88802) -- "Great Square Root" 4901
lconwaymacOS 12.7.6 Montereyx86_644.5.1 Patched (2025-09-10 r88807) -- "Great Square Root" 4691
kjohnson3macOS 13.7.7 Venturaarm644.5.1 Patched (2025-09-10 r88807) -- "Great Square Root" 4637
Click on any hostname to see more info about the system (e.g. compilers)      (*) as reported by 'uname -p', except on Windows and Mac OS X

All results for package BiocNeighbors


To the developers/maintainers of the BiocNeighbors package:
- Allow up to 24 hours (and sometimes 48 hours) for your latest push to git@git.bioconductor.org:packages/BiocNeighbors.git to reflect on this report. See Troubleshooting Build Report for more information.
- Use the following Renviron settings to reproduce errors and warnings.
- If 'R CMD check' started to fail recently on the Linux builder(s) over a missing dependency, add the missing dependency to 'Suggests:' in your DESCRIPTION file. See Renviron.bioc for more information.

raw results

Package 196/2361HostnameOS / ArchINSTALLBUILDCHECKBUILD BIN
BiocNeighbors 2.3.1  (landing page)
Aaron Lun
Snapshot Date: 2025-10-28 13:45 -0400 (Tue, 28 Oct 2025)
git_url: https://git.bioconductor.org/packages/BiocNeighbors
git_branch: devel
git_last_commit: 83a145d
git_last_commit_date: 2025-05-22 20:07:02 -0400 (Thu, 22 May 2025)
nebbiolo2Linux (Ubuntu 24.04.3 LTS) / x86_64  OK    OK    OK  UNNEEDED, same version is already published
lconwaymacOS 12.7.6 Monterey / x86_64  OK    OK    OK    OK  UNNEEDED, same version is already published
kjohnson3macOS 13.7.7 Ventura / arm64  OK    OK    OK    OK  UNNEEDED, same version is already published



Results for Bioconductor software packages that depend directly on package BiocNeighbors

QUICK STATSOS / ArchINSTALLBUILDCHECKBUILD BIN
nebbiolo2Linux (Ubuntu 24.04.3 LTS) / x86_64
0024
0222
01318
lconwaymacOS 12.7.6 Monterey / x86_64
0024
0222
01219
0022
kjohnson3macOS 13.7.7 Ventura / arm64
0024
0222
02317
0022
Package 1/24HostnameOS / ArchINSTALLBUILDCHECKBUILD BIN
batchelor 1.25.0  (landing page)
Aaron Lun
git_last_commit: 6aba2ed
git_last_commit_date: 2025-04-15 11:42:55 -0400
nebbiolo2Linux (Ubuntu 24.04.3 LTS) / x86_64  OK    OK    OK  UNNEEDED, same version is already published
lconwaymacOS 12.7.6 Monterey / x86_64  OK    OK    OK    OK  UNNEEDED, same version is already published
kjohnson3macOS 13.7.7 Ventura / arm64  OK    OK    OK    OK  UNNEEDED, same version is already published
Package 2/24HostnameOS / ArchINSTALLBUILDCHECKBUILD BIN
bluster 1.19.1  (landing page)
Aaron Lun
git_last_commit: 8ba9857
git_last_commit_date: 2025-10-23 00:36:31 -0400
nebbiolo2Linux (Ubuntu 24.04.3 LTS) / x86_64  OK    OK    OK  UNNEEDED, same version is already published
lconwaymacOS 12.7.6 Monterey / x86_64  OK    OK    OK    OK  UNNEEDED, same version is already published
kjohnson3macOS 13.7.7 Ventura / arm64  OK    OK    OK    OK  UNNEEDED, same version is already published
Package 3/24HostnameOS / ArchINSTALLBUILDCHECKBUILD BIN
CellMixS 1.25.1  (landing page)
Almut Lütge
git_last_commit: 8bd27b2
git_last_commit_date: 2025-10-14 14:32:16 -0400
nebbiolo2Linux (Ubuntu 24.04.3 LTS) / x86_64  OK    OK    OK  UNNEEDED, same version is already published
lconwaymacOS 12.7.6 Monterey / x86_64  OK    OK    OK    OK  UNNEEDED, same version is already published
kjohnson3macOS 13.7.7 Ventura / arm64  OK    OK    OK    OK  UNNEEDED, same version is already published
Package 4/24HostnameOS / ArchINSTALLBUILDCHECKBUILD BIN
clustSIGNAL 1.1.1  (landing page)
Pratibha Panwar
git_last_commit: 2582377
git_last_commit_date: 2025-10-14 14:33:45 -0400
nebbiolo2Linux (Ubuntu 24.04.3 LTS) / x86_64  OK    OK    OK  UNNEEDED, same version is already published
lconwaymacOS 12.7.6 Monterey / x86_64  OK    OK    OK    OK  UNNEEDED, same version is already published
kjohnson3macOS 13.7.7 Ventura / arm64  OK    OK    OK    OK  UNNEEDED, same version is already published
Package 5/24HostnameOS / ArchINSTALLBUILDCHECKBUILD BIN
concordexR 1.9.1  (landing page)
Kayla Jackson
git_last_commit: 4c8e8f6
git_last_commit_date: 2025-06-12 16:33:05 -0400
nebbiolo2Linux (Ubuntu 24.04.3 LTS) / x86_64  OK    OK    WARNINGS  UNNEEDED, same version is already published
lconwaymacOS 12.7.6 Monterey / x86_64  OK    OK    WARNINGS    OK  UNNEEDED, same version is already published
kjohnson3macOS 13.7.7 Ventura / arm64  OK    OK    WARNINGS    OK  UNNEEDED, same version is already published
Package 6/24HostnameOS / ArchINSTALLBUILDCHECKBUILD BIN
cydar 1.33.0  (landing page)
Aaron Lun
git_last_commit: afc4250
git_last_commit_date: 2025-04-15 11:09:41 -0400
nebbiolo2Linux (Ubuntu 24.04.3 LTS) / x86_64  OK    OK    OK  UNNEEDED, same version is already published
lconwaymacOS 12.7.6 Monterey / x86_64  OK    OK    OK    OK  UNNEEDED, same version is already published
kjohnson3macOS 13.7.7 Ventura / arm64  OK    OK    OK    OK  UNNEEDED, same version is already published
Package 7/24HostnameOS / ArchINSTALLBUILDCHECKBUILD BIN
GeDi 1.5.0  (landing page)
Annekathrin Nedwed
git_last_commit: 54df8c8
git_last_commit_date: 2025-04-15 13:33:55 -0400
nebbiolo2Linux (Ubuntu 24.04.3 LTS) / x86_64  OK    OK    ERROR  
lconwaymacOS 12.7.6 Monterey / x86_64  OK    OK    ERROR    OK  
kjohnson3macOS 13.7.7 Ventura / arm64  OK    OK    ERROR    OK  
Package 8/24HostnameOS / ArchINSTALLBUILDCHECKBUILD BIN
imcRtools 1.15.5  (landing page)
Daniel Schulz
git_last_commit: 6088bda
git_last_commit_date: 2025-10-20 06:16:05 -0400
nebbiolo2Linux (Ubuntu 24.04.3 LTS) / x86_64  OK    OK    OK  UNNEEDED, same version is already published
lconwaymacOS 12.7.6 Monterey / x86_64  OK    OK    OK    OK  UNNEEDED, same version is already published
kjohnson3macOS 13.7.7 Ventura / arm64  OK    OK    OK    OK  UNNEEDED, same version is already published
Package 9/24HostnameOS / ArchINSTALLBUILDCHECKBUILD BIN
lemur 1.7.1  (landing page)
Constantin Ahlmann-Eltze
git_last_commit: 15a521f
git_last_commit_date: 2025-10-14 14:54:06 -0400
nebbiolo2Linux (Ubuntu 24.04.3 LTS) / x86_64  OK    OK    WARNINGS  UNNEEDED, same version is already published
lconwaymacOS 12.7.6 Monterey / x86_64  OK    OK    WARNINGS    OK  UNNEEDED, same version is already published
kjohnson3macOS 13.7.7 Ventura / arm64  OK    OK    WARNINGS    OK  UNNEEDED, same version is already published
Package 10/24HostnameOS / ArchINSTALLBUILDCHECKBUILD BIN
miloR 2.5.2  (landing page)
Mike Morgan
git_last_commit: be20c8b
git_last_commit_date: 2025-08-29 09:57:51 -0400
nebbiolo2Linux (Ubuntu 24.04.3 LTS) / x86_64  OK    OK    OK  UNNEEDED, same version is already published
lconwaymacOS 12.7.6 Monterey / x86_64  OK    OK    OK    OK  UNNEEDED, same version is already published
kjohnson3macOS 13.7.7 Ventura / arm64  OK    OK    OK    OK  UNNEEDED, same version is already published
Package 11/24HostnameOS / ArchINSTALLBUILDCHECKBUILD BIN
mumosa 1.17.0  (landing page)
Aaron Lun
git_last_commit: 2907a7a
git_last_commit_date: 2025-04-15 12:16:33 -0400
nebbiolo2Linux (Ubuntu 24.04.3 LTS) / x86_64  OK    OK    OK  UNNEEDED, same version is already published
lconwaymacOS 12.7.6 Monterey / x86_64  OK    OK    OK    OK  UNNEEDED, same version is already published
kjohnson3macOS 13.7.7 Ventura / arm64  OK    OK    OK    OK  UNNEEDED, same version is already published
Package 12/24HostnameOS / ArchINSTALLBUILDCHECKBUILD BIN
poem 1.1.7  (landing page)
Siyuan Luo
git_last_commit: f8438b6
git_last_commit_date: 2025-10-24 09:40:05 -0400
nebbiolo2Linux (Ubuntu 24.04.3 LTS) / x86_64  OK    OK    OK  UNNEEDED, same version is already published
lconwaymacOS 12.7.6 Monterey / x86_64  OK    OK    OK    OK  UNNEEDED, same version is already published
kjohnson3macOS 13.7.7 Ventura / arm64  OK    OK    OK    OK  UNNEEDED, same version is already published
Package 13/24HostnameOS / ArchINSTALLBUILDCHECKBUILD BIN
scater 1.37.0  (landing page)
Alan O'Callaghan
git_last_commit: aaaa4b0
git_last_commit_date: 2025-04-15 10:58:25 -0400
nebbiolo2Linux (Ubuntu 24.04.3 LTS) / x86_64  OK    OK    OK  UNNEEDED, same version is already published
lconwaymacOS 12.7.6 Monterey / x86_64  OK    OK    OK    OK  UNNEEDED, same version is already published
kjohnson3macOS 13.7.7 Ventura / arm64  OK    OK    ERROR    OK  
Package 14/24HostnameOS / ArchINSTALLBUILDCHECKBUILD BIN
scDblFinder 1.23.9  (landing page)
Pierre-Luc Germain
git_last_commit: d847f68
git_last_commit_date: 2025-10-23 03:46:31 -0400
nebbiolo2Linux (Ubuntu 24.04.3 LTS) / x86_64  OK    OK    OK  UNNEEDED, same version is already published
lconwaymacOS 12.7.6 Monterey / x86_64  OK    OK    OK    OK  UNNEEDED, same version is already published
kjohnson3macOS 13.7.7 Ventura / arm64  OK    OK    OK    OK  UNNEEDED, same version is already published
Package 15/24HostnameOS / ArchINSTALLBUILDCHECKBUILD BIN
scider 1.7.3  (landing page)
Yunshun Chen
git_last_commit: 1f8ab03
git_last_commit_date: 2025-10-24 03:18:46 -0400
nebbiolo2Linux (Ubuntu 24.04.3 LTS) / x86_64  OK    OK    OK  UNNEEDED, same version is already published
lconwaymacOS 12.7.6 Monterey / x86_64  OK    OK    OK    OK  UNNEEDED, same version is already published
kjohnson3macOS 13.7.7 Ventura / arm64  OK    OK    OK    OK  UNNEEDED, same version is already published
Package 16/24HostnameOS / ArchINSTALLBUILDCHECKBUILD BIN
scMerge 1.25.1  (landing page)
Yingxin Lin
git_last_commit: 49cb40c
git_last_commit_date: 2025-10-14 14:58:51 -0400
nebbiolo2Linux (Ubuntu 24.04.3 LTS) / x86_64  OK    OK    OK  UNNEEDED, same version is already published
lconwaymacOS 12.7.6 Monterey / x86_64  OK    OK    OK    OK  UNNEEDED, same version is already published
kjohnson3macOS 13.7.7 Ventura / arm64  OK    OK    OK    OK  UNNEEDED, same version is already published
Package 17/24HostnameOS / ArchINSTALLBUILDCHECKBUILD BIN
scrapper 1.3.19  (landing page)
Aaron Lun
git_last_commit: 2e4cb2b
git_last_commit_date: 2025-10-27 20:22:43 -0400
nebbiolo2Linux (Ubuntu 24.04.3 LTS) / x86_64  OK    OK    WARNINGS  YES
lconwaymacOS 12.7.6 Monterey / x86_64  OK    OK    OK    OK  YES
kjohnson3macOS 13.7.7 Ventura / arm64  OK    OK    WARNINGS    OK  YES
Package 18/24HostnameOS / ArchINSTALLBUILDCHECKBUILD BIN
SingleR 2.11.4  (landing page)
Aaron Lun
git_last_commit: b8dd941
git_last_commit_date: 2025-10-19 04:25:09 -0400
nebbiolo2Linux (Ubuntu 24.04.3 LTS) / x86_64  OK    OK    OK  UNNEEDED, same version is already published
lconwaymacOS 12.7.6 Monterey / x86_64  OK    OK    OK    OK  UNNEEDED, same version is already published
kjohnson3macOS 13.7.7 Ventura / arm64  OK    OK    OK    OK  UNNEEDED, same version is already published
Package 19/24HostnameOS / ArchINSTALLBUILDCHECKBUILD BIN
smoothclust 1.5.7  (landing page)
Lukas M. Weber
git_last_commit: bccbce4
git_last_commit_date: 2025-09-15 15:26:25 -0400
nebbiolo2Linux (Ubuntu 24.04.3 LTS) / x86_64  OK    OK    OK  UNNEEDED, same version is already published
lconwaymacOS 12.7.6 Monterey / x86_64  OK    OK    OK    OK  UNNEEDED, same version is already published
kjohnson3macOS 13.7.7 Ventura / arm64  OK    OK    OK    OK  UNNEEDED, same version is already published
Package 20/24HostnameOS / ArchINSTALLBUILDCHECKBUILD BIN
SpatialFeatureExperiment 1.11.1  (landing page)
Lambda Moses
git_last_commit: 80353da
git_last_commit_date: 2025-09-25 21:36:28 -0400
nebbiolo2Linux (Ubuntu 24.04.3 LTS) / x86_64  OK    ERROR  skipped
lconwaymacOS 12.7.6 Monterey / x86_64  OK    ERROR  skippedskipped
kjohnson3macOS 13.7.7 Ventura / arm64  OK    ERROR  skippedskipped
Package 21/24HostnameOS / ArchINSTALLBUILDCHECKBUILD BIN
SpotSweeper 1.5.1  (landing page)
Michael Totty
git_last_commit: ad0acc6
git_last_commit_date: 2025-10-14 15:02:46 -0400
nebbiolo2Linux (Ubuntu 24.04.3 LTS) / x86_64  OK    OK    OK  UNNEEDED, same version is already published
lconwaymacOS 12.7.6 Monterey / x86_64  OK    OK    OK    OK  UNNEEDED, same version is already published
kjohnson3macOS 13.7.7 Ventura / arm64  OK    OK    OK    OK  UNNEEDED, same version is already published
Package 22/24HostnameOS / ArchINSTALLBUILDCHECKBUILD BIN
StabMap 1.3.0  (landing page)
Shila Ghazanfar
git_last_commit: cb995b0
git_last_commit_date: 2025-04-15 13:38:34 -0400
nebbiolo2Linux (Ubuntu 24.04.3 LTS) / x86_64  OK    OK    OK  UNNEEDED, same version is already published
lconwaymacOS 12.7.6 Monterey / x86_64  OK    OK    OK    OK  UNNEEDED, same version is already published
kjohnson3macOS 13.7.7 Ventura / arm64  OK    OK    OK    OK  UNNEEDED, same version is already published
Package 23/24HostnameOS / ArchINSTALLBUILDCHECKBUILD BIN
SVP 1.1.1  (landing page)
Shuangbin Xu
git_last_commit: 9c5839c
git_last_commit_date: 2025-10-14 15:04:13 -0400
nebbiolo2Linux (Ubuntu 24.04.3 LTS) / x86_64  OK    ERROR  skipped
lconwaymacOS 12.7.6 Monterey / x86_64  OK    ERROR  skippedskipped
kjohnson3macOS 13.7.7 Ventura / arm64  OK    ERROR  skippedskipped
Package 24/24HostnameOS / ArchINSTALLBUILDCHECKBUILD BIN
UCell 2.13.3  (landing page)
Massimo Andreatta
git_last_commit: 6bf47c6
git_last_commit_date: 2025-10-01 10:49:22 -0400
nebbiolo2Linux (Ubuntu 24.04.3 LTS) / x86_64  OK    OK    OK  UNNEEDED, same version is already published
lconwaymacOS 12.7.6 Monterey / x86_64  OK    OK    OK    OK  UNNEEDED, same version is already published
kjohnson3macOS 13.7.7 Ventura / arm64  OK    OK    OK    OK  UNNEEDED, same version is already published