| Back to Build/check report for BioC 3.23: simplified long |
|
This page was generated on 2025-11-04 11:32 -0500 (Tue, 04 Nov 2025).
| Hostname | OS | Arch (*) | R version | Installed pkgs |
|---|---|---|---|---|
| nebbiolo1 | Linux (Ubuntu 24.04.3 LTS) | x86_64 | R Under development (unstable) (2025-10-20 r88955) -- "Unsuffered Consequences" | 4788 |
| Click on any hostname to see more info about the system (e.g. compilers) (*) as reported by 'uname -p', except on Windows and Mac OS X | ||||
| Package 226/2323 | Hostname | OS / Arch | INSTALL | BUILD | CHECK | BUILD BIN | ||||||||
| BiSeq 1.51.0 (landing page) Katja Hebestreit
| nebbiolo1 | Linux (Ubuntu 24.04.3 LTS) / x86_64 | OK | OK | OK | |||||||||
|
To the developers/maintainers of the BiSeq package: - Allow up to 24 hours (and sometimes 48 hours) for your latest push to git@git.bioconductor.org:packages/BiSeq.git to reflect on this report. See Troubleshooting Build Report for more information. - Use the following Renviron settings to reproduce errors and warnings. - If 'R CMD check' started to fail recently on the Linux builder(s) over a missing dependency, add the missing dependency to 'Suggests:' in your DESCRIPTION file. See Renviron.bioc for more information. |
| Package: BiSeq |
| Version: 1.51.0 |
| Command: /home/biocbuild/bbs-3.23-bioc/R/bin/R CMD build --keep-empty-dirs --no-resave-data BiSeq |
| StartedAt: 2025-11-03 16:29:35 -0500 (Mon, 03 Nov 2025) |
| EndedAt: 2025-11-03 16:31:30 -0500 (Mon, 03 Nov 2025) |
| EllapsedTime: 115.1 seconds |
| RetCode: 0 |
| Status: OK |
| PackageFile: BiSeq_1.51.0.tar.gz |
| PackageFileSize: 915.3 KiB |
##############################################################################
##############################################################################
###
### Running command:
###
### /home/biocbuild/bbs-3.23-bioc/R/bin/R CMD build --keep-empty-dirs --no-resave-data BiSeq
###
##############################################################################
##############################################################################
* checking for file ‘BiSeq/DESCRIPTION’ ... OK
* preparing ‘BiSeq’:
* checking DESCRIPTION meta-information ... OK
* installing the package (it is needed to build vignettes)
* creating vignettes ... OK
* checking for LF line-endings in source and make files and shell scripts
* checking for empty or unneeded directories
* looking to see if a ‘data/datalist’ file should be added
NB: this package now depends on R (>= 3.5.0)
WARNING: Added dependency on R >= 3.5.0 because serialized objects in
serialize/load version 3 cannot be read in older versions of R.
File(s) containing such objects:
‘BiSeq/data/DMRs.RData’ ‘BiSeq/data/predictedMeth.RData’
‘BiSeq/data/promoters.RData’ ‘BiSeq/data/rrbs.RData’
* building ‘BiSeq_1.51.0.tar.gz’