| Back to Multiple platform build/check report for BioC 3.23: simplified long |
|
This page was generated on 2025-11-21 11:38 -0500 (Fri, 21 Nov 2025).
| Hostname | OS | Arch (*) | R version | Installed pkgs |
|---|---|---|---|---|
| nebbiolo1 | Linux (Ubuntu 24.04.3 LTS) | x86_64 | R Under development (unstable) (2025-10-20 r88955) -- "Unsuffered Consequences" | 4829 |
| lconway | macOS 12.7.6 Monterey | x86_64 | R Under development (unstable) (2025-10-21 r88958) -- "Unsuffered Consequences" | 4602 |
| kjohnson3 | macOS 13.7.7 Ventura | arm64 | R Under development (unstable) (2025-11-04 r88984) -- "Unsuffered Consequences" | 4566 |
| Click on any hostname to see more info about the system (e.g. compilers) (*) as reported by 'uname -p', except on Windows and Mac OS X | ||||
| Package 148/2327 | Hostname | OS / Arch | INSTALL | BUILD | CHECK | BUILD BIN | ||||||||
| BatchQC 2.7.0 (landing page) Jessica Anderson
| nebbiolo1 | Linux (Ubuntu 24.04.3 LTS) / x86_64 | OK | OK | OK | |||||||||
| lconway | macOS 12.7.6 Monterey / x86_64 | OK | OK | OK | OK | |||||||||
| kjohnson3 | macOS 13.7.7 Ventura / arm64 | OK | OK | OK | OK | |||||||||
|
To the developers/maintainers of the BatchQC package: - Allow up to 24 hours (and sometimes 48 hours) for your latest push to git@git.bioconductor.org:packages/BatchQC.git to reflect on this report. See Troubleshooting Build Report for more information. - Use the following Renviron settings to reproduce errors and warnings. - If 'R CMD check' started to fail recently on the Linux builder(s) over a missing dependency, add the missing dependency to 'Suggests:' in your DESCRIPTION file. See Renviron.bioc for more information. |
| Package: BatchQC |
| Version: 2.7.0 |
| Command: /Library/Frameworks/R.framework/Resources/bin/R CMD check --install=check:BatchQC.install-out.txt --library=/Library/Frameworks/R.framework/Resources/library --no-vignettes --timings BatchQC_2.7.0.tar.gz |
| StartedAt: 2025-11-20 19:33:59 -0500 (Thu, 20 Nov 2025) |
| EndedAt: 2025-11-20 19:43:22 -0500 (Thu, 20 Nov 2025) |
| EllapsedTime: 562.4 seconds |
| RetCode: 0 |
| Status: OK |
| CheckDir: BatchQC.Rcheck |
| Warnings: 0 |
##############################################################################
##############################################################################
###
### Running command:
###
### /Library/Frameworks/R.framework/Resources/bin/R CMD check --install=check:BatchQC.install-out.txt --library=/Library/Frameworks/R.framework/Resources/library --no-vignettes --timings BatchQC_2.7.0.tar.gz
###
##############################################################################
##############################################################################
* using log directory ‘/Users/biocbuild/bbs-3.23-bioc/meat/BatchQC.Rcheck’
* using R Under development (unstable) (2025-10-21 r88958)
* using platform: x86_64-apple-darwin20
* R was compiled by
Apple clang version 14.0.0 (clang-1400.0.29.202)
GNU Fortran (GCC) 14.2.0
* running under: macOS Ventura 13.7.8
* using session charset: UTF-8
* using option ‘--no-vignettes’
* checking for file ‘BatchQC/DESCRIPTION’ ... OK
* checking extension type ... Package
* this is package ‘BatchQC’ version ‘2.7.0’
* package encoding: UTF-8
* checking package namespace information ... OK
* checking package dependencies ... INFO
Imports includes 27 non-default packages.
Importing from so many packages makes the package vulnerable to any of
them becoming unavailable. Move as many as possible to Suggests and
use conditionally.
* checking if this is a source package ... OK
* checking if there is a namespace ... OK
* checking for hidden files and directories ... OK
* checking for portable file names ... OK
* checking for sufficient/correct file permissions ... OK
* checking whether package ‘BatchQC’ can be installed ... OK
* checking installed package size ... OK
* checking package directory ... OK
* checking ‘build’ directory ... OK
* checking DESCRIPTION meta-information ... OK
* checking top-level files ... OK
* checking for left-over files ... OK
* checking index information ... OK
* checking package subdirectories ... OK
* checking code files for non-ASCII characters ... OK
* checking R files for syntax errors ... OK
* checking whether the package can be loaded ... OK
* checking whether the package can be loaded with stated dependencies ... OK
* checking whether the package can be unloaded cleanly ... OK
* checking whether the namespace can be loaded with stated dependencies ... OK
* checking whether the namespace can be unloaded cleanly ... OK
* checking dependencies in R code ... OK
* checking S3 generic/method consistency ... OK
* checking replacement functions ... OK
* checking foreign function calls ... OK
* checking R code for possible problems ... OK
* checking Rd files ... OK
* checking Rd metadata ... OK
* checking Rd cross-references ... OK
* checking for missing documentation entries ... OK
* checking for code/documentation mismatches ... OK
* checking Rd \usage sections ... OK
* checking Rd contents ... OK
* checking for unstated dependencies in examples ... OK
* checking contents of ‘data’ directory ... OK
* checking data for non-ASCII characters ... OK
* checking data for ASCII and uncompressed saves ... OK
* checking files in ‘vignettes’ ... OK
* checking examples ... OK
Examples with CPU (user + system) or elapsed time > 5s
user system elapsed
compute_aic 40.574 0.760 41.604
volcano_plot 29.229 0.532 30.047
tb_data_upload 25.025 1.824 28.383
DE_analyze 22.254 0.573 22.981
pval_plotter 20.660 0.388 21.254
pval_summary 20.398 0.389 21.027
batch_correct 16.147 0.281 16.512
PCA_plotter 13.832 0.260 14.147
compute_lambda 6.586 0.066 6.701
goodness_of_fit_DESeq2 5.065 0.066 5.166
* checking for unstated dependencies in ‘tests’ ... OK
* checking tests ...
Running ‘spelling.R’
Running ‘testthat.R’
OK
* checking for unstated dependencies in vignettes ... OK
* checking package vignettes ... OK
* checking running R code from vignettes ... SKIPPED
* checking re-building of vignette outputs ... SKIPPED
* checking PDF version of manual ... OK
* DONE
Status: OK
BatchQC.Rcheck/00install.out
############################################################################## ############################################################################## ### ### Running command: ### ### /Library/Frameworks/R.framework/Resources/bin/R CMD INSTALL BatchQC ### ############################################################################## ############################################################################## * installing to library ‘/Library/Frameworks/R.framework/Versions/4.6-x86_64/Resources/library’ * installing *source* package ‘BatchQC’ ... ** this is package ‘BatchQC’ version ‘2.7.0’ ** using staged installation ** R ** data ** inst ** byte-compile and prepare package for lazy loading ** help *** installing help indices ** building package indices ** installing vignettes ** testing if installed package can be loaded from temporary location ** testing if installed package can be loaded from final location ** testing if installed package keeps a record of temporary installation path * DONE (BatchQC)
BatchQC.Rcheck/tests/spelling.Rout
R Under development (unstable) (2025-10-21 r88958) -- "Unsuffered Consequences"
Copyright (C) 2025 The R Foundation for Statistical Computing
Platform: x86_64-apple-darwin20
R is free software and comes with ABSOLUTELY NO WARRANTY.
You are welcome to redistribute it under certain conditions.
Type 'license()' or 'licence()' for distribution details.
R is a collaborative project with many contributors.
Type 'contributors()' for more information and
'citation()' on how to cite R or R packages in publications.
Type 'demo()' for some demos, 'help()' for on-line help, or
'help.start()' for an HTML browser interface to help.
Type 'q()' to quit R.
> if (requireNamespace('spelling', quietly = TRUE))
+ spelling::spell_check_test(vignettes = TRUE, error = FALSE,
+ skip_on_cran = TRUE)
All Done!
>
> proc.time()
user system elapsed
0.182 0.084 0.289
BatchQC.Rcheck/tests/testthat.Rout
R Under development (unstable) (2025-10-21 r88958) -- "Unsuffered Consequences"
Copyright (C) 2025 The R Foundation for Statistical Computing
Platform: x86_64-apple-darwin20
R is free software and comes with ABSOLUTELY NO WARRANTY.
You are welcome to redistribute it under certain conditions.
Type 'license()' or 'licence()' for distribution details.
R is a collaborative project with many contributors.
Type 'contributors()' for more information and
'citation()' on how to cite R or R packages in publications.
Type 'demo()' for some demos, 'help()' for on-line help, or
'help.start()' for an HTML browser interface to help.
Type 'q()' to quit R.
> library(testthat)
> library(BatchQC)
>
> test_check("BatchQC")
[ FAIL 0 | WARN 0 | SKIP 1 | PASS 0 ]
══ Skipped tests (1) ═══════════════════════════════════════════════════════════
• On CRAN (1): 'test-lintr.R:3:5'
[ FAIL 0 | WARN 0 | SKIP 1 | PASS 0 ]
>
> proc.time()
user system elapsed
14.080 0.861 15.096
BatchQC.Rcheck/BatchQC-Ex.timings
| name | user | system | elapsed | |
| BatchQC | 0 | 0 | 0 | |
| DE_analyze | 22.254 | 0.573 | 22.981 | |
| EV_plotter | 1.371 | 0.043 | 1.420 | |
| EV_table | 1.042 | 0.047 | 1.094 | |
| PCA_plotter | 13.832 | 0.260 | 14.147 | |
| batch_correct | 16.147 | 0.281 | 16.512 | |
| batch_design | 0.620 | 0.028 | 0.652 | |
| batchqc_explained_variation | 1.056 | 0.124 | 1.220 | |
| bisect | 0.004 | 0.000 | 0.004 | |
| bladder_data_upload | 0.291 | 0.049 | 0.344 | |
| color_palette | 0.292 | 0.021 | 0.315 | |
| compute_aic | 40.574 | 0.760 | 41.604 | |
| compute_lambda | 6.586 | 0.066 | 6.701 | |
| confound_metrics | 0.709 | 0.026 | 0.742 | |
| cor_props | 0.674 | 0.032 | 0.712 | |
| covariates_not_confounded | 0.644 | 0.028 | 0.677 | |
| cramers_v | 0.624 | 0.024 | 0.651 | |
| dendrogram_alpha_numeric_check | 0.610 | 0.032 | 0.645 | |
| dendrogram_color_palette | 0.859 | 0.029 | 0.894 | |
| dendrogram_plotter | 1.967 | 0.052 | 2.035 | |
| goodness_of_fit_DESeq2 | 5.065 | 0.066 | 5.166 | |
| heatmap_num_to_char_converter | 0.599 | 0.027 | 0.630 | |
| heatmap_plotter | 1.473 | 0.043 | 1.528 | |
| is_design_balanced | 0.680 | 0.030 | 0.717 | |
| kBET | 3.330 | 0.092 | 3.444 | |
| normalize_SE | 0.852 | 0.029 | 0.886 | |
| plot_kBET | 3.589 | 0.077 | 3.689 | |
| process_dendrogram | 0.839 | 0.055 | 0.898 | |
| pval_plotter | 20.660 | 0.388 | 21.254 | |
| pval_summary | 20.398 | 0.389 | 21.027 | |
| ratio_plotter | 1.372 | 0.035 | 1.421 | |
| run_kBET | 3.542 | 0.073 | 3.645 | |
| run_lambda | 0.600 | 0.027 | 0.645 | |
| std_pearson_corr_coef | 0.613 | 0.029 | 0.648 | |
| summarized_experiment | 0.016 | 0.003 | 0.019 | |
| tb_data_upload | 25.025 | 1.824 | 28.383 | |
| umap | 3.280 | 0.134 | 3.445 | |
| variation_ratios | 1.061 | 0.101 | 1.173 | |
| volcano_plot | 29.229 | 0.532 | 30.047 | |