Back to Build/check report for BioC 3.23:   simplified   long
[A]BCDEFGHIJKLMNOPQRSTUVWXYZ

This page was generated on 2025-10-31 08:33 -0400 (Fri, 31 Oct 2025).

HostnameOSArch (*)R versionInstalled pkgs
nebbiolo1Linux (Ubuntu 24.04.3 LTS)x86_64R Under development (unstable) (2025-10-20 r88955) -- "Unsuffered Consequences" 4428
Click on any hostname to see more info about the system (e.g. compilers)      (*) as reported by 'uname -p', except on Windows and Mac OS X

All results for package AnVILBase


To the developers/maintainers of the AnVILBase package:
- Allow up to 24 hours (and sometimes 48 hours) for your latest push to git@git.bioconductor.org:packages/AnVILBase.git to reflect on this report. See Troubleshooting Build Report for more information.
- Use the following Renviron settings to reproduce errors and warnings.
- If 'R CMD check' started to fail recently on the Linux builder(s) over a missing dependency, add the missing dependency to 'Suggests:' in your DESCRIPTION file. See Renviron.bioc for more information.

raw results

Package 86/2321HostnameOS / ArchINSTALLBUILDCHECKBUILD BIN
AnVILBase 1.5.0  (landing page)
Marcel Ramos
Snapshot Date: 2025-10-30 13:40 -0400 (Thu, 30 Oct 2025)
git_url: https://git.bioconductor.org/packages/AnVILBase
git_branch: devel
git_last_commit: 8f68822
git_last_commit_date: 2025-10-29 11:31:04 -0400 (Wed, 29 Oct 2025)
nebbiolo1Linux (Ubuntu 24.04.3 LTS) / x86_64  OK    OK    OK  YES



Results for Bioconductor software packages that depend directly on package AnVILBase

QUICK STATSOS / ArchINSTALLBUILDCHECKBUILD BIN
nebbiolo1Linux (Ubuntu 24.04.3 LTS) / x86_64
005
005
0014
Package 1/5HostnameOS / ArchINSTALLBUILDCHECKBUILD BIN
AnVIL 1.23.0  (landing page)
Marcel Ramos
git_last_commit: b498d04
git_last_commit_date: 2025-10-29 19:20:07 -0400
nebbiolo1Linux (Ubuntu 24.04.3 LTS) / x86_64  OK    OK    OK  YES
Package 2/5HostnameOS / ArchINSTALLBUILDCHECKBUILD BIN
AnVILAz 1.5.0  (landing page)
Marcel Ramos
git_last_commit: 600e7af
git_last_commit_date: 2025-10-29 11:31:07 -0400
nebbiolo1Linux (Ubuntu 24.04.3 LTS) / x86_64  OK    OK    OK  YES
Package 3/5HostnameOS / ArchINSTALLBUILDCHECKBUILD BIN
AnVILGCP 1.5.0  (landing page)
Marcel Ramos
git_last_commit: e244142
git_last_commit_date: 2025-10-29 11:31:10 -0400
nebbiolo1Linux (Ubuntu 24.04.3 LTS) / x86_64  OK    OK    OK  YES
Package 4/5HostnameOS / ArchINSTALLBUILDCHECKBUILD BIN
AnVILWorkflow 1.11.0  (landing page)
Sehyun Oh
git_last_commit: 46f2772
git_last_commit_date: 2025-10-29 11:21:05 -0400
nebbiolo1Linux (Ubuntu 24.04.3 LTS) / x86_64  OK    OK    WARNINGS  YES
Package 5/5HostnameOS / ArchINSTALLBUILDCHECKBUILD BIN
GCPtools 1.1.0  (landing page)
Marcel Ramos
git_last_commit: 0bae1dc
git_last_commit_date: 2025-10-29 11:36:55 -0400
nebbiolo1Linux (Ubuntu 24.04.3 LTS) / x86_64  OK    OK    OK  YES