| Back to Multiple platform build/check report for BioC 3.22: simplified long |
|
This page was generated on 2025-08-15 12:06 -0400 (Fri, 15 Aug 2025).
| Hostname | OS | Arch (*) | R version | Installed pkgs |
|---|---|---|---|---|
| nebbiolo2 | Linux (Ubuntu 24.04.3 LTS) | x86_64 | 4.5.1 (2025-06-13) -- "Great Square Root" | 4818 |
| palomino8 | Windows Server 2022 Datacenter | x64 | 4.5.1 (2025-06-13 ucrt) -- "Great Square Root" | 4554 |
| lconway | macOS 12.7.1 Monterey | x86_64 | 4.5.1 (2025-06-13) -- "Great Square Root" | 4595 |
| kjohnson3 | macOS 13.7.7 Ventura | arm64 | 4.5.1 Patched (2025-06-14 r88325) -- "Great Square Root" | 4537 |
| taishan | Linux (openEuler 24.03 LTS) | aarch64 | 4.5.0 (2025-04-11) -- "How About a Twenty-Six" | 4535 |
| Click on any hostname to see more info about the system (e.g. compilers) (*) as reported by 'uname -p', except on Windows and Mac OS X | ||||
| Package 59/2317 | Hostname | OS / Arch | INSTALL | BUILD | CHECK | BUILD BIN | ||||||||
| AlpsNMR 4.11.0 (landing page) Sergio Oller Moreno
| nebbiolo2 | Linux (Ubuntu 24.04.3 LTS) / x86_64 | OK | OK | OK | |||||||||
| palomino8 | Windows Server 2022 Datacenter / x64 | OK | OK | OK | OK | |||||||||
| lconway | macOS 12.7.1 Monterey / x86_64 | OK | OK | OK | OK | |||||||||
| kjohnson3 | macOS 13.7.7 Ventura / arm64 | OK | OK | OK | OK | |||||||||
| taishan | Linux (openEuler 24.03 LTS) / aarch64 | OK | ERROR | skipped | ||||||||||
|
To the developers/maintainers of the AlpsNMR package: - Allow up to 24 hours (and sometimes 48 hours) for your latest push to git@git.bioconductor.org:packages/AlpsNMR.git to reflect on this report. See Troubleshooting Build Report for more information. - Use the following Renviron settings to reproduce errors and warnings. - If 'R CMD check' started to fail recently on the Linux builder(s) over a missing dependency, add the missing dependency to 'Suggests:' in your DESCRIPTION file. See Renviron.bioc for more information. |
| Package: AlpsNMR |
| Version: 4.11.0 |
| Command: F:\biocbuild\bbs-3.22-bioc\R\bin\R.exe CMD check --no-multiarch --install=check:AlpsNMR.install-out.txt --library=F:\biocbuild\bbs-3.22-bioc\R\library --no-vignettes --timings AlpsNMR_4.11.0.tar.gz |
| StartedAt: 2025-08-15 00:26:23 -0400 (Fri, 15 Aug 2025) |
| EndedAt: 2025-08-15 00:37:06 -0400 (Fri, 15 Aug 2025) |
| EllapsedTime: 642.5 seconds |
| RetCode: 0 |
| Status: OK |
| CheckDir: AlpsNMR.Rcheck |
| Warnings: 0 |
##############################################################################
##############################################################################
###
### Running command:
###
### F:\biocbuild\bbs-3.22-bioc\R\bin\R.exe CMD check --no-multiarch --install=check:AlpsNMR.install-out.txt --library=F:\biocbuild\bbs-3.22-bioc\R\library --no-vignettes --timings AlpsNMR_4.11.0.tar.gz
###
##############################################################################
##############################################################################
* using log directory 'F:/biocbuild/bbs-3.22-bioc/meat/AlpsNMR.Rcheck'
* using R version 4.5.1 (2025-06-13 ucrt)
* using platform: x86_64-w64-mingw32
* R was compiled by
gcc.exe (GCC) 14.2.0
GNU Fortran (GCC) 14.2.0
* running under: Windows Server 2022 x64 (build 20348)
* using session charset: UTF-8
* using option '--no-vignettes'
* checking for file 'AlpsNMR/DESCRIPTION' ... OK
* checking extension type ... Package
* this is package 'AlpsNMR' version '4.11.0'
* package encoding: UTF-8
* checking package namespace information ... OK
* checking package dependencies ... INFO
Imports includes 26 non-default packages.
Importing from so many packages makes the package vulnerable to any of
them becoming unavailable. Move as many as possible to Suggests and
use conditionally.
* checking if this is a source package ... OK
* checking if there is a namespace ... OK
* checking for hidden files and directories ... OK
* checking for portable file names ... OK
* checking whether package 'AlpsNMR' can be installed ... OK
* checking installed package size ... OK
* checking package directory ... OK
* checking 'build' directory ... OK
* checking DESCRIPTION meta-information ... OK
* checking top-level files ... OK
* checking for left-over files ... OK
* checking index information ... OK
* checking package subdirectories ... OK
* checking code files for non-ASCII characters ... OK
* checking R files for syntax errors ... OK
* checking whether the package can be loaded ... OK
* checking whether the package can be loaded with stated dependencies ... OK
* checking whether the package can be unloaded cleanly ... OK
* checking whether the namespace can be loaded with stated dependencies ... OK
* checking whether the namespace can be unloaded cleanly ... OK
* checking dependencies in R code ... OK
* checking S3 generic/method consistency ... OK
* checking replacement functions ... OK
* checking foreign function calls ... OK
* checking R code for possible problems ... OK
* checking Rd files ... OK
* checking Rd metadata ... OK
* checking Rd cross-references ... NOTE
Non-topic package-anchored link(s) in Rd file 'reexports.Rd':
'[magrittr:pipe]{%>%}'
See section 'Cross-references' in the 'Writing R Extensions' manual.
Found the following Rd file(s) with Rd \link{} targets missing package
anchors:
filter.nmr_dataset_family.Rd: dplyr
Please provide package anchors for all Rd \link{} targets not in the
package itself and the base packages.
* checking for missing documentation entries ... OK
* checking for code/documentation mismatches ... OK
* checking Rd \usage sections ... OK
* checking Rd contents ... OK
* checking for unstated dependencies in examples ... OK
* checking contents of 'data' directory ... OK
* checking data for non-ASCII characters ... OK
* checking data for ASCII and uncompressed saves ... OK
* checking sizes of PDF files under 'inst/doc' ... OK
* checking files in 'vignettes' ... OK
* checking examples ... OK
Examples with CPU (user + system) or elapsed time > 5s
user system elapsed
SummarizedExperiment_to_nmr_data_1r 7.00 0.35 12.14
nmr_pca_outliers_robust 5.93 0.37 11.25
plsda_auroc_vip_compare 3.32 0.10 20.41
Peak_detection 3.00 0.25 31.67
nmr_meta_add 2.43 0.03 11.86
permutation_test_model 2.25 0.01 16.82
bp_VIP_analysis 2.23 0.00 22.75
permutation_test_plot 2.20 0.03 16.74
nmr_pca_build_model 2.09 0.11 12.63
nmr_interpolate_1D 2.04 0.11 11.41
validate_nmr_dataset 1.97 0.08 11.73
nmr_read_samples 1.83 0.02 10.87
nmr_data_analysis 1.63 0.05 10.43
bp_kfold_VIP_analysis 1.56 0.07 10.32
plot_plsda_multimodel 1.58 0.03 10.07
SummarizedExperiment_to_nmr_dataset_peak_table 1.46 0.12 6.19
plot_plsda_samples 1.56 0.01 9.86
models_stability_plot_plsda 1.50 0.06 10.39
nmr_dataset_peak_table_to_SummarizedExperiment 1.44 0.04 6.10
nmr_data_1r_to_SummarizedExperiment 1.43 0.03 6.09
AlpsNMR-package 1.19 0.19 5.98
to_ChemoSpec 1.28 0.09 6.52
nmr_pca_outliers_filter 1.23 0.08 5.99
nmr_pca_outliers 1.17 0.06 6.09
tidy.nmr_dataset_1D 1.09 0.09 6.00
sub-.nmr_dataset_peak_table 1.11 0.06 6.05
print.nmr_dataset_peak_table 1.08 0.05 5.71
sub-.nmr_dataset_1D 1.05 0.07 5.59
filter.nmr_dataset_family 1.00 0.11 6.11
format.nmr_dataset_peak_table 1.04 0.07 6.00
validate_nmr_dataset_family 1.03 0.06 5.69
nmr_autophase 1.04 0.04 6.79
print.nmr_dataset_1D 1.08 0.00 5.85
new_nmr_dataset_peak_table 1.00 0.05 5.71
plot_interactive 0.92 0.10 6.08
is.nmr_dataset_peak_table 0.95 0.06 5.30
is.nmr_dataset_1D 0.97 0.03 5.84
nmr_export_data_1r 0.98 0.02 5.72
is.nmr_dataset 0.92 0.05 5.83
load_and_save_functions 0.92 0.05 5.94
nmr_meta_groups 0.94 0.03 5.82
format.nmr_dataset_1D 0.89 0.07 5.64
print.nmr_dataset 0.92 0.03 5.53
nmr_meta_export 0.91 0.02 5.57
nmr_meta_get_column 0.92 0.01 5.69
sub-.nmr_dataset 0.90 0.03 5.55
nmr_meta_get 0.89 0.03 5.60
format.nmr_dataset 0.83 0.06 5.49
* checking for unstated dependencies in 'tests' ... OK
* checking tests ...
Running 'testthat.R'
OK
* checking for unstated dependencies in vignettes ... OK
* checking package vignettes ... OK
* checking running R code from vignettes ... SKIPPED
* checking re-building of vignette outputs ... SKIPPED
* checking PDF version of manual ... OK
* DONE
Status: 1 NOTE
See
'F:/biocbuild/bbs-3.22-bioc/meat/AlpsNMR.Rcheck/00check.log'
for details.
AlpsNMR.Rcheck/00install.out
############################################################################## ############################################################################## ### ### Running command: ### ### F:\biocbuild\bbs-3.22-bioc\R\bin\R.exe CMD INSTALL AlpsNMR ### ############################################################################## ############################################################################## * installing to library 'F:/biocbuild/bbs-3.22-bioc/R/library' * installing *source* package 'AlpsNMR' ... ** this is package 'AlpsNMR' version '4.11.0' ** using staged installation ** R ** data ** inst ** byte-compile and prepare package for lazy loading ** help *** installing help indices *** copying figures ** building package indices ** installing vignettes ** testing if installed package can be loaded from temporary location ** testing if installed package can be loaded from final location ** testing if installed package keeps a record of temporary installation path * DONE (AlpsNMR)
AlpsNMR.Rcheck/tests/testthat.Rout
R version 4.5.1 (2025-06-13 ucrt) -- "Great Square Root"
Copyright (C) 2025 The R Foundation for Statistical Computing
Platform: x86_64-w64-mingw32/x64
R is free software and comes with ABSOLUTELY NO WARRANTY.
You are welcome to redistribute it under certain conditions.
Type 'license()' or 'licence()' for distribution details.
R is a collaborative project with many contributors.
Type 'contributors()' for more information and
'citation()' on how to cite R or R packages in publications.
Type 'demo()' for some demos, 'help()' for on-line help, or
'help.start()' for an HTML browser interface to help.
Type 'q()' to quit R.
> library(testthat)
> library(AlpsNMR)
Attaching package: 'AlpsNMR'
The following object is masked from 'package:stats':
filter
>
> test_check("AlpsNMR")
[ FAIL 0 | WARN 0 | SKIP 1 | PASS 93 ]
══ Skipped tests (1) ═══════════════════════════════════════════════════════════
• On Bioconductor (1): 'test_rDolphin.R:2:5'
[ FAIL 0 | WARN 0 | SKIP 1 | PASS 93 ]
>
> proc.time()
user system elapsed
25.12 1.60 88.04
AlpsNMR.Rcheck/AlpsNMR-Ex.timings
| name | user | system | elapsed | |
| AlpsNMR-package | 1.19 | 0.19 | 5.98 | |
| HMDB_blood | 0.02 | 0.00 | 0.01 | |
| HMDB_cell | 0.00 | 0.01 | 0.02 | |
| HMDB_urine | 0 | 0 | 0 | |
| Parameters_blood | 0.00 | 0.02 | 0.02 | |
| Parameters_cell | 0 | 0 | 0 | |
| Parameters_urine | 0 | 0 | 0 | |
| Peak_detection | 3.00 | 0.25 | 31.67 | |
| Pipelines | 0 | 0 | 0 | |
| ROI_blood | 0 | 0 | 0 | |
| ROI_cell | 0.01 | 0.00 | 0.01 | |
| ROI_urine | 0 | 0 | 0 | |
| SummarizedExperiment_to_nmr_data_1r | 7.00 | 0.35 | 12.14 | |
| SummarizedExperiment_to_nmr_dataset_peak_table | 1.46 | 0.12 | 6.19 | |
| bp_VIP_analysis | 2.23 | 0.00 | 22.75 | |
| bp_kfold_VIP_analysis | 1.56 | 0.07 | 10.32 | |
| download_MTBLS242 | 0 | 0 | 0 | |
| file_lister | 0.08 | 0.01 | 0.10 | |
| files_to_rDolphin | 0 | 0 | 0 | |
| filter.nmr_dataset_family | 1.00 | 0.11 | 6.11 | |
| format.nmr_dataset | 0.83 | 0.06 | 5.49 | |
| format.nmr_dataset_1D | 0.89 | 0.07 | 5.64 | |
| format.nmr_dataset_peak_table | 1.04 | 0.07 | 6.00 | |
| get_integration_with_metadata | 0.03 | 0.02 | 0.22 | |
| hmdb | 0.10 | 0.12 | 0.23 | |
| is.nmr_dataset | 0.92 | 0.05 | 5.83 | |
| is.nmr_dataset_1D | 0.97 | 0.03 | 5.84 | |
| is.nmr_dataset_peak_table | 0.95 | 0.06 | 5.30 | |
| load_and_save_functions | 0.92 | 0.05 | 5.94 | |
| models_stability_plot_bootstrap | 0 | 0 | 0 | |
| models_stability_plot_plsda | 1.50 | 0.06 | 10.39 | |
| new_nmr_dataset | 0 | 0 | 0 | |
| new_nmr_dataset_1D | 0 | 0 | 0 | |
| new_nmr_dataset_peak_table | 1.00 | 0.05 | 5.71 | |
| nmr_autophase | 1.04 | 0.04 | 6.79 | |
| nmr_baseline_estimation | 0.01 | 0.00 | 0.02 | |
| nmr_baseline_removal | 0 | 0 | 0 | |
| nmr_baseline_threshold | 0.02 | 0.00 | 0.02 | |
| nmr_baseline_threshold_plot | 0.18 | 0.00 | 0.18 | |
| nmr_batman | 0 | 0 | 0 | |
| nmr_batman_options | 0 | 0 | 0 | |
| nmr_build_peak_table | 0.04 | 0.00 | 0.03 | |
| nmr_data | 0.03 | 0.02 | 0.05 | |
| nmr_data_1r_to_SummarizedExperiment | 1.43 | 0.03 | 6.09 | |
| nmr_data_analysis | 1.63 | 0.05 | 10.43 | |
| nmr_dataset | 0 | 0 | 0 | |
| nmr_dataset_1D | 0 | 0 | 0 | |
| nmr_dataset_peak_table_to_SummarizedExperiment | 1.44 | 0.04 | 6.10 | |
| nmr_exclude_region | 0 | 0 | 0 | |
| nmr_export_data_1r | 0.98 | 0.02 | 5.72 | |
| nmr_get_peak_distances | 0.02 | 0.00 | 0.02 | |
| nmr_identify_regions_blood | 0.01 | 0.00 | 0.03 | |
| nmr_identify_regions_cell | 0.00 | 0.00 | 0.03 | |
| nmr_identify_regions_urine | 0.02 | 0.00 | 0.05 | |
| nmr_integrate_regions | 0.01 | 0.00 | 0.01 | |
| nmr_interpolate_1D | 2.04 | 0.11 | 11.41 | |
| nmr_meta_add | 2.43 | 0.03 | 11.86 | |
| nmr_meta_export | 0.91 | 0.02 | 5.57 | |
| nmr_meta_get | 0.89 | 0.03 | 5.60 | |
| nmr_meta_get_column | 0.92 | 0.01 | 5.69 | |
| nmr_meta_groups | 0.94 | 0.03 | 5.82 | |
| nmr_normalize | 0.31 | 0.02 | 0.39 | |
| nmr_pca_build_model | 2.09 | 0.11 | 12.63 | |
| nmr_pca_outliers | 1.17 | 0.06 | 6.09 | |
| nmr_pca_outliers_filter | 1.23 | 0.08 | 5.99 | |
| nmr_pca_outliers_plot | 0 | 0 | 0 | |
| nmr_pca_outliers_robust | 5.93 | 0.37 | 11.25 | |
| nmr_pca_plots | 0.39 | 0.02 | 0.41 | |
| nmr_peak_clustering | 0.07 | 0.00 | 0.07 | |
| nmr_ppm_resolution | 0.02 | 0.00 | 0.02 | |
| nmr_read_bruker_fid | 0 | 0 | 0 | |
| nmr_read_samples | 1.83 | 0.02 | 10.87 | |
| nmr_zip_bruker_samples | 0.03 | 0.03 | 0.43 | |
| peaklist_accept_peaks | 0 | 0 | 0 | |
| permutation_test_model | 2.25 | 0.01 | 16.82 | |
| permutation_test_plot | 2.20 | 0.03 | 16.74 | |
| plot.nmr_dataset_1D | 0 | 0 | 0 | |
| plot_bootstrap_multimodel | 0 | 0 | 0 | |
| plot_interactive | 0.92 | 0.10 | 6.08 | |
| plot_plsda_multimodel | 1.58 | 0.03 | 10.07 | |
| plot_plsda_samples | 1.56 | 0.01 | 9.86 | |
| plot_vip_scores | 0 | 0 | 0 | |
| plot_webgl | 0 | 0 | 0 | |
| plsda_auroc_vip_compare | 3.32 | 0.10 | 20.41 | |
| plsda_auroc_vip_method | 0 | 0 | 0 | |
| ppm_resolution | 0 | 0 | 0 | |
| print.nmr_dataset | 0.92 | 0.03 | 5.53 | |
| print.nmr_dataset_1D | 1.08 | 0.00 | 5.85 | |
| print.nmr_dataset_peak_table | 1.08 | 0.05 | 5.71 | |
| random_subsampling | 0.00 | 0.01 | 0.02 | |
| save_files_to_rDolphin | 0 | 0 | 0 | |
| save_profiling_output | 0 | 0 | 0 | |
| sub-.nmr_dataset | 0.90 | 0.03 | 5.55 | |
| sub-.nmr_dataset_1D | 1.05 | 0.07 | 5.59 | |
| sub-.nmr_dataset_peak_table | 1.11 | 0.06 | 6.05 | |
| tidy.nmr_dataset_1D | 1.09 | 0.09 | 6.00 | |
| to_ASICS | 1.13 | 0.16 | 1.48 | |
| to_ChemoSpec | 1.28 | 0.09 | 6.52 | |
| validate_nmr_dataset | 1.97 | 0.08 | 11.73 | |
| validate_nmr_dataset_family | 1.03 | 0.06 | 5.69 | |
| validate_nmr_dataset_peak_table | 0 | 0 | 0 | |
| zzz | 0.00 | 0.00 | 2.01 | |