| Back to Build/check report for BioC 3.23: simplified long |
|
This page was generated on 2025-11-08 11:32 -0500 (Sat, 08 Nov 2025).
| Hostname | OS | Arch (*) | R version | Installed pkgs |
|---|---|---|---|---|
| nebbiolo1 | Linux (Ubuntu 24.04.3 LTS) | x86_64 | R Under development (unstable) (2025-10-20 r88955) -- "Unsuffered Consequences" | 4821 |
| Click on any hostname to see more info about the system (e.g. compilers) (*) as reported by 'uname -p', except on Windows and Mac OS X | ||||
| Package 59/2323 | Hostname | OS / Arch | INSTALL | BUILD | CHECK | BUILD BIN | ||||||||
| AlpsNMR 4.13.0 (landing page) Sergio Oller Moreno
| nebbiolo1 | Linux (Ubuntu 24.04.3 LTS) / x86_64 | OK | OK | OK | |||||||||
|
To the developers/maintainers of the AlpsNMR package: - Allow up to 24 hours (and sometimes 48 hours) for your latest push to git@git.bioconductor.org:packages/AlpsNMR.git to reflect on this report. See Troubleshooting Build Report for more information. - Use the following Renviron settings to reproduce errors and warnings. - If 'R CMD check' started to fail recently on the Linux builder(s) over a missing dependency, add the missing dependency to 'Suggests:' in your DESCRIPTION file. See Renviron.bioc for more information. |
| Package: AlpsNMR |
| Version: 4.13.0 |
| Command: /home/biocbuild/bbs-3.23-bioc/R/bin/R CMD check --install=check:AlpsNMR.install-out.txt --library=/home/biocbuild/bbs-3.23-bioc/R/site-library --timings AlpsNMR_4.13.0.tar.gz |
| StartedAt: 2025-11-07 20:54:51 -0500 (Fri, 07 Nov 2025) |
| EndedAt: 2025-11-07 20:59:42 -0500 (Fri, 07 Nov 2025) |
| EllapsedTime: 291.4 seconds |
| RetCode: 0 |
| Status: OK |
| CheckDir: AlpsNMR.Rcheck |
| Warnings: 0 |
##############################################################################
##############################################################################
###
### Running command:
###
### /home/biocbuild/bbs-3.23-bioc/R/bin/R CMD check --install=check:AlpsNMR.install-out.txt --library=/home/biocbuild/bbs-3.23-bioc/R/site-library --timings AlpsNMR_4.13.0.tar.gz
###
##############################################################################
##############################################################################
* using log directory ‘/home/biocbuild/bbs-3.23-bioc/meat/AlpsNMR.Rcheck’
* using R Under development (unstable) (2025-10-20 r88955)
* using platform: x86_64-pc-linux-gnu
* R was compiled by
gcc (Ubuntu 13.3.0-6ubuntu2~24.04) 13.3.0
GNU Fortran (Ubuntu 13.3.0-6ubuntu2~24.04) 13.3.0
* running under: Ubuntu 24.04.3 LTS
* using session charset: UTF-8
* checking for file ‘AlpsNMR/DESCRIPTION’ ... OK
* checking extension type ... Package
* this is package ‘AlpsNMR’ version ‘4.13.0’
* package encoding: UTF-8
* checking package namespace information ... OK
* checking package dependencies ... INFO
Imports includes 26 non-default packages.
Importing from so many packages makes the package vulnerable to any of
them becoming unavailable. Move as many as possible to Suggests and
use conditionally.
* checking if this is a source package ... OK
* checking if there is a namespace ... OK
* checking for hidden files and directories ... OK
* checking for portable file names ... OK
* checking for sufficient/correct file permissions ... OK
* checking whether package ‘AlpsNMR’ can be installed ... OK
* checking installed package size ... OK
* checking package directory ... OK
* checking ‘build’ directory ... OK
* checking DESCRIPTION meta-information ... OK
* checking top-level files ... OK
* checking for left-over files ... OK
* checking index information ... OK
* checking package subdirectories ... OK
* checking code files for non-ASCII characters ... OK
* checking R files for syntax errors ... OK
* checking whether the package can be loaded ... OK
* checking whether the package can be loaded with stated dependencies ... OK
* checking whether the package can be unloaded cleanly ... OK
* checking whether the namespace can be loaded with stated dependencies ... OK
* checking whether the namespace can be unloaded cleanly ... OK
* checking loading without being on the library search path ... OK
* checking dependencies in R code ... OK
* checking S3 generic/method consistency ... OK
* checking replacement functions ... OK
* checking foreign function calls ... OK
* checking R code for possible problems ... OK
* checking Rd files ... OK
* checking Rd metadata ... OK
* checking Rd cross-references ... NOTE
Non-topic package-anchored link(s) in Rd file 'reexports.Rd':
‘[magrittr:pipe]{%>%}’
See section 'Cross-references' in the 'Writing R Extensions' manual.
Found the following Rd file(s) with Rd \link{} targets missing package
anchors:
filter.nmr_dataset_family.Rd: dplyr
Please provide package anchors for all Rd \link{} targets not in the
package itself and the base packages.
* checking for missing documentation entries ... OK
* checking for code/documentation mismatches ... OK
* checking Rd \usage sections ... OK
* checking Rd contents ... OK
* checking for unstated dependencies in examples ... OK
* checking contents of ‘data’ directory ... OK
* checking data for non-ASCII characters ... OK
* checking data for ASCII and uncompressed saves ... OK
* checking sizes of PDF files under ‘inst/doc’ ...* checking files in ‘vignettes’ ... OK
* checking examples ... OK
Examples with CPU (user + system) or elapsed time > 5s
user system elapsed
Peak_detection 7.727 1.749 7.019
permutation_test_plot 4.714 3.119 1.991
SummarizedExperiment_to_nmr_data_1r 6.599 0.958 6.939
filter.nmr_dataset_family 3.622 2.517 2.999
nmr_pca_outliers_robust 4.658 0.795 4.862
* checking for unstated dependencies in ‘tests’ ... OK
* checking tests ...
Running ‘testthat.R’
OK
* checking for unstated dependencies in vignettes ... OK
* checking package vignettes ... OK
* checking re-building of vignette outputs ... OK
* checking PDF version of manual ... OK
* DONE
Status: 1 NOTE
See
‘/home/biocbuild/bbs-3.23-bioc/meat/AlpsNMR.Rcheck/00check.log’
for details.
AlpsNMR.Rcheck/00install.out
############################################################################## ############################################################################## ### ### Running command: ### ### /home/biocbuild/bbs-3.23-bioc/R/bin/R CMD INSTALL AlpsNMR ### ############################################################################## ############################################################################## * installing to library ‘/home/biocbuild/bbs-3.23-bioc/R/site-library’ * installing *source* package ‘AlpsNMR’ ... ** this is package ‘AlpsNMR’ version ‘4.13.0’ ** using staged installation ** R ** data ** inst ** byte-compile and prepare package for lazy loading ** help *** installing help indices *** copying figures ** building package indices ** installing vignettes ** testing if installed package can be loaded from temporary location ** testing if installed package can be loaded from final location ** testing if installed package keeps a record of temporary installation path * DONE (AlpsNMR)
AlpsNMR.Rcheck/tests/testthat.Rout
R Under development (unstable) (2025-10-20 r88955) -- "Unsuffered Consequences"
Copyright (C) 2025 The R Foundation for Statistical Computing
Platform: x86_64-pc-linux-gnu
R is free software and comes with ABSOLUTELY NO WARRANTY.
You are welcome to redistribute it under certain conditions.
Type 'license()' or 'licence()' for distribution details.
R is a collaborative project with many contributors.
Type 'contributors()' for more information and
'citation()' on how to cite R or R packages in publications.
Type 'demo()' for some demos, 'help()' for on-line help, or
'help.start()' for an HTML browser interface to help.
Type 'q()' to quit R.
> library(testthat)
> library(AlpsNMR)
Attaching package: 'AlpsNMR'
The following object is masked from 'package:stats':
filter
>
> test_check("AlpsNMR")
[ FAIL 0 | WARN 0 | SKIP 1 | PASS 93 ]
══ Skipped tests (1) ═══════════════════════════════════════════════════════════
• On Bioconductor (1): 'test_rDolphin.R:2:5'
[ FAIL 0 | WARN 0 | SKIP 1 | PASS 93 ]
>
> proc.time()
user system elapsed
20.741 7.452 20.460
AlpsNMR.Rcheck/AlpsNMR-Ex.timings
| name | user | system | elapsed | |
| AlpsNMR-package | 1.753 | 0.330 | 1.569 | |
| HMDB_blood | 0.007 | 0.000 | 0.006 | |
| HMDB_cell | 0.002 | 0.000 | 0.003 | |
| HMDB_urine | 0.004 | 0.001 | 0.005 | |
| Parameters_blood | 0.001 | 0.001 | 0.002 | |
| Parameters_cell | 0.000 | 0.001 | 0.002 | |
| Parameters_urine | 0.001 | 0.001 | 0.002 | |
| Peak_detection | 7.727 | 1.749 | 7.019 | |
| Pipelines | 0.000 | 0.002 | 0.002 | |
| ROI_blood | 0.002 | 0.001 | 0.004 | |
| ROI_cell | 0.003 | 0.000 | 0.003 | |
| ROI_urine | 0.003 | 0.000 | 0.003 | |
| SummarizedExperiment_to_nmr_data_1r | 6.599 | 0.958 | 6.939 | |
| SummarizedExperiment_to_nmr_dataset_peak_table | 1.059 | 0.579 | 0.903 | |
| bp_VIP_analysis | 1.368 | 0.853 | 0.871 | |
| bp_kfold_VIP_analysis | 0.847 | 0.622 | 0.648 | |
| download_MTBLS242 | 0.001 | 0.000 | 0.000 | |
| file_lister | 0.066 | 0.008 | 0.073 | |
| files_to_rDolphin | 0.000 | 0.001 | 0.000 | |
| filter.nmr_dataset_family | 3.622 | 2.517 | 2.999 | |
| format.nmr_dataset | 0.728 | 0.525 | 0.542 | |
| format.nmr_dataset_1D | 0.761 | 0.467 | 0.559 | |
| format.nmr_dataset_peak_table | 0.815 | 0.530 | 0.682 | |
| get_integration_with_metadata | 0.030 | 0.012 | 0.042 | |
| hmdb | 0.046 | 0.012 | 0.059 | |
| is.nmr_dataset | 0.738 | 0.484 | 0.527 | |
| is.nmr_dataset_1D | 0.767 | 0.556 | 0.587 | |
| is.nmr_dataset_peak_table | 0.907 | 0.473 | 0.655 | |
| load_and_save_functions | 0.740 | 0.629 | 0.568 | |
| models_stability_plot_bootstrap | 0.002 | 0.000 | 0.002 | |
| models_stability_plot_plsda | 0.370 | 0.370 | 0.376 | |
| new_nmr_dataset | 0.024 | 0.036 | 0.002 | |
| new_nmr_dataset_1D | 0.001 | 0.000 | 0.001 | |
| new_nmr_dataset_peak_table | 0.789 | 0.537 | 0.678 | |
| nmr_autophase | 0.214 | 0.088 | 0.281 | |
| nmr_baseline_estimation | 0.008 | 0.001 | 0.010 | |
| nmr_baseline_removal | 0.003 | 0.002 | 0.005 | |
| nmr_baseline_threshold | 0.001 | 0.000 | 0.001 | |
| nmr_baseline_threshold_plot | 0.288 | 0.104 | 0.392 | |
| nmr_batman | 0.003 | 0.000 | 0.003 | |
| nmr_batman_options | 0.001 | 0.000 | 0.000 | |
| nmr_build_peak_table | 0.036 | 0.004 | 0.040 | |
| nmr_data | 0.041 | 0.013 | 0.054 | |
| nmr_data_1r_to_SummarizedExperiment | 1.033 | 0.615 | 0.949 | |
| nmr_data_analysis | 0.442 | 0.567 | 0.479 | |
| nmr_dataset | 0.001 | 0.000 | 0.001 | |
| nmr_dataset_1D | 0.002 | 0.000 | 0.002 | |
| nmr_dataset_peak_table_to_SummarizedExperiment | 1.107 | 0.860 | 1.087 | |
| nmr_exclude_region | 0.007 | 0.001 | 0.006 | |
| nmr_export_data_1r | 0.709 | 0.579 | 0.599 | |
| nmr_get_peak_distances | 0.006 | 0.004 | 0.010 | |
| nmr_identify_regions_blood | 0.013 | 0.001 | 0.014 | |
| nmr_identify_regions_cell | 0.009 | 0.000 | 0.009 | |
| nmr_identify_regions_urine | 0.014 | 0.000 | 0.014 | |
| nmr_integrate_regions | 0.009 | 0.006 | 0.015 | |
| nmr_interpolate_1D | 1.576 | 1.119 | 1.297 | |
| nmr_meta_add | 1.731 | 1.068 | 1.511 | |
| nmr_meta_export | 0.701 | 0.562 | 0.558 | |
| nmr_meta_get | 0.783 | 0.626 | 0.656 | |
| nmr_meta_get_column | 0.703 | 0.605 | 0.630 | |
| nmr_meta_groups | 0.797 | 0.651 | 0.608 | |
| nmr_normalize | 0.319 | 0.103 | 0.423 | |
| nmr_pca_build_model | 2.413 | 1.688 | 2.587 | |
| nmr_pca_outliers | 0.772 | 0.536 | 0.669 | |
| nmr_pca_outliers_filter | 0.822 | 0.562 | 0.702 | |
| nmr_pca_outliers_plot | 0 | 0 | 0 | |
| nmr_pca_outliers_robust | 4.658 | 0.795 | 4.862 | |
| nmr_pca_plots | 0.492 | 0.021 | 0.514 | |
| nmr_peak_clustering | 0.069 | 0.002 | 0.072 | |
| nmr_ppm_resolution | 0.008 | 0.000 | 0.008 | |
| nmr_read_bruker_fid | 0.001 | 0.000 | 0.000 | |
| nmr_read_samples | 1.332 | 1.106 | 1.031 | |
| nmr_zip_bruker_samples | 0.257 | 0.011 | 0.269 | |
| peaklist_accept_peaks | 0.004 | 0.001 | 0.005 | |
| permutation_test_model | 1.687 | 1.424 | 1.914 | |
| permutation_test_plot | 4.714 | 3.119 | 1.991 | |
| plot.nmr_dataset_1D | 0.002 | 0.001 | 0.004 | |
| plot_bootstrap_multimodel | 0.002 | 0.002 | 0.004 | |
| plot_interactive | 2.016 | 1.577 | 1.011 | |
| plot_plsda_multimodel | 0.268 | 0.555 | 0.421 | |
| plot_plsda_samples | 0.131 | 0.175 | 0.217 | |
| plot_vip_scores | 0.002 | 0.000 | 0.002 | |
| plot_webgl | 0.001 | 0.001 | 0.001 | |
| plsda_auroc_vip_compare | 0.566 | 0.410 | 0.795 | |
| plsda_auroc_vip_method | 0 | 0 | 0 | |
| ppm_resolution | 0.002 | 0.001 | 0.003 | |
| print.nmr_dataset | 0.689 | 0.614 | 0.557 | |
| print.nmr_dataset_1D | 0.780 | 0.653 | 0.669 | |
| print.nmr_dataset_peak_table | 0.863 | 0.704 | 0.762 | |
| random_subsampling | 0.003 | 0.005 | 0.008 | |
| save_files_to_rDolphin | 0.001 | 0.000 | 0.001 | |
| save_profiling_output | 0 | 0 | 0 | |
| sub-.nmr_dataset | 0.756 | 0.649 | 0.619 | |
| sub-.nmr_dataset_1D | 0.701 | 0.607 | 0.629 | |
| sub-.nmr_dataset_peak_table | 0.856 | 0.694 | 0.790 | |
| tidy.nmr_dataset_1D | 0.963 | 0.757 | 0.834 | |
| to_ASICS | 0.994 | 0.271 | 1.269 | |
| to_ChemoSpec | 0.905 | 0.682 | 0.868 | |
| validate_nmr_dataset | 1.447 | 1.228 | 1.174 | |
| validate_nmr_dataset_family | 1.012 | 0.794 | 0.918 | |
| validate_nmr_dataset_peak_table | 0.000 | 0.001 | 0.002 | |
| zzz | 0.000 | 0.000 | 2.003 | |