| Back to Multiple platform build/check report for BioC 3.22: simplified long |
|
This page was generated on 2025-10-23 12:07 -0400 (Thu, 23 Oct 2025).
| Hostname | OS | Arch (*) | R version | Installed pkgs |
|---|---|---|---|---|
| nebbiolo2 | Linux (Ubuntu 24.04.3 LTS) | x86_64 | 4.5.1 Patched (2025-08-23 r88802) -- "Great Square Root" | 4894 |
| lconway | macOS 12.7.6 Monterey | x86_64 | 4.5.1 Patched (2025-09-10 r88807) -- "Great Square Root" | 4684 |
| kjohnson3 | macOS 13.7.7 Ventura | arm64 | 4.5.1 Patched (2025-09-10 r88807) -- "Great Square Root" | 4629 |
| taishan | Linux (openEuler 24.03 LTS) | aarch64 | 4.5.0 (2025-04-11) -- "How About a Twenty-Six" | 4642 |
| Click on any hostname to see more info about the system (e.g. compilers) (*) as reported by 'uname -p', except on Windows and Mac OS X | ||||
| Package 13/2355 | Hostname | OS / Arch | INSTALL | BUILD | CHECK | BUILD BIN | ||||||||
| ACME 2.65.0 (landing page) Sean Davis
| nebbiolo2 | Linux (Ubuntu 24.04.3 LTS) / x86_64 | OK | OK | WARNINGS | |||||||||
| lconway | macOS 12.7.6 Monterey / x86_64 | OK | OK | OK | OK | |||||||||
| kjohnson3 | macOS 13.7.7 Ventura / arm64 | OK | OK | OK | OK | |||||||||
| taishan | Linux (openEuler 24.03 LTS) / aarch64 | ERROR | ERROR | skipped | ||||||||||
|
To the developers/maintainers of the ACME package: - Allow up to 24 hours (and sometimes 48 hours) for your latest push to git@git.bioconductor.org:packages/ACME.git to reflect on this report. See Troubleshooting Build Report for more information. - Use the following Renviron settings to reproduce errors and warnings. - If 'R CMD check' started to fail recently on the Linux builder(s) over a missing dependency, add the missing dependency to 'Suggests:' in your DESCRIPTION file. See Renviron.bioc for more information. - See Martin Grigorov's blog post for how to debug Linux ARM64 related issues on a x86_64 host. |
| Package: ACME |
| Version: 2.65.0 |
| Command: /home/biocbuild/R/R/bin/R CMD INSTALL ACME |
| StartedAt: 2025-10-20 20:23:55 -0000 (Mon, 20 Oct 2025) |
| EndedAt: 2025-10-20 20:23:57 -0000 (Mon, 20 Oct 2025) |
| EllapsedTime: 2.8 seconds |
| RetCode: 1 |
| Status: ERROR |
##############################################################################
##############################################################################
###
### Running command:
###
### /home/biocbuild/R/R/bin/R CMD INSTALL ACME
###
##############################################################################
##############################################################################
* installing to library ‘/home/biocbuild/R/R-4.5.0/site-library’
* installing *source* package ‘ACME’ ...
** this is package ‘ACME’ version ‘2.65.0’
** using staged installation
** libs
using C compiler: ‘aarch64-unknown-linux-gnu-gcc (GCC) 14.2.0’
/opt/ohpc/pub/compiler/gcc/14.2.0/bin/aarch64-unknown-linux-gnu-gcc -std=gnu23 -I"/home/biocbuild/R/R-4.5.0/include" -DNDEBUG -I/usr/local/include -fPIC -g -O2 -Wall -Werror=format-security -c windowChisq.c -o windowChisq.o
windowChisq.c: In function ‘windowChisq’:
windowChisq.c:58:21: warning: suggest parentheses around comparison in operand of ‘&’ [-Wparentheses]
58 | firstprobe>0) {
| ~~~~~~~~~~^~
windowChisq.c:63:20: warning: suggest parentheses around comparison in operand of ‘&’ [-Wparentheses]
63 | lastprobe<(na-1)) {
| ~~~~~~~~~^~~~~~~
windowChisq.c:21:11: warning: unused variable ‘xa’ [-Wunused-variable]
21 | double *xa,*xlocations,*xchivals;
| ^~
windowChisq.c: At top level:
windowChisq.c:86:20: error: initialization of ‘void * (*)(void)’ from incompatible pointer type ‘struct SEXPREC * (*)(struct SEXPREC *, struct SEXPREC *, struct SEXPREC *, struct SEXPREC *, struct SEXPREC *)’ [-Wincompatible-pointer-types]
86 | {"windowChisq",&windowChisq,5},
| ^
windowChisq.c:86:20: note: (near initialization for ‘callMethods[0].fun’)
make: *** [/home/biocbuild/R/R-4.5.0/etc/Makeconf:202: windowChisq.o] Error 1
ERROR: compilation failed for package ‘ACME’
* removing ‘/home/biocbuild/R/R-4.5.0/site-library/ACME’