| Back to Workflows build report for BioC 3.9 | 
This page was generated on 2019-10-16 13:50:15 -0400 (Wed, 16 Oct 2019).
| Package 16/27 | Hostname | OS / Arch | INSTALL | BUILD | ||||||
| methylationArrayAnalysis 1.8.1 Jovana Maksimovic 
  | malbec2 | Linux (Ubuntu 18.04.2 LTS) / x86_64 | OK | [ OK ] | 
| Package: methylationArrayAnalysis | 
| Version: 1.8.1 | 
| Command: /home/biocbuild/bbs-3.9-bioc/R/bin/R CMD build --keep-empty-dirs --no-resave-data methylationArrayAnalysis | 
| StartedAt: 2019-10-16 12:02:49 -0400 (Wed, 16 Oct 2019) | 
| EndedAt: 2019-10-16 12:10:43 -0400 (Wed, 16 Oct 2019) | 
| EllapsedTime: 473.3 seconds | 
| RetCode: 0 | 
| Status: OK | 
| PackageFile: methylationArrayAnalysis_1.8.1.tar.gz | 
| PackageFileSize: 218.2 MiB | 
############################################################################## ############################################################################## ### ### Running command: ### ### /home/biocbuild/bbs-3.9-bioc/R/bin/R CMD build --keep-empty-dirs --no-resave-data methylationArrayAnalysis ### ############################################################################## ############################################################################## * checking for file ‘methylationArrayAnalysis/DESCRIPTION’ ... OK * preparing ‘methylationArrayAnalysis’: * checking DESCRIPTION meta-information ... OK * installing the package to build vignettes * creating vignettes ... OK * checking for LF line-endings in source and make files and shell scripts * checking for empty or unneeded directories * creating default NAMESPACE file * building ‘methylationArrayAnalysis_1.8.1.tar.gz’